Back
From: Slaven Rezić
Subject: PASS Net-Statsd-Server-0.20 v5.24.1 RC5 GNU/Linux
Date: 2017-01-08T19:44:14Z
This distribution has been tested as part of the CPAN Testers
project, supporting the Perl programming language. See
http://wiki.cpantesters.org/ for more information or email
questions to cpan-testers-discuss@perl.org
--
Dear Cosimo Streppone,
This is a computer-generated report for Net-Statsd-Server-0.20
on perl 5.24.1, created by CPAN-Reporter-1.2018.
Thank you for uploading your work to CPAN. Congratulations!
All tests were successful.
Sections of this report:
* Tester comments
* Program output
* Prerequisites
* Environment and other context
------------------------------
TESTER COMMENTS
------------------------------
Additional comments from tester:
none provided
------------------------------
PROGRAM OUTPUT
------------------------------
Output from '/usr/bin/make test':
PERL_DL_NONLAZY=1 "/bbbike/perl-5.24.1-RC5t/bin/perl" "-MExtUtils::Command::MM" "-MTest::Harness" "-e" "undef *Test::Harness::Switches; test_harness(0, 'blib/lib', 'blib/arch')" t/*.t t/integration-tests/*.t
t/000-sanity.t ............................. ok
t/config.t ................................. ok
t/graphite.t ............................... ok
2017-01-08 19:36:54.000000 +0000 note Net::Statsd::Server: Initializing Net::Statsd::Server::Backend::Console backend
2017-01-08 19:36:54.000000 +0000 note Net::Statsd::Server: Initializing Net::Statsd::Server::Backend::Graphite backend
2017-01-08 19:36:54.000000 +0000 info AnyEvent: Autoloaded model 'AnyEvent::Impl::Perl', using it.
2017-01-08 19:36:54.489918 +0000 note Net::Statsd::Server: statsd server started on 0.0.0.0:40001 (v0.17)
2017-01-08 19:36:54.489950 +0000 note Net::Statsd::Server: manager interface started on 0.0.0.0:40002
2017-01-08 19:36:54.489979 +0000 note Net::Statsd::Server: metrics flush will happen every 1s
2017-01-08 19:36:54.853009 +0000 warn Net::Statsd::Server: Bad line: 1 in msg "a_bad_test_value|z"
2017-01-08 19:36:55.491453 +0000 note Net::Statsd::Server: flushing metrics
Flushing stats at Sun Jan 8 19:36:55 2017
{"gauges":{},"pctThreshold":[90],"counter_rates":{"statsd.bad_lines_seen":1,"statsd.packets_received":1},"sets":null,"timer_data":{},"counters":{"statsd.packets_received":1,"statsd.bad_lines_seen":1},"timers":{}}
t/integration-tests/bad-message.t .......... ok
2017-01-08 19:36:55.000000 +0000 note Net::Statsd::Server: Initializing Net::Statsd::Server::Backend::Console backend
2017-01-08 19:36:55.000000 +0000 note Net::Statsd::Server: Initializing Net::Statsd::Server::Backend::Graphite backend
2017-01-08 19:36:55.000000 +0000 info AnyEvent: Autoloaded model 'AnyEvent::Impl::Perl', using it.
2017-01-08 19:36:55.790923 +0000 note Net::Statsd::Server: statsd server started on 0.0.0.0:40001 (v0.17)
2017-01-08 19:36:55.790954 +0000 note Net::Statsd::Server: manager interface started on 0.0.0.0:40002
2017-01-08 19:36:55.790978 +0000 note Net::Statsd::Server: metrics flush will happen every 1s
2017-01-08 19:36:56.791476 +0000 note Net::Statsd::Server: flushing metrics
Flushing stats at Sun Jan 8 19:36:56 2017
{"timers":{},"counters":{"statsd.packets_received":1,"statsd.bad_lines_seen":0,"a_test_value":100},"counter_rates":{"a_test_value":100,"statsd.bad_lines_seen":0,"statsd.packets_received":1},"gauges":{},"sets":null,"timer_data":{},"pctThreshold":[90]}
# stats.counters.statsd.packets_received.rate 1.000000 1483904216
# stats.counters.statsd.packets_received.count 1 1483904216
# stats.counters.statsd.bad_lines_seen.rate 0.000000 1483904216
# stats.counters.statsd.bad_lines_seen.count 0 1483904216
# stats.counters.a_test_value.rate 100.000000 1483904216
# stats.counters.a_test_value.count 100 1483904216
# stats.statsd.numStats 3 1483904216
# stats.statsd.graphiteStats.calculationtime 0.039000 1483904216
# stats.statsd.processing_time 0.019 1483904216
# stats.statsd.graphiteStats.last_exception 23626120 1483904216
# stats.statsd.graphiteStats.last_flush 23626120 1483904216
t/integration-tests/counts-are-valid.t ..... ok
2017-01-08 19:36:57.000000 +0000 note Net::Statsd::Server: Initializing Net::Statsd::Server::Backend::Graphite backend
2017-01-08 19:36:57.000000 +0000 info AnyEvent: Autoloaded model 'AnyEvent::Impl::Perl', using it.
2017-01-08 19:36:57.187930 +0000 note Net::Statsd::Server: statsd server started on 0.0.0.0:40001 (v0.17)
2017-01-08 19:36:57.187966 +0000 note Net::Statsd::Server: manager interface started on 0.0.0.0:40002
2017-01-08 19:36:57.187995 +0000 note Net::Statsd::Server: metrics flush will happen every 1s
2017-01-08 19:36:58.187450 +0000 note Net::Statsd::Server: flushing metrics
# First flush. Test gauge should be there.
2017-01-08 19:36:59.188842 +0000 note Net::Statsd::Server: flushing metrics
# Second flush. deleteGauges=false should keep the test gauge.
t/integration-tests/delete-gauges-false.t .. ok
2017-01-08 19:36:59.000000 +0000 note Net::Statsd::Server: Initializing Net::Statsd::Server::Backend::Graphite backend
2017-01-08 19:36:59.000000 +0000 info AnyEvent: Autoloaded model 'AnyEvent::Impl::Perl', using it.
2017-01-08 19:36:59.555984 +0000 note Net::Statsd::Server: statsd server started on 0.0.0.0:40001 (v0.17)
2017-01-08 19:36:59.556025 +0000 note Net::Statsd::Server: manager interface started on 0.0.0.0:40002
2017-01-08 19:36:59.556055 +0000 note Net::Statsd::Server: metrics flush will happen every 1s
2017-01-08 19:37:00.551445 +0000 note Net::Statsd::Server: flushing metrics
# First flush. Test gauge should be there.
2017-01-08 19:37:01.551445 +0000 note Net::Statsd::Server: flushing metrics
# Second flush. deleteIdleStats should have cleared the test gauge.
t/integration-tests/delete-idle-stats.t .... ok
2017-01-08 19:37:01.000000 +0000 note Net::Statsd::Server: Initializing Net::Statsd::Server::Backend::Console backend
2017-01-08 19:37:01.000000 +0000 note Net::Statsd::Server: Initializing Net::Statsd::Server::Backend::Graphite backend
2017-01-08 19:37:01.000000 +0000 info AnyEvent: Autoloaded model 'AnyEvent::Impl::Perl', using it.
2017-01-08 19:37:01.995558 +0000 note Net::Statsd::Server: statsd server started on 0.0.0.0:40001 (v0.17)
2017-01-08 19:37:01.995594 +0000 note Net::Statsd::Server: manager interface started on 0.0.0.0:40002
2017-01-08 19:37:01.995620 +0000 note Net::Statsd::Server: metrics flush will happen every 1s
2017-01-08 19:37:02.999069 +0000 note Net::Statsd::Server: flushing metrics
Flushing stats at Sun Jan 8 19:37:02 2017
{"timers":{},"pctThreshold":[90],"counters":{"a_test_value,category=web,severity=high":100,"statsd.bad_lines_seen":0,"statsd.packets_received":1},"sets":null,"counter_rates":{"statsd.bad_lines_seen":0,"a_test_value,category=web,severity=high":100,"statsd.packets_received":1},"gauges":{},"timer_data":{}}
# stats.counters.a_test_value,category=web,severity=high.rate 100.000000 1483904222
# stats.counters.a_test_value,category=web,severity=high.count 100 1483904222
# stats.counters.statsd.bad_lines_seen.rate 0.000000 1483904222
# stats.counters.statsd.bad_lines_seen.count 0 1483904222
# stats.counters.statsd.packets_received.rate 1.000000 1483904222
# stats.counters.statsd.packets_received.count 1 1483904222
# stats.statsd.numStats 3 1483904222
# stats.statsd.graphiteStats.calculationtime 0.039000 1483904222
# stats.statsd.processing_time 0.018 1483904222
# stats.statsd.graphiteStats.last_exception 18956680 1483904222
# stats.statsd.graphiteStats.last_flush 18956680 1483904222
t/integration-tests/keys-with-tags.t ....... ok
2017-01-08 19:37:03.000000 +0000 note Net::Statsd::Server: Initializing Net::Statsd::Server::Backend::Graphite backend
2017-01-08 19:37:03.000000 +0000 info AnyEvent: Autoloaded model 'AnyEvent::Impl::Perl', using it.
2017-01-08 19:37:03.373426 +0000 note Net::Statsd::Server: statsd server started on 0.0.0.0:40001 (v0.17)
2017-01-08 19:37:03.373460 +0000 note Net::Statsd::Server: manager interface started on 0.0.0.0:40002
2017-01-08 19:37:03.373490 +0000 note Net::Statsd::Server: metrics flush will happen every 1s
# Expected mean value is 1907.12
2017-01-08 19:37:04.378712 +0000 note Net::Statsd::Server: flushing metrics
# stats.counters.statsd.bad_lines_seen.rate 0.000000 1483904224
# stats.counters.statsd.bad_lines_seen.count 0 1483904224
# stats.counters.statsd.packets_received.rate 100.000000 1483904224
# stats.counters.statsd.packets_received.count 100 1483904224
# stats.timers.read_latency.sum_95 175877.000000 1483904224
# stats.timers.read_latency.sum_99 187713.000000 1483904224
# stats.timers.read_latency.sum_squares_99 387074197.000000 1483904224
# stats.timers.read_latency.count_ps 100.000000 1483904224
# stats.timers.read_latency.mean_99 1896.090909 1483904224
# stats.timers.read_latency.median 1817.000000 1483904224
# stats.timers.read_latency.mean_95 1851.336842 1483904224
# stats.timers.read_latency.upper_99 2976.000000 1483904224
# stats.timers.read_latency.upper 2999.000000 1483904224
# stats.timers.read_latency.mean 1907.120000 1483904224
# stats.timers.read_latency.count 100.000000 1483904224
# stats.timers.read_latency.count_99 99.000000 1483904224
# stats.timers.read_latency.sum_98 184737.000000 1483904224
# stats.timers.read_latency.sum_squares_95 352050821.000000 1483904224
# stats.timers.read_latency.upper_95 2929.000000 1483904224
# stats.timers.read_latency.lower 1007.000000 1483904224
# stats.timers.read_latency.upper_98 2960.000000 1483904224
# stats.timers.read_latency.count_95 95.000000 1483904224
# stats.timers.read_latency.sum_squares_98 378217621.000000 1483904224
# stats.timers.read_latency.std 568.836783 1483904224
# stats.timers.read_latency.count_98 98.000000 1483904224
# stats.timers.read_latency.sum_squares 396068198.000000 1483904224
# stats.timers.read_latency.mean_98 1885.071429 1483904224
# stats.timers.read_latency.sum 190712.000000 1483904224
# stats.statsd.numStats 3 1483904224
# stats.statsd.graphiteStats.calculationtime 0.079000 1483904224
# stats.statsd.processing_time 0.182 1483904224
# stats.statsd.graphiteStats.last_exception 37613960 1483904224
# stats.statsd.graphiteStats.last_flush 37613960 1483904224
t/integration-tests/percent-threshold.t .... ok
2017-01-08 19:37:04.000000 +0000 note Net::Statsd::Server: Initializing Net::Statsd::Server::Backend::Console backend
2017-01-08 19:37:04.000000 +0000 note Net::Statsd::Server: Initializing Net::Statsd::Server::Backend::Graphite backend
2017-01-08 19:37:04.000000 +0000 info AnyEvent: Autoloaded model 'AnyEvent::Impl::Perl', using it.
2017-01-08 19:37:04.646703 +0000 note Net::Statsd::Server: statsd server started on 0.0.0.0:40001 (v0.17)
2017-01-08 19:37:04.646733 +0000 note Net::Statsd::Server: manager interface started on 0.0.0.0:40002
2017-01-08 19:37:04.646759 +0000 note Net::Statsd::Server: metrics flush will happen every 1s
2017-01-08 19:37:05.647444 +0000 note Net::Statsd::Server: flushing metrics
Flushing stats at Sun Jan 8 19:37:05 2017
{"pctThreshold":["90"],"timer_data":{"a_test_value":{"mean":100,"lower":"100","count_ps":1,"mean_90":"100","sum":"100","sum_90":"100","count":1,"upper":"100","sum_squares":10000,"count_90":1,"median":"100","sum_squares_90":10000,"upper_90":"100","std":0}},"counter_rates":{"statsd.packets_received":1,"statsd.bad_lines_seen":0},"sets":null,"timers":{"a_test_value":["100"]},"counters":{"statsd.bad_lines_seen":0,"statsd.packets_received":1},"gauges":{}}
# stats.counters.statsd.bad_lines_seen.rate 0.000000 1483904225
# stats.counters.statsd.bad_lines_seen.count 0 1483904225
# stats.counters.statsd.packets_received.rate 1.000000 1483904225
# stats.counters.statsd.packets_received.count 1 1483904225
# stats.timers.a_test_value.mean 100.000000 1483904225
# stats.timers.a_test_value.lower 100.000000 1483904225
# stats.timers.a_test_value.count_ps 1.000000 1483904225
# stats.timers.a_test_value.mean_90 100.000000 1483904225
# stats.timers.a_test_value.sum 100.000000 1483904225
# stats.timers.a_test_value.sum_90 100.000000 1483904225
# stats.timers.a_test_value.count 1.000000 1483904225
# stats.timers.a_test_value.upper 100.000000 1483904225
# stats.timers.a_test_value.sum_squares 10000.000000 1483904225
# stats.timers.a_test_value.count_90 1.000000 1483904225
# stats.timers.a_test_value.median 100.000000 1483904225
# stats.timers.a_test_value.sum_squares_90 10000.000000 1483904225
# stats.timers.a_test_value.upper_90 100.000000 1483904225
# stats.timers.a_test_value.std 0.000000 1483904225
# stats.statsd.numStats 3 1483904225
# stats.statsd.graphiteStats.calculationtime 0.067000 1483904225
# stats.statsd.processing_time 0.053 1483904225
# stats.statsd.graphiteStats.last_exception 25768328 1483904225
# stats.statsd.graphiteStats.last_flush 25768328 1483904225
t/integration-tests/timers-are-valid.t ..... ok
t/process-metrics.t ........................ ok
t/trim.t ................................... ok
All tests successful.
Files=12, Tests=92, 13 wallclock secs ( 0.03 usr 0.05 sys + 0.75 cusr 0.20 csys = 1.03 CPU)
Result: PASS
------------------------------
PREREQUISITES
------------------------------
Prerequisite modules loaded:
requires:
Module Need Have
--------------------- ---- --------
AnyEvent::Handle::UDP 0 0.046
IO::Socket::INET 0 1.35
JSON::XS 0 3.03
build_requires:
Module Need Have
--------------------- ---- --------
ExtUtils::MakeMaker 0 7.10_02
Test::More 0 1.302073
configure_requires:
Module Need Have
--------------------- ---- --------
ExtUtils::MakeMaker 0 7.10_02
------------------------------
ENVIRONMENT AND OTHER CONTEXT
------------------------------
Environment variables:
LANG = C
PATH = /usr/local/bin:/usr/bin:/bin:/usr/local/sbin:/usr/sbin:/sbin:/home/cpansand/bin/linux-gnu:/home/cpansand/bin/sh:/home/cpansand/bin:/usr/games:/home/cpansand/devel:/home/eserte/src/srezic-misc/scripts
PERL5LIB = /home/cpansand/.cpan/build/2017010818/AnyEvent-Handle-UDP-0.046-Bwjuar/blib/arch:/home/cpansand/.cpan/build/2017010818/AnyEvent-Handle-UDP-0.046-Bwjuar/blib/lib:/home/cpansand/.cpan/build/2017010818/AnyEvent-7.13-XTL8gn/blib/arch:/home/cpansand/.cpan/build/2017010818/AnyEvent-7.13-XTL8gn/blib/lib
PERL5OPT =
PERL5_CPANPLUS_IS_RUNNING = 24673
PERL5_CPAN_IS_RUNNING = 24673
PERL5_CPAN_IS_RUNNING_IN_RECURSION = 9135,24673
PERLDOC = -MPod::Perldoc::ToTextOverstrike
PERL_BATCH = yes
PERL_CANARY_STABILITY_NOPROMPT = 1
PERL_CPAN_REPORTER_CONFIG = /run/user/1023/cpansmoker/2017010809/cpanreporter_003_config.ini
PERL_EXTUTILS_AUTOINSTALL = --defaultdeps
PERL_USE_UNSAFE_INC = 1
SHELL = /bin/zsh
TERM = screen
TMPDIR = /run/user/1023/cpansmoker/2017010809
Perl special variables (and OS-specific diagnostics, for MSWin32):
$^X = /bbbike/perl-5.24.1-RC5t/bin/perl
$UID/$EUID = 1023 / 1023
$GID = 1023 1023
$EGID = 1023 1023
Perl module toolchain versions installed:
Module Have
------------------- ----------
CPAN 2.11_01
CPAN::Meta 2.150005
Cwd 3.63_01
ExtUtils::CBuilder 0.280225
ExtUtils::Command 7.10_02
ExtUtils::Install 2.04
ExtUtils::MakeMaker 7.10_02
ExtUtils::Manifest 1.70
ExtUtils::ParseXS 3.31
File::Spec 3.63_01
JSON 2.90
JSON::PP 2.27300_01
Module::Build 0.4220
Module::Signature n/a
Parse::CPAN::Meta 1.4417_001
Test::Harness 3.36_01
Test::More 1.302073
YAML 1.21
YAML::Syck 1.29
version 0.9916
--
Summary of my perl5 (revision 5 version 24 subversion 1) configuration:
Platform:
osname=linux, osvers=3.16.0-4-amd64, archname=x86_64-linux-thread-multi
uname='linux eserte 3.16.0-4-amd64 #1 smp debian 3.16.36-1+deb8u2 (2016-10-19) x86_64 gnulinux '
config_args='-ds -e -Dprefix=/opt/perl-5.24.1-RC5t -Dusethreads -Dcf_email=srezic@cpan.org'
hint=recommended, useposix=true, d_sigaction=define
useithreads=define, usemultiplicity=define
use64bitint=define, use64bitall=define, uselongdouble=undef
usemymalloc=n, bincompat5005=undef
Compiler:
cc='cc', ccflags ='-D_REENTRANT -D_GNU_SOURCE -fwrapv -fno-strict-aliasing -pipe -fstack-protector-strong -I/usr/local/include -D_LARGEFILE_SOURCE -D_FILE_OFFSET_BITS=64 -D_FORTIFY_SOURCE=2',
optimize='-O2',
cppflags='-D_REENTRANT -D_GNU_SOURCE -fwrapv -fno-strict-aliasing -pipe -fstack-protector-strong -I/usr/local/include'
ccversion='', gccversion='4.9.2', gccosandvers=''
intsize=4, longsize=8, ptrsize=8, doublesize=8, byteorder=12345678, doublekind=3
d_longlong=define, longlongsize=8, d_longdbl=define, longdblsize=16, longdblkind=3
ivtype='long', ivsize=8, nvtype='double', nvsize=8, Off_t='off_t', lseeksize=8
alignbytes=8, prototype=define
Linker and Libraries:
ld='cc', ldflags =' -fstack-protector-strong -L/usr/local/lib'
libpth=/usr/local/lib /usr/lib/gcc/x86_64-linux-gnu/4.9/include-fixed /usr/include/x86_64-linux-gnu /usr/lib /lib/x86_64-linux-gnu /lib/../lib /usr/lib/x86_64-linux-gnu /usr/lib/../lib /lib
libs=-lpthread -lnsl -lgdbm -ldb -ldl -lm -lcrypt -lutil -lc -lgdbm_compat
perllibs=-lpthread -lnsl -ldl -lm -lcrypt -lutil -lc
libc=libc-2.19.so, so=so, useshrplib=false, libperl=libperl.a
gnulibc_version='2.19'
Dynamic Linking:
dlsrc=dl_dlopen.xs, dlext=so, d_dlsymun=undef, ccdlflags='-Wl,-E'
cccdlflags='-fPIC', lddlflags='-shared -O2 -L/usr/local/lib -fstack-protector-strong'
Characteristics of this binary (from libperl):
Compile-time options: HAS_TIMES MULTIPLICITY PERLIO_LAYERS
PERL_COPY_ON_WRITE PERL_DONT_CREATE_GVSV
PERL_HASH_FUNC_ONE_AT_A_TIME_HARD
PERL_IMPLICIT_CONTEXT PERL_MALLOC_WRAP
PERL_PRESERVE_IVUV USE_64_BIT_ALL USE_64_BIT_INT
USE_ITHREADS USE_LARGE_FILES USE_LOCALE
USE_LOCALE_COLLATE USE_LOCALE_CTYPE
USE_LOCALE_NUMERIC USE_LOCALE_TIME USE_PERLIO
USE_PERL_ATOF USE_REENTRANT_API
Locally applied patches:
RC5
Built under linux
Compiled at Jan 7 2017 11:13:37
%ENV:
PERL5LIB="/home/cpansand/.cpan/build/2017010818/AnyEvent-Handle-UDP-0.046-Bwjuar/blib/arch:/home/cpansand/.cpan/build/2017010818/AnyEvent-Handle-UDP-0.046-Bwjuar/blib/lib:/home/cpansand/.cpan/build/2017010818/AnyEvent-7.13-XTL8gn/blib/arch:/home/cpansand/.cpan/build/2017010818/AnyEvent-7.13-XTL8gn/blib/lib"
PERL5OPT=""
PERL5_CPANPLUS_IS_RUNNING="24673"
PERL5_CPAN_IS_RUNNING="24673"
PERL5_CPAN_IS_RUNNING_IN_RECURSION="9135,24673"
PERLDOC="-MPod::Perldoc::ToTextOverstrike"
PERL_BATCH="yes"
PERL_CANARY_STABILITY_NOPROMPT="1"
PERL_CPAN_REPORTER_CONFIG="/run/user/1023/cpansmoker/2017010809/cpanreporter_003_config.ini"
PERL_EXTUTILS_AUTOINSTALL="--defaultdeps"
PERL_USE_UNSAFE_INC="1"
@INC:
/home/cpansand/.cpan/build/2017010818/AnyEvent-Handle-UDP-0.046-Bwjuar/blib/arch
/home/cpansand/.cpan/build/2017010818/AnyEvent-Handle-UDP-0.046-Bwjuar/blib/lib
/home/cpansand/.cpan/build/2017010818/AnyEvent-7.13-XTL8gn/blib/arch
/home/cpansand/.cpan/build/2017010818/AnyEvent-7.13-XTL8gn/blib/lib
/opt/perl-5.24.1-RC5t/lib/site_perl/5.24.1/x86_64-linux-thread-multi
/opt/perl-5.24.1-RC5t/lib/site_perl/5.24.1
/opt/perl-5.24.1-RC5t/lib/5.24.1/x86_64-linux-thread-multi
/opt/perl-5.24.1-RC5t/lib/5.24.1
.