Back
From: metabase:user:320bfe00-2aae-11df-837a-5e0a49663a4f
Subject: PASS Module-Build-Deprecated-0.4209 v5.8.5 GNU/Linux
Date: 2014-08-16T14:01:34Z
This distribution has been tested as part of the CPAN Testers
project, supporting the Perl programming language.  See
http://wiki.cpantesters.org/ for more information or email
questions to cpan-testers-discuss@perl.org
--
Dear Leon Timmermans,
This is a computer-generated report for Module-Build-Deprecated-0.4209
on perl 5.8.5, created by CPAN-Reporter-1.2011.
Thank you for uploading your work to CPAN.  Congratulations!
All tests were successful.
Sections of this report:
    * Tester comments
    * Program output
    * Prerequisites
    * Environment and other context
------------------------------
TESTER COMMENTS
------------------------------
Additional comments from tester:
this report is from an automated smoke testing program
and was not reviewed by a human for accuracy
------------------------------
PROGRAM OUTPUT
------------------------------
Output from './Build test':
t/00-compile.t ............ ok
t/release-pod-coverage.t .. skipped: these tests are for release candidate testing
t/release-pod-syntax.t .... skipped: these tests are for release candidate testing
All tests successful.
Files=3, Tests=4,  1 wallclock secs ( 0.03 usr  0.00 sys +  0.41 cusr  0.03 csys =  0.47 CPU)
Result: PASS
------------------------------
PREREQUISITES
------------------------------
Prerequisite modules loaded:
requires:
    Module           Need   Have        
    ---------------- ------ ------------
    base             0      2.18        
    CPAN::Meta::YAML 0.002  0.012       
    Module::Metadata 0      1.000024    
    parent           0      0.228       
    perl             5.006  5.008005    
    strict           0      1.03        
    version          0.87   0.9908      
    warnings         0      1.03        
build_requires:
    Module           Need   Have        
    ---------------- ------ ------------
    File::Spec       0      3.47        
    IO::Handle       0      1.28        
    IPC::Open3       0      1.0106      
    Module::Build    0.3601 0.4207      
    perl             5.006  5.008005    
    Test::More       0      1.301001_034
configure_requires:
    Module           Need   Have        
    ---------------- ------ ------------
    Module::Build    0.3601 0.4207      
------------------------------
ENVIRONMENT AND OTHER CONTEXT
------------------------------
Environment variables:
    AUTOMATED_TESTING = 1
    LANG = en_US.UTF-8
    LANGUAGE = en_US:en
    PATH = /usr/lib/ccache:/home/sand/bin:/usr/local/bin:/usr/bin:/bin:/usr/games:/usr/local/perl/bin:/usr/X11/bin:/sbin:/usr/sbin
    PERL5LIB = 
    PERL5OPT = 
    PERL5_CPANPLUS_IS_RUNNING = 30848
    PERL5_CPAN_IS_RUNNING = 30848
    PERL_MM_USE_DEFAULT = 1
    SHELL = /usr/bin/zsh
    TERM = screen
Perl special variables (and OS-specific diagnostics, for MSWin32):
    $^X = /home/sand/src/perl/repoperls/installed-perls/perl/perl-5.8.5/5da8/bin/perl
    $UID/$EUID = 1005 / 1005
    $GID = 1005 1005
    $EGID = 1005 1005
Perl module toolchain versions installed:
    Module              Have        
    ------------------- ------------
    CPAN                2.05        
    CPAN::Meta          2.142060    
    Cwd                 3.47        
    ExtUtils::CBuilder  0.280216    
    ExtUtils::Command   1.18        
    ExtUtils::Install   1.68        
    ExtUtils::MakeMaker 6.98        
    ExtUtils::Manifest  1.65        
    ExtUtils::ParseXS   3.24        
    File::Spec          3.47        
    JSON                2.90        
    JSON::PP            2.27203     
    Module::Build       0.4207      
    Module::Signature   0.73        
    Parse::CPAN::Meta   1.4414      
    Test::Harness       3.32        
    Test::More          1.301001_034
    YAML                1.03        
    YAML::Syck          1.27        
    version             0.9908      
--
Summary of my perl5 (revision 5 version 8 subversion 5) configuration:
  Platform:
    osname=linux, osvers=3.14-2-amd64, archname=x86_64-linux
    uname='linux k83 3.14-2-amd64 #1 smp debian 3.14.13-2 (2014-07-24) x86_64 gnulinux '
    config_args='-Dprefix=/home/sand/src/perl/repoperls/installed-perls/perl/perl-5.8.5/5da8 -Dmyhostname=k83 -Dinstallusrbinperl=n -Uversiononly -Dusedevel -des -Ui_db -Uuseithreads -Uuselongdouble -DDEBUGGING=-g -Dusedl -Ddlsrc=dl_dlopen.xs -Dlibs=-lnsl -ldb -ldl -lm -lcrypt -lutil -lc -Dlibpth=/usr/lib/x86_64-linux-gnu /usr/local/lib /lib /usr/lib'
    hint=recommended, useposix=true, d_sigaction=define
    usethreads=undef use5005threads=undef useithreads=undef usemultiplicity=undef
    useperlio=define d_sfio=undef uselargefiles=define usesocks=undef
    use64bitint=define use64bitall=define uselongdouble=undef
    usemymalloc=n, bincompat5005=undef
  Compiler:
    cc='cc', ccflags ='-fno-strict-aliasing -pipe -I/usr/local/include -D_LARGEFILE_SOURCE -D_FILE_OFFSET_BITS=64',
    optimize='-O2',
    cppflags='-fno-strict-aliasing -pipe -I/usr/local/include'
    ccversion='', gccversion='4.9.1', gccosandvers=''
    intsize=4, longsize=8, ptrsize=8, doublesize=8, byteorder=12345678
    d_longlong=define, longlongsize=8, d_longdbl=define, longdblsize=16
    ivtype='long', ivsize=8, nvtype='double', nvsize=8, Off_t='off_t', lseeksize=8
    alignbytes=8, prototype=define
  Linker and Libraries:
    ld='cc', ldflags =' -L/usr/local/lib'
    libpth=/usr/lib/x86_64-linux-gnu /usr/local/lib /lib /usr/lib
    libs=-lnsl -ldb -ldl -lm -lcrypt -lutil -lc
    perllibs=-lnsl -ldl -lm -lcrypt -lutil -lc
    libc=, so=so, useshrplib=false, libperl=libperl.a
    gnulibc_version='2.19'
  Dynamic Linking:
    dlsrc=dl_dlopen.xs, dlext=so, d_dlsymun=undef, ccdlflags='-Wl,-E'
    cccdlflags='-fpic', lddlflags='-shared -L/usr/local/lib'
Characteristics of this binary (from libperl): 
  Compile-time options: USE_64_BIT_INT USE_64_BIT_ALL USE_LARGE_FILES
  Locally applied patches:
	MAINT23136
  Built under linux
  Compiled at Aug  9 2014 07:23:12
  %ENV:
    PERL5LIB=""
    PERL5OPT=""
    PERL5_CPANPLUS_IS_RUNNING="30848"
    PERL5_CPAN_IS_RUNNING="30848"
    PERL_MM_USE_DEFAULT="1"
  @INC:
    /home/sand/src/perl/repoperls/installed-perls/perl/perl-5.8.5/5da8/lib/5.8.5/x86_64-linux
    /home/sand/src/perl/repoperls/installed-perls/perl/perl-5.8.5/5da8/lib/5.8.5
    /home/sand/src/perl/repoperls/installed-perls/perl/perl-5.8.5/5da8/lib/site_perl/5.8.5/x86_64-linux
    /home/sand/src/perl/repoperls/installed-perls/perl/perl-5.8.5/5da8/lib/site_perl/5.8.5
    /home/sand/src/perl/repoperls/installed-perls/perl/perl-5.8.5/5da8/lib/site_perl
    .