Algorithm-AM v3.12 Perl 5 v5.16.2 armv7l-linux

Status
Pass
From
Nigel Horne
Dist
Algorithm-AM v3.12
Platform
Perl 5 v5.16.2 armv7l-linux
Date
2021-04-03 10:46:23
ID
d53f61e4-9469-11eb-b9b9-ae8dc53e9e45
This distribution has been tested as part of the CPAN Testers
project, supporting the Perl programming language.  See
http://wiki.cpantesters.org/ for more information or email
questions to cpan-testers-discuss@perl.org


--
Dear Nathan Gary Glenn,

This is a computer-generated report for Algorithm-AM-3.12
on perl 5.16.2, created by CPAN-Reporter-1.2018.

Thank you for uploading your work to CPAN.  Congratulations!
All tests were successful.

Sections of this report:

    * Tester comments
    * Program output
    * Prerequisites
    * Environment and other context

------------------------------
TESTER COMMENTS
------------------------------

Additional comments from tester:

this report is from an automated smoke testing program
and was not reviewed by a human for accuracy

------------------------------
PROGRAM OUTPUT
------------------------------

Output from '/usr/bin/make test':

"/home/smoker/perl5/perlbrew/perls/perl-5.16.2/bin/perl5.16.2" -MExtUtils::Command::MM -e 'cp_nonempty' -- AM.bs blib/arch/auto/Algorithm/AM/AM.bs 644
PERL_DL_NONLAZY=1 "/home/smoker/perl5/perlbrew/perls/perl-5.16.2/bin/perl5.16.2" "-MExtUtils::Command::MM" "-MTest::Harness" "-e" "undef *Test::Harness::Switches; test_harness(0, 'blib/lib', 'blib/arch')" t/*.t
t/0-use_AM.t ........... ok
t/01-Item.t ............ ok
t/0-use_Batch.t ........ ok
# 
# Versions for all modules listed in MYMETA.json (including optional ones):
# 
# === Configure Requires ===
# 
#     Module              Want Have
#     ------------------- ---- ----
#     ExtUtils::MakeMaker 6.17 7.44
# 
# === Build Requires ===
# 
#     Module              Want Have
#     ------------------- ---- ----
#     ExtUtils::MakeMaker  any 7.44
# 
# === Test Requires ===
# 
#     Module              Want     Have
#     ------------------- ---- --------
#     ExtUtils::MakeMaker  any     7.44
#     File::Spec           any     3.75
#     FindBin              any     1.51
#     Test::Deep           any    1.128
#     Test::Exception      any     0.43
#     Test::LongString     any     0.17
#     Test::More          0.88 1.302171
#     Test::NoWarnings     any     1.04
# 
# === Test Recommends ===
# 
#     Module         Want     Have
#     ---------- -------- --------
#     CPAN::Meta 2.120900 2.143240
# 
# === Runtime Requires ===
# 
#     Module            Want     Have
#     ----------------- ---- --------
#     Carp               any     1.26
#     Class::Tiny        any    1.006
#     Exporter::Easy     any     0.18
#     Getopt::Long      2.13     2.51
#     Import::Into       any 1.002005
#     Log::Any           any    1.708
#     Log::Any::Adapter  any    1.708
#     Path::Tiny         any    0.112
#     Pod::Usage         any     1.51
#     Text::Table        any    1.133
#     XSLoader           any     0.16
#     feature            any     1.27
#     integer            any     1.00
#     strict             any     1.07
#     warnings           any     1.13
# 
t/00-report-prereqs.t .. ok
t/02-DataSet.t ......... ok
t/05-Bigint.t .......... ok
t/03-AM.t .............. ok
t/04-Result.t .......... ok
t/06-Batch.t ........... ok
t/09-soybean.t ......... ok
t/07-Batch_hooks.t ..... ok
t/08-finnverb.t ........ ok
All tests successful.
Files=12, Tests=143,  4 wallclock secs ( 0.36 usr  0.11 sys +  6.39 cusr  1.46 csys =  8.32 CPU)
Result: PASS

------------------------------
PREREQUISITES
------------------------------

Prerequisite modules loaded:

requires:

    Module              Need     Have    
    ------------------- -------- --------
    Carp                0        1.26    
    Class::Tiny         0        1.006   
    Exporter::Easy      0        0.18    
    feature             0        1.27    
    Getopt::Long        2.13     2.51    
    Import::Into        0        1.002005
    integer             0        1.00    
    Log::Any            0        1.708   
    Log::Any::Adapter   0        1.708   
    Path::Tiny          0        0.112   
    perl                5.010000 5.016002
    Pod::Usage          0        1.51    
    strict              0        1.07    
    Text::Table         0        1.133   
    warnings            0        1.13    
    XSLoader            0        0.16    

build_requires:

    Module              Need     Have    
    ------------------- -------- --------
    ExtUtils::MakeMaker 0        7.44    
    File::Spec          0        3.75    
    FindBin             0        1.51    
    Test::Deep          0        1.128   
    Test::Exception     0        0.43    
    Test::LongString    0        0.17    
    Test::More          0.88     1.302171
    Test::NoWarnings    0        1.04    

configure_requires:

    Module              Need     Have    
    ------------------- -------- --------
    ExtUtils::MakeMaker 6.17     7.44    
    perl                5.010    5.016002


------------------------------
ENVIRONMENT AND OTHER CONTEXT
------------------------------

Environment variables:

    AUTOMATED_TESTING = 1
    HARNESS_OPTIONS = j4
    NONINTERACTIVE_TESTING = 1
    PATH = /home/smoker/perl5/perlbrew/bin:/home/smoker/perl5/perlbrew/perls/perl-5.16.2/bin:/usr/local/sbin:/usr/local/bin:/usr/sbin:/usr/bin:/sbin:/bin
    PERL5LIB = /tmp/build/Text-Table-1.133-0/blib/arch:/tmp/build/Text-Table-1.133-0/blib/lib:/tmp/build/Text-Aligner-0.13-0/blib/arch:/tmp/build/Text-Aligner-0.13-0/blib/lib:/tmp/build/Test-LongString-0.17-0/blib/arch:/tmp/build/Test-LongString-0.17-0/blib/lib:/tmp/build/Log-Any-1.708-0/blib/arch:/tmp/build/Log-Any-1.708-0/blib/lib:/tmp/build/Import-Into-1.002005-0/blib/arch:/tmp/build/Import-Into-1.002005-0/blib/lib:/tmp/build/Exporter-Easy-0.18-0/blib/arch:/tmp/build/Exporter-Easy-0.18-0/blib/lib:/tmp/build/Class-Tiny-1.006-0/blib/arch:/tmp/build/Class-Tiny-1.006-0/blib/lib
    PERL5OPT = 
    PERL5_CPANPLUS_IS_RUNNING = 19864
    PERL5_CPAN_IS_RUNNING = 19864
    PERLBREW_HOME = /home/smoker/.perlbrew
    PERLBREW_MANPATH = /home/smoker/perl5/perlbrew/perls/perl-5.16.2/man
    PERLBREW_PATH = /home/smoker/perl5/perlbrew/bin:/home/smoker/perl5/perlbrew/perls/perl-5.16.2/bin
    PERLBREW_PERL = perl-5.16.2
    PERLBREW_ROOT = /home/smoker/perl5/perlbrew
    PERLBREW_SHELLRC_VERSION = 0.88
    PERLBREW_VERSION = 0.88
    PERL_MM_USE_DEFAULT = 1
    PERL_USE_UNSAFE_INC = 1
    SHELL = /bin/bash
    TERM = xterm
    TMPDIR = /tmp/testwrapper.19853

Perl special variables (and OS-specific diagnostics, for MSWin32):

    $^X = /home/smoker/perl5/perlbrew/perls/perl-5.16.2/bin/perl5.16.2
    $UID/$EUID = 1000 / 1000
    $GID = 1000
    $EGID = 1000

Perl module toolchain versions installed:

    Module              Have    
    ------------------- --------
    CPAN                2.27    
    CPAN::Meta          2.143240
    Cwd                 3.75    
    ExtUtils::CBuilder  0.280206
    ExtUtils::Command   7.44    
    ExtUtils::Install   2.06    
    ExtUtils::MakeMaker 7.44    
    ExtUtils::Manifest  1.70    
    ExtUtils::ParseXS   3.16    
    File::Spec          3.75    
    JSON                4.02    
    JSON::PP            2.27203 
    Module::Build       0.39_01 
    Module::Signature   n/a     
    Parse::CPAN::Meta   1.4414  
    Test::Harness       3.42    
    Test::More          1.302171
    YAML                1.30    
    YAML::Syck          1.32    
    version             0.99    


--

Summary of my perl5 (revision 5 version 16 subversion 2) configuration:
   
  Platform:
    osname=linux, osvers=4.19.75-v7l+, archname=armv7l-linux
    uname='linux 5912da58b734 4.19.75-v7l+ #1270 smp tue sep 24 18:51:41 bst 2019 armv7l gnulinux '
    config_args='-de -Dprefix=/home/smoker/perl5/perlbrew/perls/perl-5.16.2 -Dusedevel -Accflags=-O2 -pipe -Wall -Wextra -mtune=native -march=native -Aeval:scriptdir=/home/smoker/perl5/perlbrew/perls/perl-5.16.2/bin'
    hint=recommended, useposix=true, d_sigaction=define
    useithreads=undef, usemultiplicity=undef
    useperlio=define, d_sfio=undef, uselargefiles=define, usesocks=undef
    use64bitint=undef, use64bitall=undef, uselongdouble=undef
    usemymalloc=n, bincompat5005=undef
  Compiler:
    cc='cc', ccflags ='-O2 -pipe -Wall -Wextra -mtune=native -march=native -fwrapv -fno-strict-aliasing -fstack-protector -I/usr/local/include -D_LARGEFILE_SOURCE -D_FILE_OFFSET_BITS=64',
    optimize='-O2',
    cppflags='-O2 -pipe -Wall -Wextra -mtune=native -march=native -fwrapv -fno-strict-aliasing -fstack-protector -I/usr/local/include'
    ccversion='', gccversion='8.3.0', gccosandvers=''
    intsize=4, longsize=4, ptrsize=4, doublesize=8, byteorder=1234
    d_longlong=define, longlongsize=8, d_longdbl=define, longdblsize=8
    ivtype='long', ivsize=4, nvtype='double', nvsize=8, Off_t='off_t', lseeksize=8
    alignbytes=8, prototype=define
  Linker and Libraries:
    ld='cc', ldflags =' -fstack-protector -L/usr/local/lib'
    libpth=/usr/local/lib /lib/arm-linux-gnueabihf /lib /usr/lib/arm-linux-gnueabihf /usr/lib
    libs=-lnsl -ldl -lm -lcrypt -lutil -lc
    perllibs=-lnsl -ldl -lm -lcrypt -lutil -lc
    libc=libc-2.28.so, so=so, useshrplib=false, libperl=libperl.a
    gnulibc_version='2.28'
  Dynamic Linking:
    dlsrc=dl_dlopen.xs, dlext=so, d_dlsymun=undef, ccdlflags='-Wl,-E'
    cccdlflags='-fPIC', lddlflags='-shared -O2 -L/usr/local/lib -fstack-protector'


Characteristics of this binary (from libperl): 
  Compile-time options: HAS_TIMES PERLIO_LAYERS PERL_DONT_CREATE_GVSV
                        PERL_MALLOC_WRAP PERL_PRESERVE_IVUV PERL_USE_DEVEL
                        USE_LARGE_FILES USE_LOCALE USE_LOCALE_COLLATE
                        USE_LOCALE_CTYPE USE_LOCALE_NUMERIC USE_PERLIO
                        USE_PERL_ATOF
  Locally applied patches:
	Devel::PatchPerl 1.84
  Built under linux
  Compiled at Feb  2 2020 20:30:33
  %ENV:
    PERL5LIB="/tmp/build/Text-Table-1.133-0/blib/arch:/tmp/build/Text-Table-1.133-0/blib/lib:/tmp/build/Text-Aligner-0.13-0/blib/arch:/tmp/build/Text-Aligner-0.13-0/blib/lib:/tmp/build/Test-LongString-0.17-0/blib/arch:/tmp/build/Test-LongString-0.17-0/blib/lib:/tmp/build/Log-Any-1.708-0/blib/arch:/tmp/build/Log-Any-1.708-0/blib/lib:/tmp/build/Import-Into-1.002005-0/blib/arch:/tmp/build/Import-Into-1.002005-0/blib/lib:/tmp/build/Exporter-Easy-0.18-0/blib/arch:/tmp/build/Exporter-Easy-0.18-0/blib/lib:/tmp/build/Class-Tiny-1.006-0/blib/arch:/tmp/build/Class-Tiny-1.006-0/blib/lib"
    PERL5OPT=""
    PERL5_CPANPLUS_IS_RUNNING="19864"
    PERL5_CPAN_IS_RUNNING="19864"
    PERLBREW_HOME="/home/smoker/.perlbrew"
    PERLBREW_MANPATH="/home/smoker/perl5/perlbrew/perls/perl-5.16.2/man"
    PERLBREW_PATH="/home/smoker/perl5/perlbrew/bin:/home/smoker/perl5/perlbrew/perls/perl-5.16.2/bin"
    PERLBREW_PERL="perl-5.16.2"
    PERLBREW_ROOT="/home/smoker/perl5/perlbrew"
    PERLBREW_SHELLRC_VERSION="0.88"
    PERLBREW_VERSION="0.88"
    PERL_MM_USE_DEFAULT="1"
    PERL_USE_UNSAFE_INC="1"
  @INC:
    /tmp/build/Text-Table-1.133-0/blib/arch
    /tmp/build/Text-Table-1.133-0/blib/lib
    /tmp/build/Text-Aligner-0.13-0/blib/arch
    /tmp/build/Text-Aligner-0.13-0/blib/lib
    /tmp/build/Test-LongString-0.17-0/blib/arch
    /tmp/build/Test-LongString-0.17-0/blib/lib
    /tmp/build/Log-Any-1.708-0/blib/arch
    /tmp/build/Log-Any-1.708-0/blib/lib
    /tmp/build/Import-Into-1.002005-0/blib/arch
    /tmp/build/Import-Into-1.002005-0/blib/lib
    /tmp/build/Exporter-Easy-0.18-0/blib/arch
    /tmp/build/Exporter-Easy-0.18-0/blib/lib
    /tmp/build/Class-Tiny-1.006-0/blib/arch
    /tmp/build/Class-Tiny-1.006-0/blib/lib
    /home/smoker/perl5/perlbrew/perls/perl-5.16.2/lib/site_perl/5.16.2/armv7l-linux
    /home/smoker/perl5/perlbrew/perls/perl-5.16.2/lib/site_perl/5.16.2
    /home/smoker/perl5/perlbrew/perls/perl-5.16.2/lib/5.16.2/armv7l-linux
    /home/smoker/perl5/perlbrew/perls/perl-5.16.2/lib/5.16.2
    .