HTML-TreeBuilder-LibXML v0.28 Perl 5 v5.16.3 MSWin32-x86-multi-thread
- Status
- Pass
- From
- Dist
-
HTML-TreeBuilder-LibXML v0.28
- Platform
- Perl 5 v5.16.3 MSWin32-x86-multi-thread
- Date
- 2024-06-22 06:34:37
- ID
- d51ff94f-6fb6-1014-a57a-ddd307c19ce6
This distribution has been tested as part of the CPAN Testers
project, supporting the Perl programming language. See
http://wiki.cpantesters.org/ for more information or email
questions to cpan-testers-discuss@perl.org
--
Dear Dave Cross,
This is a computer-generated report for HTML-TreeBuilder-LibXML-0.28
on perl 5.16.3, created by CPAN-Reporter-1.2018.
Thank you for uploading your work to CPAN. Congratulations!
All tests were successful.
Sections of this report:
* Tester comments
* Program output
* Prerequisites
* Environment and other context
------------------------------
TESTER COMMENTS
------------------------------
Additional comments from tester:
none provided
------------------------------
PROGRAM OUTPUT
------------------------------
Output from 'C:\Strawberry\perl\bin\perl.exe ./Build test':
# soft dependencies
# HTML::TreeBuilder::XPath: 0.14
t/00_compile.t .............. ok
# HTML::TreeBuilder::XPath
# HTML::TreeBuilder::LibXML
t/01_simple.t ............... ok
t/02_web_scraper.t .......... skipped: this test requires Web::Scraper
t/03_destructor.t ........... ok
t/04_new_methods.t .......... ok
t/05_empty.t ................ ok
t/06_web_query.t ............ skipped: this test requires Web::Query
t/HTML-TreeBuilder-XPath.t .. ok
t/blanks.t .................. ok
t/clone_list.t .............. ok
t/content_list.t ............ ok
t/delete_content.t .......... ok
t/detach.t .................. ok
t/disembowel.t .............. ok
t/guts.t .................... ok
t/issue-12.t ................ ok
t/matches.t ................. ok
t/parent.t .................. ok
t/postinsert.t .............. ok
t/preinsert.t ............... ok
t/push_content.t ............ ok
t/replace_with.t ............ ok
t/unshift_content.t ......... ok
All tests successful.
Test Summary Report
-------------------
t/HTML-TreeBuilder-XPath.t (Wstat: 0 Tests: 31 Failed: 0)
TODO passed: 10-13
Files=23, Tests=162, 13 wallclock secs ( 0.33 usr + 0.06 sys = 0.39 CPU)
Result: PASS
------------------------------
PREREQUISITES
------------------------------
Prerequisite modules loaded:
requires:
Module Need Have
------------------------ -------- --------
HTML::TreeBuilder::XPath 0.14 0.14
LWP::UserAgent 6 6.77
perl 5.008001 5.016003
URI 0 5.28
XML::LibXML 1.7 2.0210
build_requires:
Module Need Have
------------------------ -------- --------
Test::Exception 0 0.43
Test::More 0.98 1.302199
configure_requires:
Module Need Have
------------------------ -------- --------
Module::Build::Tiny 0.035 0.048
------------------------------
ENVIRONMENT AND OTHER CONTEXT
------------------------------
Environment variables:
COMSPEC = C:\windows\system32\cmd.exe
NONINTERACTIVE_TESTING = 1
NUMBER_OF_PROCESSORS = 4
PATH = C:\home\picture\perl5\bin;C:\windows\system32;C:\windows;C:\windows\System32\Wbem;C:\windows\System32\WindowsPowerShell\v1.0\;C:\Strawberry\c\bin;C:\Strawberry\perl\site\bin;C:\Strawberry\perl\bin
PERL5LIB = C:\home\picture\perl5\lib\perl5
PERL5OPT =
PERL5_CPANPLUS_IS_RUNNING = 6252
PERL5_CPAN_IS_RUNNING = 6252
PERL_LOCAL_LIB_ROOT = C:\home\picture\perl5
PERL_MB_OPT = --install_base "C:\\home\\picture\\perl5"
PERL_MM_OPT = INSTALL_BASE=C:\\home\\picture\\perl5
PERL_MM_USE_DEFAULT = 1
PERL_USE_UNSAFE_INC = 1
PROCESSOR_IDENTIFIER = x86 Family 6 Model 37 Stepping 5, GenuineIntel
TEMP = C:\Users\user\AppData\Local\Temp
TERM = dumb
Perl special variables (and OS-specific diagnostics, for MSWin32):
$^X = C:\Strawberry\perl\bin\perl.exe
$UID/$EUID = 0 / 0
$GID = 0
$EGID = 0
Win32::GetOSName = Win7
Win32::GetOSVersion = Service Pack 1, 6, 1, 7601, 2, 1, 0, 256, 1
Win32::FsType = NTFS
Win32::IsAdminUser = 0
Perl module toolchain versions installed:
Module Have
------------------- --------
CPAN 2.34
CPAN::Meta 2.150010
Cwd 3.75
ExtUtils::CBuilder 0.280236
ExtUtils::Command 7.70
ExtUtils::Install 2.22
ExtUtils::MakeMaker 7.70
ExtUtils::Manifest 1.75
ExtUtils::ParseXS 3.51
File::Spec 3.75
JSON 4.10
JSON::PP 4.17_01
Module::Build 0.4234
Module::Signature 0.88
Parse::CPAN::Meta 2.150010
Test::Harness 3.49_02
Test::More 1.302199
YAML 1.31
YAML::Syck 1.34
version 0.9932
--
Summary of my perl5 (revision 5 version 16 subversion 3) configuration:
Platform:
osname=MSWin32, osvers=4.0, archname=MSWin32-x86-multi-thread
uname='Win32 strawberry-perl 5.16.3.1 #1 Tue Mar 12 13:55:20 2013 i386'
config_args='undef'
hint=recommended, useposix=true, d_sigaction=undef
useithreads=define, usemultiplicity=define
useperlio=define, d_sfio=undef, uselargefiles=define, usesocks=undef
use64bitint=undef, use64bitall=undef, uselongdouble=undef
usemymalloc=n, bincompat5005=undef
Compiler:
cc='gcc', ccflags =' -s -O2 -DWIN32 -DPERL_TEXTMODE_SCRIPTS -DPERL_IMPLICIT_CONTEXT -DPERL_IMPLICIT_SYS -fno-strict-aliasing -mms-bitfields',
optimize='-s -O2',
cppflags='-DWIN32'
ccversion='', gccversion='4.6.3', gccosandvers=''
intsize=4, longsize=4, ptrsize=4, doublesize=8, byteorder=1234
d_longlong=undef, longlongsize=8, d_longdbl=define, longdblsize=12
ivtype='long', ivsize=4, nvtype='double', nvsize=8, Off_t='long long', lseeksize=8
alignbytes=8, prototype=define
Linker and Libraries:
ld='g++', ldflags ='-s -L"C:\Strawberry\perl\lib\CORE" -L"C:\Strawberry\c\lib"'
libpth=C:\Strawberry\c\lib C:\Strawberry\c\i686-w64-mingw32\lib
libs=-lmoldname -lkernel32 -luser32 -lgdi32 -lwinspool -lcomdlg32 -ladvapi32 -lshell32 -lole32 -loleaut32 -lnetapi32 -luuid -lws2_32 -lmpr -lwinmm -lversion -lodbc32 -lodbccp32 -lcomctl32
perllibs=-lmoldname -lkernel32 -luser32 -lgdi32 -lwinspool -lcomdlg32 -ladvapi32 -lshell32 -lole32 -loleaut32 -lnetapi32 -luuid -lws2_32 -lmpr -lwinmm -lversion -lodbc32 -lodbccp32 -lcomctl32
libc=, so=dll, useshrplib=true, libperl=libperl516.a
gnulibc_version=''
Dynamic Linking:
dlsrc=dl_win32.xs, dlext=dll, d_dlsymun=undef, ccdlflags=' '
cccdlflags=' ', lddlflags='-mdll -s -L"C:\Strawberry\perl\lib\CORE" -L"C:\Strawberry\c\lib"'
Characteristics of this binary (from libperl):
Compile-time options: HAS_TIMES HAVE_INTERP_INTERN MULTIPLICITY
PERLIO_LAYERS PERL_DONT_CREATE_GVSV
PERL_IMPLICIT_CONTEXT PERL_IMPLICIT_SYS
PERL_MALLOC_WRAP PERL_PRESERVE_IVUV PL_OP_SLAB_ALLOC
USE_ITHREADS USE_LARGE_FILES USE_LOCALE
USE_LOCALE_COLLATE USE_LOCALE_CTYPE
USE_LOCALE_NUMERIC USE_PERLIO USE_PERL_ATOF
Built under MSWin32
Compiled at Mar 12 2013 14:01:07
%ENV:
PERL5LIB="C:\home\picture\perl5\lib\perl5"
PERL5_CPANPLUS_IS_RUNNING="6252"
PERL5_CPAN_IS_RUNNING="6252"
PERL_LOCAL_LIB_ROOT="C:\home\picture\perl5"
PERL_MB_OPT="--install_base "C:\\home\\picture\\perl5""
PERL_MM_OPT="INSTALL_BASE=C:\\home\\picture\\perl5"
PERL_MM_USE_DEFAULT="1"
PERL_USE_UNSAFE_INC="1"
@INC:
C:\home\picture\perl5\lib\perl5/MSWin32-x86-multi-thread
C:\home\picture\perl5\lib\perl5
C:/Strawberry/perl/site/lib
C:/Strawberry/perl/vendor/lib
C:/Strawberry/perl/lib
.