Report for GDTextUtil-0.86

Back
From: metabase:user:4a2686ee-7466-11e3-92a7-6bfa96713a70
Subject: PASS GDTextUtil-0.86 v5.20.0 FreeBSD
Date: 2014-10-29T13:09:36Z

This distribution has been tested as part of the CPAN Testers
project, supporting the Perl programming language.  See
http://wiki.cpantesters.org/ for more information or email
questions to cpan-testers-discuss@perl.org


--
Dear Martien Verbruggen,

This is a computer-generated report for GDTextUtil-0.86
on perl 5.20.0, created by CPAN-Reporter-1.2011.

Thank you for uploading your work to CPAN.  Congratulations!
All tests were successful.

Sections of this report:

    * Tester comments
    * Program output
    * Prerequisites
    * Environment and other context

------------------------------
TESTER COMMENTS
------------------------------

Additional comments from tester:

none provided

------------------------------
PROGRAM OUTPUT
------------------------------

Output from '/usr/bin/make test':

PERL_DL_NONLAZY=1 /usr/local/bin/perl5.20.0 "-MExtUtils::Command::MM" "-MTest::Harness" "-e" "undef *Test::Harness::Switches; test_harness(0, 'blib/lib', 'blib/arch')" t/*.t
t/align.t .. ok
t/text.t ... ok
t/wrap.t ... ok
All tests successful.
Files=3, Tests=55,  0 wallclock secs ( 0.04 usr  0.00 sys +  0.18 cusr  0.02 csys =  0.24 CPU)
Result: PASS

------------------------------
PREREQUISITES
------------------------------

Prerequisite modules loaded:

requires:

    Module              Need Have
    ------------------- ---- ----
    GD                  1    2.56

build_requires:

    Module              Need Have
    ------------------- ---- ----
    ExtUtils::MakeMaker 0    6.98


------------------------------
ENVIRONMENT AND OTHER CONTEXT
------------------------------

Environment variables:

    LANG = ru_RU.UTF-8
    LC_ALL = ru_RU.UTF-8
    LC_COLLATE = ru_RU.UTF-8
    LC_CTYPE = ru_RU.UTF-8
    LC_MESSAGES = ru_RU.UTF-8
    LC_MONETARY = ru_RU.UTF-8
    LC_NUMERIC = ru_RU.UTF-8
    LC_TIME = ru_RU.UTF-8
    MANPATH_WITHOUT_PERLBREW = /usr/local/man:/usr/share/man:/usr/share/openssl/man:/usr/local/lib/perl5/5.20/man:/usr/local/lib/perl5/5.20/perl/man:/var/qmail/man
    PATH = /root/perl5/perlbrew/bin:/usr/local/bin:/usr/bin:/bin:/usr/bin/X11:/usr/games:/sbin:/usr/sbin:/usr/local/sbin
    PATH_WITHOUT_PERLBREW = /usr/local/bin:/usr/bin:/bin:/usr/bin/X11:/usr/games:/sbin:/usr/sbin:/usr/local/sbin
    PERL5LIB = 
    PERL5OPT = 
    PERL5_CPANPLUS_IS_RUNNING = 3946
    PERL5_CPAN_IS_RUNNING = 3946
    PERLBREW_CSHRC_VERSION = 0.71
    PERLBREW_HOME = /root/.perlbrew
    PERLBREW_PATH = /root/perl5/perlbrew/bin
    PERLBREW_ROOT = /root/perl5/perlbrew
    SHELL = /bin/tcsh
    TERM = xterm

Perl special variables (and OS-specific diagnostics, for MSWin32):

    $^X = /usr/local/bin/perl5.20.0
    $UID/$EUID = 0 / 0
    $GID = 0 0 5
    $EGID = 0 0 5

Perl module toolchain versions installed:

    Module              Have    
    ------------------- --------
    CPAN                2.05    
    CPAN::Meta          2.142690
    Cwd                 3.47    
    ExtUtils::CBuilder  0.280212
    ExtUtils::Command   1.18    
    ExtUtils::Install   1.67    
    ExtUtils::MakeMaker 6.98    
    ExtUtils::Manifest  1.63    
    ExtUtils::ParseXS   3.24    
    File::Spec          3.47    
    JSON                2.90    
    JSON::PP            2.27203 
    Module::Build       0.4206  
    Module::Signature   n/a     
    Parse::CPAN::Meta   1.4414  
    Test::Harness       3.30    
    Test::More          1.001008
    YAML                1.13    
    YAML::Syck          n/a     
    version             0.9908  


--

Summary of my perl5 (revision 5 version 20 subversion 0) configuration:
   
  Platform:
    osname=freebsd, osvers=9.2-release, archname=amd64-freebsd-thread-multi
    uname='freebsd sotona.net 9.2-release freebsd 9.2-release #1: mon jan 6 22:26:47 eet 2014 root@sotona.net:usrobjusrsrcsyssotona amd64 '
    config_args='-sde -Dprefix=/usr/local -Darchlib=/usr/local/lib/perl5/5.20/mach -Dprivlib=/usr/local/lib/perl5/5.20 -Dman3dir=/usr/local/lib/perl5/5.20/perl/man/man3 -Dman1dir=/usr/local/man/man1 -Dsitearch=/usr/local/lib/perl5/site_perl/5.20/mach -Dsitelib=/usr/local/lib/perl5/site_perl/5.20 -Dscriptdir=/usr/local/bin -Dsiteman3dir=/usr/local/lib/perl5/5.20/man/man3 -Dsiteman1dir=/usr/local/man/man1 -Ui_malloc -Ui_iconv -Uinstallusrbinperl -Dcc=cc -Duseshrplib -Dinc_version_list=none -Dccflags=-DAPPLLIB_EXP="/usr/local/lib/perl5/5.20/BSDPAN" -Doptimize=-O2 -pipe -fno-strict-aliasing -Ui_gdbm -Duse64bitint -Dusethreads=y -Dusemymalloc=n'
    hint=recommended, useposix=true, d_sigaction=define
    useithreads=define, usemultiplicity=define
    use64bitint=define, use64bitall=define, uselongdouble=undef
    usemymalloc=n, bincompat5005=undef
  Compiler:
    cc='cc', ccflags ='-DAPPLLIB_EXP="/usr/local/lib/perl5/5.20/BSDPAN" -DHAS_FPSETMASK -DHAS_FLOATINGPOINT_H -fno-strict-aliasing -pipe -fstack-protector -I/usr/local/include',
    optimize='-O2 -pipe -fno-strict-aliasing',
    cppflags='-DAPPLLIB_EXP="/usr/local/lib/perl5/5.20/BSDPAN" -DHAS_FPSETMASK -DHAS_FLOATINGPOINT_H -fno-strict-aliasing -pipe -fstack-protector -I/usr/local/include'
    ccversion='', gccversion='4.2.1 20070831 patched [FreeBSD]', gccosandvers=''
    intsize=4, longsize=8, ptrsize=8, doublesize=8, byteorder=12345678
    d_longlong=define, longlongsize=8, d_longdbl=define, longdblsize=16
    ivtype='long', ivsize=8, nvtype='double', nvsize=8, Off_t='off_t', lseeksize=8
    alignbytes=8, prototype=define
  Linker and Libraries:
    ld='cc', ldflags ='-pthread -Wl,-E  -fstack-protector -L/usr/local/lib'
    libpth=/usr/lib /usr/local/lib /usr/include/gcc/4.2 /usr/lib
    libs=-lgdbm -lm -lcrypt -lutil
    perllibs=-lm -lcrypt -lutil
    libc=, so=so, useshrplib=true, libperl=libperl.so
    gnulibc_version=''
  Dynamic Linking:
    dlsrc=dl_dlopen.xs, dlext=so, d_dlsymun=undef, ccdlflags='  -Wl,-R/usr/local/lib/perl5/5.20/mach/CORE'
    cccdlflags='-DPIC -fPIC', lddlflags='-shared  -L/usr/local/lib -fstack-protector'


Characteristics of this binary (from libperl): 
  Compile-time options: HAS_TIMES MULTIPLICITY PERLIO_LAYERS
                        PERL_DONT_CREATE_GVSV
                        PERL_HASH_FUNC_ONE_AT_A_TIME_HARD
                        PERL_IMPLICIT_CONTEXT PERL_MALLOC_WRAP
                        PERL_NEW_COPY_ON_WRITE PERL_PRESERVE_IVUV
                        USE_64_BIT_ALL USE_64_BIT_INT USE_ITHREADS
                        USE_LARGE_FILES USE_LOCALE USE_LOCALE_COLLATE
                        USE_LOCALE_CTYPE USE_LOCALE_NUMERIC USE_PERLIO
                        USE_PERL_ATOF USE_REENTRANT_API
  Built under freebsd
  Compiled at Oct 23 2014 11:58:17
  %ENV:
    PERL5LIB=""
    PERL5OPT=""
    PERL5_CPANPLUS_IS_RUNNING="3946"
    PERL5_CPAN_IS_RUNNING="3946"
    PERLBREW_CSHRC_VERSION="0.71"
    PERLBREW_HOME="/root/.perlbrew"
    PERLBREW_PATH="/root/perl5/perlbrew/bin"
    PERLBREW_ROOT="/root/perl5/perlbrew"
  @INC:
    /usr/local/lib/perl5/5.20/BSDPAN
    /usr/local/lib/perl5/site_perl/5.20/mach
    /usr/local/lib/perl5/site_perl/5.20
    /usr/local/lib/perl5/5.20/mach
    /usr/local/lib/perl5/5.20
    .