Rose-DB-Object v0.815 Perl 5 v5.12.5 x86_64-linux

Status
Pass
From
Slaven Rezić (SREZIC)
Dist
Rose-DB-Object v0.815
Platform
Perl 5 v5.12.5 x86_64-linux
Date
2019-05-20 07:13:56
ID
d4b451f0-7ace-11e9-aafc-af7f1f24ea8f
This distribution has been tested as part of the CPAN Testers
project, supporting the Perl programming language.  See
http://wiki.cpantesters.org/ for more information or email
questions to cpan-testers-discuss@perl.org


--
Dear John Siracusa,

This is a computer-generated report for Rose-DB-Object-0.815
on perl 5.12.5, created by CPAN-Reporter-1.2018.

Thank you for uploading your work to CPAN.  Congratulations!
All tests were successful.

Sections of this report:

    * Tester comments
    * Program output
    * Prerequisites
    * Environment and other context

------------------------------
TESTER COMMENTS
------------------------------

Additional comments from tester:

none provided

------------------------------
PROGRAM OUTPUT
------------------------------

Output from '/usr/bin/make test':

PERL_DL_NONLAZY=1 "/opt/perl-5.12.5/bin/perl" "-MExtUtils::Command::MM" "-MTest::Harness" "-e" "undef *Test::Harness::Switches; test_harness(0, 'blib/lib', 'blib/arch')" t/*.t

##
## DBI             1.642
## DBD::Pg         3.8.0
## DBD::mysql      4.049
## DBD::SQLite     1.62
## JSON            4.01
##
## WARNING: Almost all the tests in this module distribution need to connect
## to a database in order to run.  The tests need full privileges on this
## database: the ability to create and drop tables, insert, update, and delete
## rows, create schemas, sequences, functions, triggers, the works.
## 
## By default, the tests will try to connect to the database named "test"
## running on "localhost" using the default superuser username for each
## database type and an empty password.
## 
## If you have setup your database in a secure manner, these connection
## attempts will fail, and the tests will be skipped.  If you want to override
## these values, set the following environment variables before running tests.
## (The current values are shown in parentheses.)
## 
## PostgreSQL:
## 
##     RDBO_PG_DSN      (dbi:Pg:dbname=test;host=localhost)
##     RDBO_PG_USER     (postgres)
##     RDBO_PG_PASS     (<none>)
## 
## MySQL:
## 
##     RDBO_MYSQL_DSN   (dbi:mysql:database=test;host=localhost)
##     RDBO_MYSQL_USER  (root)
##     RDBO_MYSQL_PASS  (<none>)
##
## Oracle:
## 
##     RDBO_ORACLE_DSN  (dbi:Oracle:dbname=test)
##     RDBO_ORACLE_USER (<none>)
##     RDBO_ORACLE_PASS (<none>)
##
## Informix:
## 
##     RDBO_INFORMIX_DSN   (dbi:Informix:test@test)
##     RDBO_INFORMIX_USER  (<none>)
##     RDBO_INFORMIX_PASS  (<none>)
## 
## SQLite: To disable the SQLite tests, set this environment varible
##
##     RDBO_NO_SQLITE  (<undef>)
##
## Press return to continue (or wait 60 seconds)
t/00-warning.t ..................... ok
t/as-tree.t ........................ ok
t/auto-setup.t ..................... ok
t/bind-param.t ..................... ok
t/column-triggers.t ................ ok
t/column-values.t .................. ok
t/db-migration.t ................... ok
t/db-object-auto.t ................. ok
t/db-object-cached.t ............... ok
t/db-object-changes-only-1.t ....... ok
t/db-object-changes-only-2.t ....... ok
t/db-object-convention.t ........... ok
t/db-object-foreign-key-auto.t ..... ok
t/db-object-foreign-key.t .......... ok
t/db-object-helpers.t .............. ok
t/db-object-loader-2.t ............. ok
t/db-object-loader-3.t ............. ok
t/db-object-loader-4.t ............. ok
t/db-object-loader-5.t ............. ok
t/db-object-loader-6.t ............. ok
t/db-object-loader-7.t ............. ok
t/db-object-loader-8.t ............. ok
t/db-object-loader-9.t ............. ok
t/db-object-loader.t ............... ok
t/db-object-manager-bulk-ops.t ..... ok
t/db-object-manager.t .............. ok
t/db-object-mapper.t ............... ok
t/db-object-metadata.t ............. ok
t/db-object-relationship-auto-2.t .. ok
t/db-object-relationship-auto.t .... ok
t/db-object-relationship.t ......... ok
t/db-object-std-cached.t ........... ok
t/db-object-std.t .................. ok
t/db-object.t ...................... ok
t/deep-joins.t ..................... ok
t/inheritance.t .................... ok
t/lazy-columns.t ................... ok
t/leaks.t .......................... ok
t/make-modules.t ................... ok
t/makemethods-db.t ................. ok
t/makemethods.t .................... ok
t/multi-many-the-hard-way.t ........ ok
t/multi-pk-sequences.t ............. ok
t/nested-joins.t ................... ok
t/one-to-many-reset.t .............. ok
t/pk-fk-columns.t .................. ok
t/pod.t ............................ ok
t/query-builder.t .................. ok
t/rt-cpan-45836.t .................. ok
t/save-cascade.t ................... ok
t/schema-override.t ................ ok
t/spot-check-01.t .................. ok
t/spot-check-02.t .................. ok
t/spot-check-03.t .................. ok
t/spot-check-04.t .................. ok
t/spot-check-05.t .................. ok
t/spot-check-06.t .................. ok
t/spot-check-07.t .................. ok
t/spot-check-08.t .................. ok
t/spot-check-09.t .................. ok
t/spot-check-10.t .................. ok
t/spot-check-11.t .................. ok
t/spot-check-12.t .................. ok
t/spot-check-13.t .................. ok
t/spot-check-14.t .................. ok
t/undef-overrides-default.t ........ ok
t/unique-key-prefs.t ............... ok
All tests successful.
Files=67, Tests=15335, 43 wallclock secs ( 0.65 usr  0.73 sys + 18.28 cusr  5.46 csys = 25.12 CPU)
Result: PASS

------------------------------
PREREQUISITES
------------------------------

Prerequisite modules loaded:

requires:

    Module               Need     Have    
    -------------------- -------- --------
    Bit::Vector          0        7.4     
    Clone                0.29     0.41    
    Cwd                  0        3.75    
    Data::Dumper         2.121    2.173   
    DateTime             0        1.51    
    DBI                  1.40     1.642   
    File::Path           0        2.16    
    File::Spec           0        3.75    
    List::MoreUtils      0        0.428   
    Math::BigInt         1.77     1.999816
    perl                 5.006000 5.012005
    Rose::DateTime::Util 0.532    0.540   
    Rose::DB             0.763    0.778   
    Rose::Object         0.854    0.860   
    Scalar::Util         0        1.50    
    Test::More           0        1.302164
    Time::Clock          1.00     1.03    

build_requires:

    Module               Need     Have    
    -------------------- -------- --------
    ExtUtils::MakeMaker  0        7.34    

configure_requires:

    Module               Need     Have    
    -------------------- -------- --------
    ExtUtils::MakeMaker  0        7.34    


------------------------------
ENVIRONMENT AND OTHER CONTEXT
------------------------------

Environment variables:

    LANG = C
    LC_ALL = de_DE.UTF-8
    PATH = /usr/local/bin:/usr/bin:/bin:/usr/local/sbin:/usr/sbin:/sbin:/home/cpansand/bin/linux-gnu:/home/cpansand/bin/sh:/home/cpansand/bin:/usr/games:/home/cpansand/devel:/home/eserte/src/srezic-misc/scripts
    PERL5LIB = /home/cpansand/.cpan/build/2019052007/Rose-DB-0.778-6MN_wL/blib/arch:/home/cpansand/.cpan/build/2019052007/Rose-DB-0.778-6MN_wL/blib/lib:/home/cpansand/.cpan/build/2019052007/Rose-DateTime-0.540-pZUCxn/blib/arch:/home/cpansand/.cpan/build/2019052007/Rose-DateTime-0.540-pZUCxn/blib/lib:/home/cpansand/.cpan/build/2019052007/SQL-ReservedWords-0.8-o5Xp2_/blib/arch:/home/cpansand/.cpan/build/2019052007/SQL-ReservedWords-0.8-o5Xp2_/blib/lib:/home/cpansand/.cpan/build/2019052007/Rose-Object-0.860-vnPSGQ/blib/arch:/home/cpansand/.cpan/build/2019052007/Rose-Object-0.860-vnPSGQ/blib/lib:/home/cpansand/.cpan/build/2019052007/Time-Clock-1.03-reRpER/blib/arch:/home/cpansand/.cpan/build/2019052007/Time-Clock-1.03-reRpER/blib/lib:/home/cpansand/.cpan/build/2019052007/DateTime-Format-Oracle-0.06-oOcOKN/blib/arch:/home/cpansand/.cpan/build/2019052007/DateTime-Format-Oracle-0.06-oOcOKN/blib/lib:/home/cpansand/.cpan/build/2019052007/Convert-NLS_DATE_FORMAT-0.06-XlPLcW/blib/arch:/home/cpansand/.cpan/build/2019052007/Convert-NLS_DATE_FORMAT-0.06-XlPLcW/blib/lib
    PERL5OPT = 
    PERL5_CPANPLUS_IS_RUNNING = 4192
    PERL5_CPAN_IS_RUNNING = 4192
    PERL5_CPAN_IS_RUNNING_IN_RECURSION = 22391,4192
    PERLDOC = -MPod::Perldoc::ToTextOverstrike
    PERL_BATCH = yes
    PERL_CANARY_STABILITY_NOPROMPT = 1
    PERL_CPAN_REPORTER_CONFIG = /var/tmp/cpansmoker-1023/2019052006/cpanreporter_000_config.ini
    PERL_EXTUTILS_AUTOINSTALL = --defaultdeps
    PERL_MM_USE_DEFAULT = 1
    SHELL = /usr/bin/zsh
    TERM = screen
    TMPDIR = /var/tmp/cpansmoker-1023/2019052006

Perl special variables (and OS-specific diagnostics, for MSWin32):

    $^X = /opt/perl-5.12.5/bin/perl
    $UID/$EUID = 1023 / 1023
    $GID = 1023 1023
    $EGID = 1023 1023

Perl module toolchain versions installed:

    Module              Have    
    ------------------- --------
    CPAN                1.94_56 
    CPAN::Meta          2.150010
    Cwd                 3.75    
    ExtUtils::CBuilder  0.280231
    ExtUtils::Command   7.34    
    ExtUtils::Install   2.06    
    ExtUtils::MakeMaker 7.34    
    ExtUtils::Manifest  1.70    
    ExtUtils::ParseXS   3.35    
    File::Spec          3.75    
    JSON                4.01    
    JSON::PP            4.01    
    Module::Build       0.4224  
    Module::Signature   n/a     
    Parse::CPAN::Meta   2.150010
    Test::Harness       3.42    
    Test::More          1.302164
    YAML                1.28    
    YAML::Syck          1.31    
    version             0.9924  


--

Summary of my perl5 (revision 5 version 12 subversion 5) configuration:
   
  Platform:
    osname=linux, osvers=4.9.0-8-amd64, archname=x86_64-linux
    uname='linux eserte 4.9.0-8-amd64 #1 smp debian 4.9.130-2 (2018-10-27) x86_64 gnulinux '
    config_args='-ds -e -Dprefix=/opt/perl-5.12.5 -Dcf_email=srezic@cpan.org'
    hint=recommended, useposix=true, d_sigaction=define
    useithreads=undef, usemultiplicity=undef
    useperlio=define, d_sfio=undef, uselargefiles=define, usesocks=undef
    use64bitint=define, use64bitall=define, uselongdouble=undef
    usemymalloc=n, bincompat5005=undef
  Compiler:
    cc='cc', ccflags ='-fno-strict-aliasing -pipe -fstack-protector -I/usr/local/include -D_LARGEFILE_SOURCE -D_FILE_OFFSET_BITS=64',
    optimize='-O2',
    cppflags='-fno-strict-aliasing -pipe -fstack-protector -I/usr/local/include'
    ccversion='', gccversion='6.3.0 20170516', gccosandvers=''
    intsize=4, longsize=8, ptrsize=8, doublesize=8, byteorder=12345678
    d_longlong=define, longlongsize=8, d_longdbl=define, longdblsize=16
    ivtype='long', ivsize=8, nvtype='double', nvsize=8, Off_t='off_t', lseeksize=8
    alignbytes=8, prototype=define
  Linker and Libraries:
    ld='cc', ldflags =' -fstack-protector -L/usr/local/lib'
    libpth=/usr/local/lib /lib/x86_64-linux-gnu /lib/../lib /usr/lib/x86_64-linux-gnu /usr/lib/../lib /lib /usr/lib
    libs=-lnsl -ldb -ldl -lm -lcrypt -lutil -lc
    perllibs=-lnsl -ldl -lm -lcrypt -lutil -lc
    libc=libc-2.24.so, so=so, useshrplib=false, libperl=libperl.a
    gnulibc_version='2.24'
  Dynamic Linking:
    dlsrc=dl_dlopen.xs, dlext=so, d_dlsymun=undef, ccdlflags='-Wl,-E'
    cccdlflags='-fPIC', lddlflags='-shared -O2 -L/usr/local/lib -fstack-protector'


Characteristics of this binary (from libperl): 
  Compile-time options: PERL_DONT_CREATE_GVSV PERL_MALLOC_WRAP USE_64_BIT_ALL
                        USE_64_BIT_INT USE_LARGE_FILES USE_PERLIO
                        USE_PERL_ATOF
  Locally applied patches:
	Devel::PatchPerl 1.46
  Built under linux
  Compiled at Jan  4 2019 20:48:51
  %ENV:
    PERL5LIB="/home/cpansand/.cpan/build/2019052007/Rose-DB-0.778-6MN_wL/blib/arch:/home/cpansand/.cpan/build/2019052007/Rose-DB-0.778-6MN_wL/blib/lib:/home/cpansand/.cpan/build/2019052007/Rose-DateTime-0.540-pZUCxn/blib/arch:/home/cpansand/.cpan/build/2019052007/Rose-DateTime-0.540-pZUCxn/blib/lib:/home/cpansand/.cpan/build/2019052007/SQL-ReservedWords-0.8-o5Xp2_/blib/arch:/home/cpansand/.cpan/build/2019052007/SQL-ReservedWords-0.8-o5Xp2_/blib/lib:/home/cpansand/.cpan/build/2019052007/Rose-Object-0.860-vnPSGQ/blib/arch:/home/cpansand/.cpan/build/2019052007/Rose-Object-0.860-vnPSGQ/blib/lib:/home/cpansand/.cpan/build/2019052007/Time-Clock-1.03-reRpER/blib/arch:/home/cpansand/.cpan/build/2019052007/Time-Clock-1.03-reRpER/blib/lib:/home/cpansand/.cpan/build/2019052007/DateTime-Format-Oracle-0.06-oOcOKN/blib/arch:/home/cpansand/.cpan/build/2019052007/DateTime-Format-Oracle-0.06-oOcOKN/blib/lib:/home/cpansand/.cpan/build/2019052007/Convert-NLS_DATE_FORMAT-0.06-XlPLcW/blib/arch:/home/cpansand/.cpan/build/2019052007/Convert-NLS_DATE_FORMAT-0.06-XlPLcW/blib/lib"
    PERL5OPT=""
    PERL5_CPANPLUS_IS_RUNNING="4192"
    PERL5_CPAN_IS_RUNNING="4192"
    PERL5_CPAN_IS_RUNNING_IN_RECURSION="22391,4192"
    PERLDOC="-MPod::Perldoc::ToTextOverstrike"
    PERL_BATCH="yes"
    PERL_CANARY_STABILITY_NOPROMPT="1"
    PERL_CPAN_REPORTER_CONFIG="/var/tmp/cpansmoker-1023/2019052006/cpanreporter_000_config.ini"
    PERL_EXTUTILS_AUTOINSTALL="--defaultdeps"
    PERL_MM_USE_DEFAULT="1"
  @INC:
    /home/cpansand/.cpan/build/2019052007/Rose-DB-0.778-6MN_wL/blib/arch
    /home/cpansand/.cpan/build/2019052007/Rose-DB-0.778-6MN_wL/blib/lib
    /home/cpansand/.cpan/build/2019052007/Rose-DateTime-0.540-pZUCxn/blib/arch
    /home/cpansand/.cpan/build/2019052007/Rose-DateTime-0.540-pZUCxn/blib/lib
    /home/cpansand/.cpan/build/2019052007/SQL-ReservedWords-0.8-o5Xp2_/blib/arch
    /home/cpansand/.cpan/build/2019052007/SQL-ReservedWords-0.8-o5Xp2_/blib/lib
    /home/cpansand/.cpan/build/2019052007/Rose-Object-0.860-vnPSGQ/blib/arch
    /home/cpansand/.cpan/build/2019052007/Rose-Object-0.860-vnPSGQ/blib/lib
    /home/cpansand/.cpan/build/2019052007/Time-Clock-1.03-reRpER/blib/arch
    /home/cpansand/.cpan/build/2019052007/Time-Clock-1.03-reRpER/blib/lib
    /home/cpansand/.cpan/build/2019052007/DateTime-Format-Oracle-0.06-oOcOKN/blib/arch
    /home/cpansand/.cpan/build/2019052007/DateTime-Format-Oracle-0.06-oOcOKN/blib/lib
    /home/cpansand/.cpan/build/2019052007/Convert-NLS_DATE_FORMAT-0.06-XlPLcW/blib/arch
    /home/cpansand/.cpan/build/2019052007/Convert-NLS_DATE_FORMAT-0.06-XlPLcW/blib/lib
    /opt/perl-5.12.5/lib/site_perl/5.12.5/x86_64-linux
    /opt/perl-5.12.5/lib/site_perl/5.12.5
    /opt/perl-5.12.5/lib/5.12.5/x86_64-linux
    /opt/perl-5.12.5/lib/5.12.5
    .