Report for XML-FeedPP-0.42

Back
From: metabase:user:322078bc-2aae-11df-837a-5e0a49663a4f
Subject: PASS XML-FeedPP-0.42 v5.8.7 Mac OS X
Date: 2010-11-05T07:18:04Z

This distribution has been tested as part of the CPAN Testers
project, supporting the Perl programming language.  See
http://wiki.cpantesters.org/ for more information or email
questions to cpan-testers-discuss@perl.org


--

Dear KAWASAKI,
    
This is a computer-generated error report created automatically by
CPANPLUS, version 0.9007. Testers personal comments may appear 
at the end of this report.

MAKE TEST passed: PERL_DL_NONLAZY=1 /Volumes/Media/smoke/rel/perl-5.8.7/bin/perl "-MExtUtils::Command::MM" "-e" "test_harness(0, 'blib/lib', 'blib/arch')" t/*.t
t/01_new.t .............. ok
t/02_rss.t .............. ok
t/03_rdf.t .............. ok
t/04_atom.t ............. ok
t/05_round.t ............ ok
t/06_xmlns.t ............ ok
t/07_encoding.t ......... ok
t/08_datetime.t ......... ok
t/09_setget.t ........... ok
t/10_image.t ............ ok
t/11_media.t ............ ok
t/12_sort_item.t ........ ok
t/13_remove_item.t ...... ok
t/14_clear_item.t ....... ok
t/15_clone_item.t ....... ok
t/16_invalid_pubdate.t .. ok
t/17_multi_category.t ... ok
t/18_image_atom.t ....... ok
t/19_invalid_w3cdtf.t ... ok
t/20_limit_item.t ....... ok
t/21_negative_item.t .... ok
t/22_init_elements.t .... ok
t/23_match_item.t ....... ok
t/24_get_epoch.t ........ ok
t/25_sort_timezone.t .... ok
t/26_atom10_parse.t ..... ok
t/27_atom03_parse.t ..... ok
t/28_atom10_write.t ..... ok
t/29_rfc2822.t .......... ok
t/30_invalid_rdfseq.t ... ok
t/31_two_digit_date.t ... ok
t/32_two_titles.t ....... ok
t/33_guid.t ............. ok
t/34_category_type.t .... ok
t/35_no_xml_decl.t ...... ok
t/36_get_multiple.t ..... ok
t/39_load_type.t ........ ok
t/40_xml_deref.t ........ ok
t/41_utf8_flag.t ........ ok
t/42_indent.t ........... ok
t/43_indent_atom.t ...... ok
t/44_cdata.t ............ ok
t/45_cdata_multi.t ...... ok
All tests successful.
Files=43, Tests=1367, 28 wallclock secs ( 2.37 usr  0.90 sys + 19.94 cusr  4.17 csys = 27.38 CPU)
Result: PASS

[MSG] [Fri Nov  5 07:24:59 2010] Sending test report for 'XML-FeedPP-0.42'

This report was machine-generated by CPANPLUS::Dist::YACSmoke 0.58.
Powered by minismokebox version 0.32

------------------------------
ENVIRONMENT AND OTHER CONTEXT
------------------------------

Environment variables:

    AUTOMATED_TESTING = 1
    PATH = /bin:/sbin:/usr/bin:/usr/sbin:/usr/local/bin:/usr/local/sbin
    PERL5LIB = :/Volumes/Media/smoke/rel/conf/perl-5.8.7/.cpanplus/5.8.7/build/HTTP-Lite-2.2/blib/lib:/Volumes/Media/smoke/rel/conf/perl-5.8.7/.cpanplus/5.8.7/build/HTTP-Lite-2.2/blib/arch:/Volumes/Media/smoke/rel/conf/perl-5.8.7/.cpanplus/5.8.7/build/XML-TreePP-0.41/blib/lib:/Volumes/Media/smoke/rel/conf/perl-5.8.7/.cpanplus/5.8.7/build/XML-TreePP-0.41/blib/arch:/Volumes/Media/smoke/rel/conf/perl-5.8.7/.cpanplus/5.8.7/build/XML-FeedPP-0.42/blib/lib:/Volumes/Media/smoke/rel/conf/perl-5.8.7/.cpanplus/5.8.7/build/XML-FeedPP-0.42/blib/arch
    PERL5_CPANPLUS_IS_RUNNING = 15107
    PERL5_CPANPLUS_IS_VERSION = 0.9007
    PERL5_MINISMOKEBOX = 0.32
    PERL5_YACSMOKE_BASE = /Volumes/Media/smoke/rel/conf/perl-5.8.7
    PERL_EXTUTILS_AUTOINSTALL = --defaultdeps
    PERL_MM_USE_DEFAULT = 1
    SHELL = /bin/bash
    TERM = screen

Perl special variables (and OS-specific diagnostics, for MSWin32):

    Perl: $^X = /Volumes/Media/smoke/rel/perl-5.8.7/bin/perl
    UID:  $<  = 502
    EUID: $>  = 502
    GID:  $(  = 502 502
    EGID: $)  = 502 502


-------------------------------


--

Summary of my perl5 (revision 5 version 8 subversion 7) configuration:
  Platform:
    osname=darwin, osvers=8.11.0, archname=darwin-thread-multi-64int-2level
    uname='darwin afalglas.bingosnet.co.uk 8.11.0 darwin kernel version 8.11.0: wed oct 10 18:26:00 pdt 2007; root:xnu-792.24.17~1release_ppc power macintosh powerpc '
    config_args='-de -Dprefix=/Volumes/Media/smoke/rel/perl-5.8.7 -Dusethreads -Duse64bitint'
    hint=recommended, useposix=true, d_sigaction=define
    usethreads=define use5005threads=undef useithreads=define usemultiplicity=define
    useperlio=define d_sfio=undef uselargefiles=define usesocks=undef
    use64bitint=define use64bitall=undef uselongdouble=undef
    usemymalloc=n, bincompat5005=undef
  Compiler:
    cc='cc', ccflags ='-fno-common -DPERL_DARWIN -no-cpp-precomp -fno-strict-aliasing -pipe -I/usr/local/include',
    optimize='-O3',
    cppflags='-no-cpp-precomp -fno-common -DPERL_DARWIN -no-cpp-precomp -fno-strict-aliasing -pipe -I/usr/local/include'
    ccversion='', gccversion='4.0.1 (Apple Computer, Inc. build 5367)', gccosandvers=''
    intsize=4, longsize=4, ptrsize=4, doublesize=8, byteorder=87654321
    d_longlong=define, longlongsize=8, d_longdbl=define, longdblsize=16
    ivtype='long long', ivsize=8, nvtype='double', nvsize=8, Off_t='off_t', lseeksize=8
    alignbytes=8, prototype=define
  Linker and Libraries:
    ld='env MACOSX_DEPLOYMENT_TARGET=10.3 cc', ldflags =' -L/usr/local/lib'
    libpth=/usr/local/lib /usr/lib
    libs=-ldbm -ldl -lm -lc
    perllibs=-ldl -lm -lc
    libc=/usr/lib/libc.dylib, so=dylib, useshrplib=false, libperl=libperl.a
    gnulibc_version=''
  Dynamic Linking:
    dlsrc=dl_dlopen.xs, dlext=bundle, d_dlsymun=undef, ccdlflags=' '
    cccdlflags=' ', lddlflags=' -bundle -undefined dynamic_lookup -L/usr/local/lib'


Characteristics of this binary (from libperl): 
  Compile-time options: MULTIPLICITY USE_ITHREADS USE_64_BIT_INT
                        USE_LARGE_FILES PERL_IMPLICIT_CONTEXT
  Built under darwin
  Compiled at Jun 18 2009 21:07:01
  %ENV:
    PERL5LIB=":/Volumes/Media/smoke/rel/conf/perl-5.8.7/.cpanplus/5.8.7/build/HTTP-Lite-2.2/blib/lib:/Volumes/Media/smoke/rel/conf/perl-5.8.7/.cpanplus/5.8.7/build/HTTP-Lite-2.2/blib/arch:/Volumes/Media/smoke/rel/conf/perl-5.8.7/.cpanplus/5.8.7/build/XML-TreePP-0.41/blib/lib:/Volumes/Media/smoke/rel/conf/perl-5.8.7/.cpanplus/5.8.7/build/XML-TreePP-0.41/blib/arch:/Volumes/Media/smoke/rel/conf/perl-5.8.7/.cpanplus/5.8.7/build/XML-FeedPP-0.42/blib/lib:/Volumes/Media/smoke/rel/conf/perl-5.8.7/.cpanplus/5.8.7/build/XML-FeedPP-0.42/blib/arch"
    PERL5_CPANPLUS_IS_RUNNING="15107"
    PERL5_CPANPLUS_IS_VERSION="0.9007"
    PERL5_MINISMOKEBOX="0.32"
    PERL5_YACSMOKE_BASE="/Volumes/Media/smoke/rel/conf/perl-5.8.7"
    PERL_EXTUTILS_AUTOINSTALL="--defaultdeps"
    PERL_MM_USE_DEFAULT="1"
  @INC:
    /Volumes/Media/smoke/rel/conf/perl-5.8.7/.cpanplus/5.8.7/build/HTTP-Lite-2.2/blib/lib
    /Volumes/Media/smoke/rel/conf/perl-5.8.7/.cpanplus/5.8.7/build/HTTP-Lite-2.2/blib/arch
    /Volumes/Media/smoke/rel/conf/perl-5.8.7/.cpanplus/5.8.7/build/XML-TreePP-0.41/blib/lib
    /Volumes/Media/smoke/rel/conf/perl-5.8.7/.cpanplus/5.8.7/build/XML-TreePP-0.41/blib/arch
    /Volumes/Media/smoke/rel/conf/perl-5.8.7/.cpanplus/5.8.7/build/XML-FeedPP-0.42/blib/lib
    /Volumes/Media/smoke/rel/conf/perl-5.8.7/.cpanplus/5.8.7/build/XML-FeedPP-0.42/blib/arch
    /Volumes/Media/smoke/rel/perl-5.8.7/lib/5.8.7/darwin-thread-multi-64int-2level
    /Volumes/Media/smoke/rel/perl-5.8.7/lib/5.8.7
    /Volumes/Media/smoke/rel/perl-5.8.7/lib/site_perl/5.8.7/darwin-thread-multi-64int-2level
    /Volumes/Media/smoke/rel/perl-5.8.7/lib/site_perl/5.8.7
    /Volumes/Media/smoke/rel/perl-5.8.7/lib/site_perl
    .