Net-HTTP-Spore v0.09 Perl 5 v5.10.1 x86_64-linux

Status
Pass
From
Slaven Rezić
Dist
Net-HTTP-Spore v0.09
Platform
Perl 5 v5.10.1 x86_64-linux
Date
2022-10-22 11:01:07
ID
d446d5ee-51f8-11ed-ba5c-2aee6d8775ea
This distribution has been tested as part of the CPAN Testers
project, supporting the Perl programming language.  See
http://wiki.cpantesters.org/ for more information or email
questions to cpan-testers-discuss@perl.org


--
Dear Ahmad Fatoum,

This is a computer-generated report for Net-HTTP-Spore-0.09
on perl 5.10.1, created by CPAN-Reporter-1.2018.

Thank you for uploading your work to CPAN.  Congratulations!
All tests were successful.

Sections of this report:

    * Tester comments
    * Program output
    * Prerequisites
    * Environment and other context

------------------------------
TESTER COMMENTS
------------------------------

Additional comments from tester:

none provided

------------------------------
PROGRAM OUTPUT
------------------------------

Output from 'make test':

PERL_DL_NONLAZY=1 "/opt/perl-5.10.1/bin/perl" "-MExtUtils::Command::MM" "-MTest::Harness" "-e" "undef *Test::Harness::Switches; test_harness(0, 'blib/lib', 'blib/arch')" t/*.t t/spore-method/*.t t/spore-middleware/*.t t/spore-request/*.t t/spore-response/*.t t/spore-role/*.t t/spore/*.t
t/00-compile.t ....................... ok
t/author-eol.t ....................... skipped: these tests are for testing by the author
t/author-no-tabs.t ................... skipped: these tests are for testing by the author
t/author-pod-syntax.t ................ skipped: these tests are for testing by the author
t/author-test-version.t .............. skipped: these tests are for testing by the author
t/release-minimum-version.t .......... skipped: these tests are for release candidate testing
t/spore-method/base.t ................ ok
t/spore-method/payload.t ............. ok
t/spore-middleware/anonymous.t ....... ok
t/spore-middleware/auth-basic.t ...... ok
t/spore-middleware/auth-header.t ..... ok
t/spore-middleware/auth-oauth.t ...... ok
t/spore-middleware/format-auto.t ..... ok
t/spore-middleware/format-json.t ..... ok
t/spore-middleware/format-text.t ..... ok
t/spore-middleware/format-xml.t ...... ok
t/spore-middleware/format-yaml.t ..... ok
t/spore-middleware/ns.t .............. ok
t/spore-middleware/redirection.t ..... ok
t/spore-middleware/runtime.t ......... ok
t/spore-middleware/useragent.t ....... ok
t/spore-middleware/x-do-not-track.t .. ok
t/spore-request/base.t ............... ok
t/spore-request/exception.t .......... ok
t/spore-request/finalize.t ........... ok
t/spore-request/form_data.t .......... ok
t/spore-request/headers.t ............ ok
t/spore-request/new.t ................ ok
t/spore-request/request_uri.t ........ ok
t/spore-request/script_name.t ........ ok
t/spore-request/uri.t ................ ok
t/spore-response/body.t .............. ok
t/spore-response/debug.t ............. ok
t/spore-response/headers.t ........... ok
t/spore-response/new.t ............... ok
t/spore-response/response.t .......... ok
t/spore-response/timeout.t ........... ok
t/spore-role/basic.t ................. ok
t/spore/01_new_from_string.t ......... ok
t/spore/02_enable.t .................. ok
All tests successful.
Files=40, Tests=224, 13 wallclock secs ( 0.08 usr  0.04 sys + 11.34 cusr  0.83 csys = 12.29 CPU)
Result: PASS

------------------------------
PREREQUISITES
------------------------------

Prerequisite modules loaded:

requires:

    Module                       Need  Have    
    ---------------------------- ----- --------
    Carp                         0     1.50    
    Class::Load                  0     0.25    
    Digest::SHA                  0     5.47    
    Encode                       0     3.19    
    HTTP::Headers                0     6.37    
    HTTP::Request                0     6.37    
    IO::All                      0     0.87    
    IO::File                     0     1.14    
    JSON                         0     4.09    
    LWP::UserAgent               0     6.67    
    MIME::Base64                 0     3.08    
    Moose                        0     2.2201  
    Moose::Exporter              0     2.2201  
    Moose::Meta::Method          0     2.2201  
    Moose::Role                  0     2.2201  
    Moose::Util::MetaRole        0     2.2201  
    Moose::Util::TypeConstraints 0     2.2201  
    MooseX::Role::Parameterized  1.01  1.11    
    MooseX::Types                0     0.50    
    MooseX::Types::Moose         0     0.50    
    MooseX::Types::URI           0     0.09    
    overload                     0     1.07    
    perl                         5.010 5.010001
    Scalar::Util                 0     1.63    
    strict                       0     1.04    
    Time::HiRes                  0     1.9719  
    Try::Tiny                    0     0.31    
    URI                          0     5.12    
    URI::Escape                  0     5.12    
    warnings                     0     1.06    
    XML::Simple                  0     2.25    
    YAML                         0     1.30    

build_requires:

    Module                       Need  Have    
    ---------------------------- ----- --------
    base                         0     2.14    
    blib                         1.01  1.04    
    ExtUtils::MakeMaker          0     7.64    
    File::Spec                   0     3.75    
    File::Temp                   0     0.22    
    IO::Handle                   0     1.28    
    IPC::Open3                   0     1.04    
    Test::Exception              0     0.43    
    Test::Moose                  0     2.2201  
    Test::More                   0     1.302191

configure_requires:

    Module                       Need  Have    
    ---------------------------- ----- --------
    ExtUtils::MakeMaker          0     7.64    
    perl                         5.010 5.010001


------------------------------
ENVIRONMENT AND OTHER CONTEXT
------------------------------

Environment variables:

    LANG = en_US.UTF-8
    PATH = /usr/local/bin:/usr/bin:/bin:/usr/local/sbin:/usr/sbin:/sbin:/home/e/eserte/bin/linux-gnu:/home/e/eserte/bin/sh:/home/e/eserte/bin:/home/e/eserte/bin/pistachio-perl/bin:/usr/games:/home/e/eserte/devel:/home/e/eserte/work2/fzf/bin:/home/e/eserte/src/srezic-misc/scripts
    PERL5LIB = /home/e/eserte/.cpan/build/2022102211/MooseX-Types-URI-0.09-0/blib/arch:/home/e/eserte/.cpan/build/2022102211/MooseX-Types-URI-0.09-0/blib/lib:/home/e/eserte/.cpan/build/2022102211/URI-FromHash-0.05-0/blib/arch:/home/e/eserte/.cpan/build/2022102211/URI-FromHash-0.05-0/blib/lib:/home/e/eserte/.cpan/build/2022102211/MooseX-Role-Parameterized-1.11-0/blib/arch:/home/e/eserte/.cpan/build/2022102211/MooseX-Role-Parameterized-1.11-0/blib/lib:/home/e/eserte/.cpan/build/2022102211/IO-All-0.87-0/blib/arch:/home/e/eserte/.cpan/build/2022102211/IO-All-0.87-0/blib/lib
    PERL5OPT = 
    PERL5_CPANPLUS_IS_RUNNING = 1921
    PERL5_CPAN_IS_RUNNING = 1921
    PERL5_CPAN_IS_RUNNING_IN_RECURSION = 1574,1921
    PERLDOC = -MPod::Perldoc::ToTextOverstrike
    PERL_BATCH = yes
    PERL_CANARY_STABILITY_NOPROMPT = 1
    PERL_CPAN_REPORTER_CONFIG = /var/tmp/cpansmoker-1000/2022102211/cpanreporter_001_config.ini
    PERL_EXTUTILS_AUTOINSTALL = --defaultdeps
    PERL_USE_UNSAFE_INC = 1
    SHELL = /bin/zsh
    STDPERL = perl
    TERM = xterm
    TMPDIR = /var/tmp/cpansmoker-1000/2022102211

Perl special variables (and OS-specific diagnostics, for MSWin32):

    $^X = /opt/perl-5.10.1/bin/perl
    $UID/$EUID = 1000 / 1000
    $GID = 1000 4 24 25 27 29 30 33 44 46 108 111 115 128 134 1000 1024
    $EGID = 1000 4 24 25 27 29 30 33 44 46 108 111 115 128 134 1000 1024

Perl module toolchain versions installed:

    Module              Have    
    ------------------- --------
    CPAN                2.34    
    CPAN::Meta          2.143240
    Cwd                 3.75    
    ExtUtils::CBuilder  0.280236
    ExtUtils::Command   7.64    
    ExtUtils::Install   2.06    
    ExtUtils::MakeMaker 7.64    
    ExtUtils::Manifest  1.70    
    ExtUtils::ParseXS   3.44    
    File::Spec          3.75    
    JSON                4.09    
    JSON::PP            4.11    
    Module::Build       0.4231  
    Module::Signature   n/a     
    Parse::CPAN::Meta   1.4414  
    Test::Harness       3.44    
    Test::More          1.302191
    YAML                1.30    
    YAML::Syck          1.34    
    version             0.9929  


--

Summary of my perl5 (revision 5 version 10 subversion 1) configuration:
   
  Platform:
    osname=linux, osvers=4.9.0-18-amd64, archname=x86_64-linux
    uname='linux cabulja 4.9.0-18-amd64 #1 smp debian 4.9.303-1 (2022-03-07) x86_64 gnulinux '
    config_args='-ds -e -Dprefix=/opt/perl-5.10.1 -Dcf_email=srezic@cpan.org'
    hint=recommended, useposix=true, d_sigaction=define
    useithreads=undef, usemultiplicity=undef
    useperlio=define, d_sfio=undef, uselargefiles=define, usesocks=undef
    use64bitint=define, use64bitall=define, uselongdouble=undef
    usemymalloc=n, bincompat5005=undef
  Compiler:
    cc='cc', ccflags ='-fwrapv -fno-strict-aliasing -pipe -fstack-protector -I/usr/local/include -D_LARGEFILE_SOURCE -D_FILE_OFFSET_BITS=64',
    optimize='-O2',
    cppflags='-fwrapv -fno-strict-aliasing -pipe -fstack-protector -I/usr/local/include'
    ccversion='', gccversion='6.3.0 20170516', gccosandvers=''
    intsize=4, longsize=8, ptrsize=8, doublesize=8, byteorder=12345678
    d_longlong=define, longlongsize=8, d_longdbl=define, longdblsize=16
    ivtype='long', ivsize=8, nvtype='double', nvsize=8, Off_t='off_t', lseeksize=8
    alignbytes=8, prototype=define
  Linker and Libraries:
    ld='cc', ldflags =' -fstack-protector -L/usr/local/lib'
    libpth=/usr/local/lib /lib/x86_64-linux-gnu /lib/../lib /usr/lib/x86_64-linux-gnu /usr/lib/../lib /lib /usr/lib
    libs=-lnsl -lgdbm -ldb -ldl -lm -lcrypt -lutil -lc -lgdbm_compat
    perllibs=-lnsl -ldl -lm -lcrypt -lutil -lc
    libc=libc-2.24.so, so=so, useshrplib=false, libperl=libperl.a
    gnulibc_version='2.24'
  Dynamic Linking:
    dlsrc=dl_dlopen.xs, dlext=so, d_dlsymun=undef, ccdlflags='-Wl,-E'
    cccdlflags='-fPIC', lddlflags='-shared -O2 -L/usr/local/lib -fstack-protector'


Characteristics of this binary (from libperl): 
  Compile-time options: PERL_DONT_CREATE_GVSV PERL_MALLOC_WRAP USE_64_BIT_ALL
                        USE_64_BIT_INT USE_LARGE_FILES USE_PERLIO
  Locally applied patches:
	Devel::PatchPerl 2.08
  Built under linux
  Compiled at Aug 16 2022 07:47:24
  %ENV:
    PERL5LIB="/home/e/eserte/.cpan/build/2022102211/MooseX-Types-URI-0.09-0/blib/arch:/home/e/eserte/.cpan/build/2022102211/MooseX-Types-URI-0.09-0/blib/lib:/home/e/eserte/.cpan/build/2022102211/URI-FromHash-0.05-0/blib/arch:/home/e/eserte/.cpan/build/2022102211/URI-FromHash-0.05-0/blib/lib:/home/e/eserte/.cpan/build/2022102211/MooseX-Role-Parameterized-1.11-0/blib/arch:/home/e/eserte/.cpan/build/2022102211/MooseX-Role-Parameterized-1.11-0/blib/lib:/home/e/eserte/.cpan/build/2022102211/IO-All-0.87-0/blib/arch:/home/e/eserte/.cpan/build/2022102211/IO-All-0.87-0/blib/lib"
    PERL5OPT=""
    PERL5_CPANPLUS_IS_RUNNING="1921"
    PERL5_CPAN_IS_RUNNING="1921"
    PERL5_CPAN_IS_RUNNING_IN_RECURSION="1574,1921"
    PERLDOC="-MPod::Perldoc::ToTextOverstrike"
    PERL_BATCH="yes"
    PERL_CANARY_STABILITY_NOPROMPT="1"
    PERL_CPAN_REPORTER_CONFIG="/var/tmp/cpansmoker-1000/2022102211/cpanreporter_001_config.ini"
    PERL_EXTUTILS_AUTOINSTALL="--defaultdeps"
    PERL_USE_UNSAFE_INC="1"
  @INC:
    /home/e/eserte/.cpan/build/2022102211/MooseX-Types-URI-0.09-0/blib/arch
    /home/e/eserte/.cpan/build/2022102211/MooseX-Types-URI-0.09-0/blib/lib
    /home/e/eserte/.cpan/build/2022102211/URI-FromHash-0.05-0/blib/arch
    /home/e/eserte/.cpan/build/2022102211/URI-FromHash-0.05-0/blib/lib
    /home/e/eserte/.cpan/build/2022102211/MooseX-Role-Parameterized-1.11-0/blib/arch
    /home/e/eserte/.cpan/build/2022102211/MooseX-Role-Parameterized-1.11-0/blib/lib
    /home/e/eserte/.cpan/build/2022102211/IO-All-0.87-0/blib/arch
    /home/e/eserte/.cpan/build/2022102211/IO-All-0.87-0/blib/lib
    /opt/perl-5.10.1/lib/5.10.1/x86_64-linux
    /opt/perl-5.10.1/lib/5.10.1
    /opt/perl-5.10.1/lib/site_perl/5.10.1/x86_64-linux
    /opt/perl-5.10.1/lib/site_perl/5.10.1
    .