Report for Plack-Test-Agent-1.3

Back
From: metabase:user:320bfe00-2aae-11df-837a-5e0a49663a4f
Subject: PASS Plack-Test-Agent-1.3 v5.21.7 GNU/Linux
Date: 2015-01-06T01:46:27Z

This distribution has been tested as part of the CPAN Testers
project, supporting the Perl programming language.  See
http://wiki.cpantesters.org/ for more information or email
questions to cpan-testers-discuss@perl.org


--
Dear Olaf Alders,

This is a computer-generated report for Plack-Test-Agent-1.3
on perl 5.21.7, created by CPAN-Reporter-1.2011.

Thank you for uploading your work to CPAN.  Congratulations!
All tests were successful.

Sections of this report:

    * Tester comments
    * Program output
    * Prerequisites
    * Environment and other context

------------------------------
TESTER COMMENTS
------------------------------

Additional comments from tester:

this report is from an automated smoke testing program
and was not reviewed by a human for accuracy

------------------------------
PROGRAM OUTPUT
------------------------------

Output from '/usr/bin/make test':

PERL_DL_NONLAZY=1 "/home/sand/src/perl/repoperls/installed-perls/perl/v5.21.7/9ab7/bin/perl" "-MExtUtils::Command::MM" "-MTest::Harness" "-e" "undef *Test::Harness::Switches; test_harness(0, 'blib/lib', 'blib/arch')" t/*.t
t/00-compile.t ............ ok

# Versions for all modules listed in MYMETA.json (including optional ones):
# 
# === Configure Requires ===
# 
#     Module              Want    Have
#     ------------------- ---- -------
#     ExtUtils::MakeMaker  any 7.05_05
# 
# === Build Requires ===
# 
#     Module              Want    Have
#     ------------------- ---- -------
#     ExtUtils::MakeMaker  any 7.05_05
# 
# === Test Requires ===
# 
#     Module                     Want         Have
#     -------------------------- ---- ------------
#     ExtUtils::MakeMaker         any      7.05_05
#     File::Spec                  any         3.53
#     HTTP::Cookies               any         6.01
#     HTTP::Server::Simple::PSGI  any         0.16
#     IO::Handle                  any         1.35
#     IPC::Open3                  any         1.18
#     Modern::Perl                any   1.20140107
#     Plack::Request              any       1.0033
#     Test::Memory::Cycle         any         1.04
#     Test::More                 0.88 1.301001_097
#     Test::Requires              any         0.08
#     open                        any         1.10
#     utf8                        any         1.14
# 
# === Test Recommends ===
# 
#     Module         Want     Have
#     ---------- -------- --------
#     CPAN::Meta 2.120900 2.143240
# 
# === Runtime Requires ===
# 
#     Module                Want  Have
#     --------------------- ---- -----
#     HTTP::Message::PSGI    any undef
#     HTTP::Request::Common  any  6.04
#     HTTP::Response         any  6.04
#     Plack::Loader          any undef
#     Plack::Util::Accessor  any undef
#     Test::TCP              any  2.06
#     Test::WWW::Mechanize   any  1.44
#     parent                 any 0.228
#     strict                 any  1.09
#     warnings               any  1.29
# 
t/00-report-prereqs.t ..... ok
t/2args.t ................. ok
t/author-eol.t ............ skipped: these tests are for testing by the author
t/author-no-tabs.t ........ skipped: these tests are for testing by the author
t/author-pod-spell.t ...... skipped: these tests are for testing by the author
t/cookie.t ................ ok
t/cycle.t ................. ok
t/extra_get_args.t ........ ok
t/hello.t ................. ok
t/hello_server.t .......... ok
t/mech.t .................. ok
t/okay.t .................. ok
t/release-cpan-changes.t .. skipped: these tests are for release candidate testing
t/release-pod-coverage.t .. skipped: these tests are for release candidate testing
t/release-pod-syntax.t .... skipped: these tests are for release candidate testing
t/release-portability.t ... skipped: these tests are for release candidate testing
t/release-synopsis.t ...... skipped: these tests are for release candidate testing
All tests successful.
Files=18, Tests=57,  9 wallclock secs ( 0.05 usr  0.02 sys +  2.78 cusr  0.34 csys =  3.19 CPU)
Result: PASS

------------------------------
PREREQUISITES
------------------------------

Prerequisite modules loaded:

requires:

    Module                     Need  Have        
    -------------------------- ----- ------------
    HTTP::Message::PSGI        0     0           
    HTTP::Request::Common      0     6.04        
    HTTP::Response             0     6.04        
    parent                     0     0.228       
    perl                       5.008 5.021007    
    Plack::Loader              0     0           
    Plack::Util::Accessor      0     0           
    strict                     0     1.09        
    Test::TCP                  0     2.06        
    Test::WWW::Mechanize       0     1.44        
    warnings                   0     1.29        

build_requires:

    Module                     Need  Have        
    -------------------------- ----- ------------
    ExtUtils::MakeMaker        0     7.05_05     
    File::Spec                 0     3.53        
    HTTP::Cookies              0     6.01        
    HTTP::Server::Simple::PSGI 0     0.16        
    IO::Handle                 0     1.35        
    IPC::Open3                 0     1.18        
    Modern::Perl               0     1.20140107  
    open                       0     1.10        
    Plack::Request             0     1.0033      
    Test::Memory::Cycle        0     1.04        
    Test::More                 0.88  1.301001_097
    Test::Requires             0     0.08        
    utf8                       0     1.14        

configure_requires:

    Module                     Need  Have        
    -------------------------- ----- ------------
    ExtUtils::MakeMaker        0     7.05_05     
    perl                       5.006 5.021007    


------------------------------
ENVIRONMENT AND OTHER CONTEXT
------------------------------

Environment variables:

    AUTOMATED_TESTING = 1
    LANG = en_US.UTF-8
    LANGUAGE = en_US:en
    PATH = /home/sand/bin:/usr/local/bin:/usr/bin:/bin:/usr/games:/usr/local/perl/bin:/usr/X11/bin:/sbin:/usr/sbin
    PERL5LIB = 
    PERL5OPT = 
    PERL5_CPANPLUS_IS_RUNNING = 1655
    PERL5_CPAN_IS_RUNNING = 1655
    PERL_MM_USE_DEFAULT = 1
    SHELL = /usr/bin/zsh
    TERM = screen

Perl special variables (and OS-specific diagnostics, for MSWin32):

    $^X = /home/sand/src/perl/repoperls/installed-perls/perl/v5.21.7/9ab7/bin/perl
    $UID/$EUID = 1005 / 1005
    $GID = 1005 1005
    $EGID = 1005 1005

Perl module toolchain versions installed:

    Module              Have        
    ------------------- ------------
    CPAN                2.08        
    CPAN::Meta          2.143240    
    Cwd                 3.54        
    ExtUtils::CBuilder  0.280221    
    ExtUtils::Command   7.05_05     
    ExtUtils::Install   2.04        
    ExtUtils::MakeMaker 7.05_05     
    ExtUtils::Manifest  1.70        
    ExtUtils::ParseXS   3.27        
    File::Spec          3.53        
    JSON                2.90        
    JSON::PP            2.27300     
    Module::Build       0.4210      
    Module::Signature   0.73        
    Parse::CPAN::Meta   1.4414      
    Test::Harness       3.34        
    Test::More          1.301001_097
    YAML                1.13        
    YAML::Syck          1.29        
    version             0.9909      


--

Summary of my perl5 (revision 5 version 21 subversion 7) configuration:
  Commit id: 846dac6786c1ada87b95d0268c0a9772a4bd04fc
  Platform:
    osname=linux, osvers=3.16.0-4-amd64, archname=x86_64-linux
    uname='linux k83 3.16.0-4-amd64 #1 smp debian 3.16.7-2 (2014-11-06) x86_64 gnulinux '
    config_args='-Dprefix=/home/sand/src/perl/repoperls/installed-perls/perl/v5.21.7/9ab7 -Dmyhostname=k83 -Dinstallusrbinperl=n -Uversiononly -Dusedevel -des -Ui_db -Uuseithreads -Uuselongdouble'
    hint=recommended, useposix=true, d_sigaction=define
    useithreads=undef, usemultiplicity=undef
    use64bitint=define, use64bitall=define, uselongdouble=undef
    usemymalloc=n, bincompat5005=undef
  Compiler:
    cc='cc', ccflags ='-fwrapv -fno-strict-aliasing -pipe -fstack-protector-strong -I/usr/local/include -D_LARGEFILE_SOURCE -D_FILE_OFFSET_BITS=64 -D_FORTIFY_SOURCE=2',
    optimize='-O2',
    cppflags='-fwrapv -fno-strict-aliasing -pipe -fstack-protector-strong -I/usr/local/include'
    ccversion='', gccversion='4.9.2', gccosandvers=''
    intsize=4, longsize=8, ptrsize=8, doublesize=8, byteorder=12345678, doublekind=3
    d_longlong=define, longlongsize=8, d_longdbl=define, longdblsize=16, longdblkind=3
    ivtype='long', ivsize=8, nvtype='double', nvsize=8, Off_t='off_t', lseeksize=8
    alignbytes=8, prototype=define
  Linker and Libraries:
    ld='cc', ldflags =' -fstack-protector-strong -L/usr/local/lib'
    libpth=/usr/local/lib /usr/lib/gcc/x86_64-linux-gnu/4.9/include-fixed /usr/include/x86_64-linux-gnu /usr/lib /lib/x86_64-linux-gnu /lib/../lib /usr/lib/x86_64-linux-gnu /usr/lib/../lib /lib
    libs=-lnsl -lgdbm -ldb -ldl -lm -lcrypt -lutil -lc -lpthread -lgdbm_compat
    perllibs=-lnsl -ldl -lm -lcrypt -lutil -lc -lpthread
    libc=libc-2.19.so, so=so, useshrplib=false, libperl=libperl.a
    gnulibc_version='2.19'
  Dynamic Linking:
    dlsrc=dl_dlopen.xs, dlext=so, d_dlsymun=undef, ccdlflags='-Wl,-E'
    cccdlflags='-fPIC', lddlflags='-shared -O2 -L/usr/local/lib -fstack-protector-strong'


Characteristics of this binary (from libperl): 
  Compile-time options: HAS_TIMES PERLIO_LAYERS PERL_DONT_CREATE_GVSV
                        PERL_HASH_FUNC_ONE_AT_A_TIME_HARD PERL_MALLOC_WRAP
                        PERL_NEW_COPY_ON_WRITE PERL_PRESERVE_IVUV
                        PERL_USE_DEVEL USE_64_BIT_ALL USE_64_BIT_INT
                        USE_LARGE_FILES USE_LOCALE USE_LOCALE_COLLATE
                        USE_LOCALE_CTYPE USE_LOCALE_NUMERIC USE_LOCALE_TIME
                        USE_PERLIO USE_PERL_ATOF
  Built under linux
  Compiled at Dec 21 2014 11:08:26
  %ENV:
    PERL5LIB=""
    PERL5OPT=""
    PERL5_CPANPLUS_IS_RUNNING="1655"
    PERL5_CPAN_IS_RUNNING="1655"
    PERL_MM_USE_DEFAULT="1"
  @INC:
    /home/sand/src/perl/repoperls/installed-perls/perl/v5.21.7/9ab7/lib/site_perl/5.21.7/x86_64-linux
    /home/sand/src/perl/repoperls/installed-perls/perl/v5.21.7/9ab7/lib/site_perl/5.21.7
    /home/sand/src/perl/repoperls/installed-perls/perl/v5.21.7/9ab7/lib/5.21.7/x86_64-linux
    /home/sand/src/perl/repoperls/installed-perls/perl/v5.21.7/9ab7/lib/5.21.7
    .