Mo v0.40 Perl 5 v5.18.0 i86pc-solaris-64

Status
Pass
From
Nigel Horne
Dist
Mo v0.40
Platform
Perl 5 v5.18.0 i86pc-solaris-64
Date
2020-11-30 14:10:40
ID
d37e2d46-3315-11eb-b8f0-543403c139a2
This distribution has been tested as part of the CPAN Testers
project, supporting the Perl programming language.  See
http://wiki.cpantesters.org/ for more information or email
questions to cpan-testers-discuss@perl.org


--
Dear Tina Muller,

This is a computer-generated report for Mo-0.40
on perl 5.18.0, created by CPAN-Reporter-1.2018.

Thank you for uploading your work to CPAN.  Congratulations!
All tests were successful.

Sections of this report:

    * Tester comments
    * Program output
    * Prerequisites
    * Environment and other context

------------------------------
TESTER COMMENTS
------------------------------

Additional comments from tester:

none provided

------------------------------
PROGRAM OUTPUT
------------------------------

Output from '/usr/bin/make test':

PERL_DL_NONLAZY=1 "/export/home/njh/perl5/perlbrew/perls/perl-5.18.0-64all/bin/perl5.18.0" "-MExtUtils::Command::MM" "-MTest::Harness" "-e" "undef *Test::Harness::Switches; test_harness(0, 'blib/lib', 'blib/arch')" t/*.t
# 
# 
# Generated by Dist::Zilla::Plugin::ReportVersions::Tiny v1.12
# perl: 5.018000 (wanted v5.6.0) on solaris from /export/home/njh/perl5/perlbrew/perls/perl-5.18.0-64all/bin/perl5.18.0
# 
# Class::XSAccessor                             => module not found. (want any version)
# ExtUtils::MakeMaker                           => 7.48       (want any version)
# IO::All                                       => module not found. (want any version)
# Moose                                         => module not found. (want any version)
# Mouse                                         => module not found. (want any version)
# Test::More                                    => 1.302181   (want 0.96)   
# 
# Thanks for using my code.  I hope it works for you.
# If not, please try and include this output in the bug report.
# That will help me reproduce the issue and solve your problem.
# 
t/000-report-versions-tiny.t .. ok
t/author-00-compile.t ......... skipped: these tests are for testing by the author
t/author-pod-spell.t .......... skipped: these tests are for testing by the author
t/author-pod-syntax.t ......... skipped: these tests are for testing by the author
t/author-test-version.t ....... skipped: these tests are for testing by the author
t/build.t ..................... ok
t/builder.t ................... ok
t/chain.t ..................... ok
t/coerce.t .................... ok
t/combined.t .................. ok
t/default.t ................... ok
t/extends.t ................... ok
t/importer.t .................. ok
t/is.t ........................ ok
t/lazy-nonlazy.t .............. ok
t/main_sub.t .................. ok
t/Moose.t ..................... skipped: Moose is needed
t/Mouse.t ..................... skipped: Mouse is needed
t/object.t .................... ok
t/option.t .................... ok
t/release-correct-version.t ... skipped: these tests are for release candidate testing
t/release-distmeta.t .......... skipped: these tests are for release candidate testing
t/release-eol.t ............... skipped: these tests are for release candidate testing
t/release-no-tabs.t ........... skipped: these tests are for release candidate testing
t/required.t .................. ok
t/strict.t .................... ok
t/test.t ...................... ok
t/xs.t ........................ skipped: Class::XSAccessor is needed
All tests successful.
Files=28, Tests=144,  2 wallclock secs ( 0.12 usr  0.07 sys +  1.50 cusr  0.29 csys =  1.98 CPU)
Result: PASS

------------------------------
PREREQUISITES
------------------------------

Prerequisite modules loaded:

requires:

    Module              Need     Have    
    ------------------- -------- --------
    perl                5.006000 5.018000

build_requires:

    Module              Need     Have    
    ------------------- -------- --------
    ExtUtils::MakeMaker 0        7.48    
    Test::More          0.96     1.302181

configure_requires:

    Module              Need     Have    
    ------------------- -------- --------
    ExtUtils::MakeMaker 0        7.48    


------------------------------
ENVIRONMENT AND OTHER CONTEXT
------------------------------

Environment variables:

    LANG = C
    PATH = /export/home/njh/perl5/perlbrew/bin:/export/home/njh/perl5/perlbrew/perls/perl-5.18.0-64all/bin:/export/home/njh/perl5/perlbrew/bin:/usr/bin:/usr/sbin:/sbin:/usr/gnu/bin
    PERL5LIB = 
    PERL5OPT = 
    PERL5_CPANPLUS_IS_RUNNING = 19305
    PERL5_CPAN_IS_RUNNING = 19305
    PERLBREW_HOME = /export/home/njh/.perlbrew
    PERLBREW_LIB = 
    PERLBREW_MANPATH = /export/home/njh/perl5/perlbrew/perls/perl-5.18.0-64all/man
    PERLBREW_PATH = /export/home/njh/perl5/perlbrew/bin:/export/home/njh/perl5/perlbrew/perls/perl-5.18.0-64all/bin
    PERLBREW_PERL = perl-5.18.0-64all
    PERLBREW_ROOT = /export/home/njh/perl5/perlbrew
    PERLBREW_SHELLRC_VERSION = 0.88
    PERLBREW_VERSION = 0.88
    PERL_LOCAL_LIB_ROOT = 
    SHELL = /bin/bash
    TERM = dumb
    TMPDIR = /var/tmp

Perl special variables (and OS-specific diagnostics, for MSWin32):

    $^X = /export/home/njh/perl5/perlbrew/perls/perl-5.18.0-64all/bin/perl5.18.0
    $UID/$EUID = 101 / 101
    $GID = 10 10
    $EGID = 10 10

Perl module toolchain versions installed:

    Module              Have    
    ------------------- --------
    CPAN                2.00    
    CPAN::Meta          2.150010
    Cwd                 3.40    
    ExtUtils::CBuilder  0.280210
    ExtUtils::Command   7.48    
    ExtUtils::Install   2.06    
    ExtUtils::MakeMaker 7.48    
    ExtUtils::Manifest  1.70    
    ExtUtils::ParseXS   3.18    
    File::Spec          3.40    
    JSON                4.02    
    JSON::PP            4.05    
    Module::Build       0.4231  
    Module::Signature   n/a     
    Parse::CPAN::Meta   2.150010
    Test::Harness       3.42    
    Test::More          1.302181
    YAML                1.30    
    YAML::Syck          n/a     
    version             0.9902  


--

Summary of my perl5 (revision 5 version 18 subversion 0) configuration:
   
  Platform:
    osname=solaris, osvers=2.11, archname=i86pc-solaris-64
    uname='sunos vultr1.bandsman.co.uk 5.11 illumos-7d1eae8c55 i86pc i386 i86pc '
    config_args='-de -Dprefix=/export/home/njh/perl5/perlbrew/perls/perl-5.18.0-64all -Dusedevel -Duse64bitall -Accflags= -Aeval:scriptdir=/export/home/njh/perl5/perlbrew/perls/perl-5.18.0-64all/bin'
    hint=recommended, useposix=true, d_sigaction=define
    useithreads=undef, usemultiplicity=undef
    useperlio=define, d_sfio=undef, uselargefiles=define, usesocks=undef
    use64bitint=define, use64bitall=define, uselongdouble=undef
    usemymalloc=n, bincompat5005=undef
  Compiler:
    cc='/opt/SUNWspro/bin/cc', ccflags ='-m64 -I/usr/gnu/include -D_LARGEFILE_SOURCE -D_FILE_OFFSET_BITS=64 -DPERL_USE_SAFE_PUTENV',
    optimize='-O',
    cppflags='-m64 -I/usr/gnu/include'
    ccversion='Sun C 5.10 SunOS_i386 2009/06/03', gccversion='', gccosandvers=''
    intsize=4, longsize=8, ptrsize=8, doublesize=8, byteorder=12345678
    d_longlong=define, longlongsize=8, d_longdbl=define, longdblsize=16
    ivtype='long', ivsize=8, nvtype='double', nvsize=8, Off_t='off_t', lseeksize=8
    alignbytes=8, prototype=define
  Linker and Libraries:
    ld='/opt/SUNWspro/bin/cc', ldflags =' -m64 -L/opt/sunstudio12.1/prod/lib/amd64 -L/lib/64 -L/usr/gnu/lib '
    libpth=/opt/sunstudio12.1/prod/lib/amd64 /lib/64 /usr/gnu/lib /usr/lib /usr/ccs/lib
    libs=-lsocket -lnsl -lgdbm -ldb -ldl -lm -lc
    perllibs=-lsocket -lnsl -ldl -lm -lc
    libc=/lib/libc.so, so=so, useshrplib=true, libperl=libperl.so
    gnulibc_version=''
  Dynamic Linking:
    dlsrc=dl_dlopen.xs, dlext=so, d_dlsymun=undef, ccdlflags='  -R /export/home/njh/perl5/perlbrew/perls/perl-5.18.0-64all/lib/5.18.0/i86pc-solaris-64/CORE'
    cccdlflags='-KPIC', lddlflags=' -G -m64 -L/opt/sunstudio12.1/prod/lib/amd64 -L/lib/64 -L/usr/gnu/lib'


Characteristics of this binary (from libperl): 
  Compile-time options: HAS_TIMES PERLIO_LAYERS PERL_DONT_CREATE_GVSV
                        PERL_HASH_FUNC_ONE_AT_A_TIME_HARD PERL_MALLOC_WRAP
                        PERL_PRESERVE_IVUV PERL_SAWAMPERSAND PERL_USE_DEVEL
                        PERL_USE_SAFE_PUTENV USE_64_BIT_ALL USE_64_BIT_INT
                        USE_LARGE_FILES USE_LOCALE USE_LOCALE_COLLATE
                        USE_LOCALE_CTYPE USE_LOCALE_NUMERIC USE_PERLIO
                        USE_PERL_ATOF
  Locally applied patches:
	Devel::PatchPerl 1.52
  Built under solaris
  Compiled at Oct 10 2020 03:00:41
  %ENV:
    PERL5LIB=""
    PERL5OPT=""
    PERL5_CPANPLUS_IS_RUNNING="19305"
    PERL5_CPAN_IS_RUNNING="19305"
    PERLBREW_HOME="/export/home/njh/.perlbrew"
    PERLBREW_LIB=""
    PERLBREW_MANPATH="/export/home/njh/perl5/perlbrew/perls/perl-5.18.0-64all/man"
    PERLBREW_PATH="/export/home/njh/perl5/perlbrew/bin:/export/home/njh/perl5/perlbrew/perls/perl-5.18.0-64all/bin"
    PERLBREW_PERL="perl-5.18.0-64all"
    PERLBREW_ROOT="/export/home/njh/perl5/perlbrew"
    PERLBREW_SHELLRC_VERSION="0.88"
    PERLBREW_VERSION="0.88"
    PERL_LOCAL_LIB_ROOT=""
  @INC:
    /export/home/njh/perl5/perlbrew/perls/perl-5.18.0-64all/lib/site_perl/5.18.0/i86pc-solaris-64
    /export/home/njh/perl5/perlbrew/perls/perl-5.18.0-64all/lib/site_perl/5.18.0
    /export/home/njh/perl5/perlbrew/perls/perl-5.18.0-64all/lib/5.18.0/i86pc-solaris-64
    /export/home/njh/perl5/perlbrew/perls/perl-5.18.0-64all/lib/5.18.0
    .