Report for SQL-Maker-1.15

Back
From: metabase:user:68a9c4ac-1ec7-11e0-bf29-9c4bfeb2ac3f
Subject: PASS SQL-Maker-1.15 v5.16.3 GNU/Linux
Date: 2014-04-17T14:01:51Z

This distribution has been tested as part of the CPAN Testers
project, supporting the Perl programming language.  See
http://wiki.cpantesters.org/ for more information or email
questions to cpan-testers-discuss@perl.org


--
Dear Tokuhiro Matsuno,

This is a computer-generated report for SQL-Maker-1.15
on perl 5.16.3, created by CPAN-Reporter-1.2010.

Thank you for uploading your work to CPAN.  Congratulations!
All tests were successful.

Sections of this report:

    * Tester comments
    * Program output
    * Prerequisites
    * Environment and other context

------------------------------
TESTER COMMENTS
------------------------------

Additional comments from tester:

none provided

------------------------------
PROGRAM OUTPUT
------------------------------

Output from './Build test':

t/00_compile.t .......................................... ok
t/01_delete.t ........................................... ok
t/01_insert.t ........................................... ok
t/01_select.t ........................................... ok
t/01_simple.t ........................................... ok
t/01_update.t ........................................... ok
t/01_util.t ............................................. ok
t/02_where.t ............................................ ok
t/09_new_line.t ......................................... ok
t/10_subquery.t ......................................... ok
t/11_set.t .............................................. ok
t/12_insert_empty.t ..................................... ok
t/condition/01_where.t .................................. ok
t/condition/02_make_term.t .............................. ok
t/condition/03_add_raw.t ................................ ok
t/condition/04_compose_empty.t .......................... ok
t/condition/05_empty_values.t ........................... ok
t/plugins/insert_multi/01_insert_multi.t ................ ok
t/plugins/insert_on_duplicate/01_insert_on_duplicate.t .. ok
t/select/01_statement.t ................................. ok
t/select/02_pod_select.t ................................ ok
t/select/oracle/01_oracle.t ............................. ok
t/sql_type/01_sql_type.t ................................ ok
t/sql_type/02_synopsis.t ................................ ok
All tests successful.
Files=24, Tests=94,  1 wallclock secs ( 0.18 usr  0.05 sys +  0.93 cusr  0.14 csys =  1.30 CPU)
Result: PASS

------------------------------
PREREQUISITES
------------------------------

Prerequisite modules loaded:

requires:

    Module                Need     Have    
    --------------------- -------- --------
    Class::Accessor::Lite 0.05     0.06    
    DBI                   0        1.631   
    Module::Load          0        0.32    
    parent                0        0.228   
    perl                  5.008001 5.016003
    Scalar::Util          0        1.38    

build_requires:

    Module                Need     Have    
    --------------------- -------- --------
    ExtUtils::CBuilder    0        0.280216
    Test::More            0.98     1.001002
    Test::Requires        0        0.07    
    Tie::IxHash           0        1.23    

configure_requires:

    Module                Need     Have    
    --------------------- -------- --------
    CPAN::Meta            0        2.140640
    CPAN::Meta::Prereqs   0        2.140640
    Module::Build         0.38     0.4205  


------------------------------
ENVIRONMENT AND OTHER CONTEXT
------------------------------

Environment variables:

    LANG = en_US.UTF-8
    LANGUAGE = en_US.UTF-8
    LC_ALL = en_US.UTF-8
    LC_CTYPE = en_US.UTF-8
    PATH = /home/rando/devel/linux:/home/rando/python/venv/2.7.3/bin:/home/rando/perl5/perlbrew/bin:/home/rando/perl5/perlbrew/perls/local/bin:/home/rando/gopath/bin:/home/rando/go/bin:/home/rando/bin:/home/rando/bin/contrib:/usr/lib/lightdm/lightdm:/usr/local/sbin:/usr/local/bin:/usr/sbin:/usr/bin:/sbin:/bin:/usr/games
    PERL5LIB = 
    PERL5OPT = 
    PERL5_CPANPLUS_IS_RUNNING = 8860
    PERL5_CPAN_IS_RUNNING = 8860
    PERLBREW_BASHRC_VERSION = 0.67
    PERLBREW_HOME = /home/rando/.perlbrew
    PERLBREW_MANPATH = /home/rando/perl5/perlbrew/perls/local/man
    PERLBREW_PATH = /home/rando/perl5/perlbrew/bin:/home/rando/perl5/perlbrew/perls/local/bin
    PERLBREW_PERL = local
    PERLBREW_ROOT = /home/rando/perl5/perlbrew
    PERLBREW_VERSION = 0.67
    PERL_CPANM_OPT = --save-dists /home/rando/perl5/cpan/mini --mirror http://cpan.local:4999/-CPAN/ --mirror http://cpan.ezarticleinformation.com/ --mirror http://search.cpan.org/CPAN/
    SHELL = /bin/bash
    TERM = screen-256color

Perl special variables (and OS-specific diagnostics, for MSWin32):

    $^X = /home/rando/perl5/perlbrew/perls/16.3sf/bin/perl
    $UID/$EUID = 1000 / 1000
    $GID = 1000 4 24 27 30 46 105 110 123 127 1000 1002
    $EGID = 1000 4 24 27 30 46 105 110 123 127 1000 1002

Perl module toolchain versions installed:

    Module              Have    
    ------------------- --------
    CPAN                2.00    
    CPAN::Meta          2.140640
    Cwd                 3.40    
    ExtUtils::CBuilder  0.280216
    ExtUtils::Command   1.18    
    ExtUtils::Install   1.66    
    ExtUtils::MakeMaker 6.96    
    ExtUtils::Manifest  1.63    
    ExtUtils::ParseXS   3.24    
    File::Spec          3.40    
    JSON                2.90    
    JSON::PP            2.27203 
    Module::Build       0.4205  
    Module::Signature   0.73    
    Parse::CPAN::Meta   1.4414  
    Test::Harness       3.30    
    Test::More          1.001002
    YAML                0.90    
    YAML::Syck          1.27    
    version             0.9908  


--

Summary of my perl5 (revision 5 version 16 subversion 3) configuration:
   
  Platform:
    osname=linux, osvers=3.2.0-58-generic, archname=x86_64-linux
    uname='linux raptor 3.2.0-58-generic #88-ubuntu smp tue dec 3 17:37:58 utc 2013 x86_64 x86_64 x86_64 gnulinux '
    config_args='-de -Dprefix=/home/rando/perl5/perlbrew/perls/16.3sf -Dman1dir=none -Dman3dir=none -Dcccdlflags=-fPIC -Duseshrplib -Aeval:scriptdir=/home/rando/perl5/perlbrew/perls/16.3sf/bin'
    hint=recommended, useposix=true, d_sigaction=define
    useithreads=undef, usemultiplicity=undef
    useperlio=define, d_sfio=undef, uselargefiles=define, usesocks=undef
    use64bitint=define, use64bitall=define, uselongdouble=undef
    usemymalloc=n, bincompat5005=undef
  Compiler:
    cc='cc', ccflags ='-fno-strict-aliasing -pipe -fstack-protector -I/usr/local/include -D_LARGEFILE_SOURCE -D_FILE_OFFSET_BITS=64',
    optimize='-O2',
    cppflags='-fno-strict-aliasing -pipe -fstack-protector -I/usr/local/include'
    ccversion='', gccversion='4.6.3', gccosandvers=''
    intsize=4, longsize=8, ptrsize=8, doublesize=8, byteorder=12345678
    d_longlong=define, longlongsize=8, d_longdbl=define, longdblsize=16
    ivtype='long', ivsize=8, nvtype='double', nvsize=8, Off_t='off_t', lseeksize=8
    alignbytes=8, prototype=define
  Linker and Libraries:
    ld='cc', ldflags =' -fstack-protector -L/usr/local/lib'
    libpth=/usr/local/lib /lib/x86_64-linux-gnu /lib/../lib /usr/lib/x86_64-linux-gnu /usr/lib/../lib /lib /usr/lib
    libs=-lnsl -ldl -lm -lcrypt -lutil -lc
    perllibs=-lnsl -ldl -lm -lcrypt -lutil -lc
    libc=, so=so, useshrplib=true, libperl=libperl.so
    gnulibc_version='2.15'
  Dynamic Linking:
    dlsrc=dl_dlopen.xs, dlext=so, d_dlsymun=undef, ccdlflags='-Wl,-E -Wl,-rpath,/home/rando/perl5/perlbrew/perls/16.3sf/lib/5.16.3/x86_64-linux/CORE'
    cccdlflags='-fPIC', lddlflags='-shared -O2 -L/usr/local/lib -fstack-protector'


Characteristics of this binary (from libperl): 
  Compile-time options: HAS_TIMES PERLIO_LAYERS PERL_DONT_CREATE_GVSV
                        PERL_MALLOC_WRAP PERL_PRESERVE_IVUV USE_64_BIT_ALL
                        USE_64_BIT_INT USE_LARGE_FILES USE_LOCALE
                        USE_LOCALE_COLLATE USE_LOCALE_CTYPE
                        USE_LOCALE_NUMERIC USE_PERLIO USE_PERL_ATOF
  Built under linux
  Compiled at Feb 13 2014 10:23:07
  %ENV:
    PERL5LIB=""
    PERL5OPT=""
    PERL5_CPANPLUS_IS_RUNNING="8860"
    PERL5_CPAN_IS_RUNNING="8860"
    PERLBREW_BASHRC_VERSION="0.67"
    PERLBREW_HOME="/home/rando/.perlbrew"
    PERLBREW_MANPATH="/home/rando/perl5/perlbrew/perls/local/man"
    PERLBREW_PATH="/home/rando/perl5/perlbrew/bin:/home/rando/perl5/perlbrew/perls/local/bin"
    PERLBREW_PERL="local"
    PERLBREW_ROOT="/home/rando/perl5/perlbrew"
    PERLBREW_VERSION="0.67"
    PERL_CPANM_OPT="--save-dists /home/rando/perl5/cpan/mini --mirror http://cpan.local:4999/-CPAN/ --mirror http://cpan.ezarticleinformation.com/ --mirror http://search.cpan.org/CPAN/"
  @INC:
    /home/rando/perl5/perlbrew/perls/16.3sf/lib/site_perl/5.16.3/x86_64-linux
    /home/rando/perl5/perlbrew/perls/16.3sf/lib/site_perl/5.16.3
    /home/rando/perl5/perlbrew/perls/16.3sf/lib/5.16.3/x86_64-linux
    /home/rando/perl5/perlbrew/perls/16.3sf/lib/5.16.3
    .