Test-Moose-More v0.050 Perl 5 v5.8.6 x86_64-linux-thread-multi

Status
Pass
From
Nigel Horne
Dist
Test-Moose-More v0.050
Platform
Perl 5 v5.8.6 x86_64-linux-thread-multi
Date
2017-09-23 02:06:34
ID
d3196e54-a003-11e7-933a-881d62460493
This distribution has been tested as part of the CPAN Testers
project, supporting the Perl programming language.  See
http://wiki.cpantesters.org/ for more information or email
questions to cpan-testers-discuss@perl.org


--
Dear Chris Weyl,

This is a computer-generated report for Test-Moose-More-0.050
on perl 5.8.6, created by CPAN-Reporter-1.2018.

Thank you for uploading your work to CPAN.  Congratulations!
All tests were successful.

Sections of this report:

    * Tester comments
    * Program output
    * Prerequisites
    * Environment and other context

------------------------------
TESTER COMMENTS
------------------------------

Additional comments from tester:

this report is from an automated smoke testing program
and was not reviewed by a human for accuracy

------------------------------
PROGRAM OUTPUT
------------------------------

Output from '/usr/bin/make test':

PERL_DL_NONLAZY=1 "/home/njh/perl5/perlbrew/perls/perl-5.8.6/bin/perl" "-MExtUtils::Command::MM" "-MTest::Harness" "-e" "undef *Test::Harness::Switches; test_harness(0, 'blib/lib', 'blib/arch')" t/*.t t/attribute_options_ok/*.t t/is_class_ok/*.t t/validate_attribute/*.t t/validate_class/*.t t/validate_role/*.t t/validate_thing/*.t t/wrapped/*.t
t/00-check-deps.t ...................................... ok
# 
# Versions for all modules listed in MYMETA.json (including optional ones):
# 
# === Configure Requires ===
# 
#     Module              Want Have
#     ------------------- ---- ----
#     ExtUtils::MakeMaker  any 7.24
# 
# === Build Requires ===
# 
#     Module              Want Have
#     ------------------- ---- ----
#     ExtUtils::MakeMaker  any 7.24
# 
# === Test Requires ===
# 
#     Module                  Want     Have
#     ---------------------- ----- --------
#     ExtUtils::MakeMaker      any     7.24
#     File::Spec               any     3.40
#     IO::Handle               any     1.28
#     IPC::Open3               any   1.0106
#     List::Util              1.45     1.47
#     Moose                    any   2.0801
#     Moose::Meta::Attribute   any   2.0801
#     Moose::Role              any   2.0801
#     Moose::Util::MetaRole    any   2.0801
#     TAP::SimpleOutput      0.009    0.009
#     Test::Builder::Tester    any 1.302086
#     Test::CheckDeps        0.010    0.010
#     Test::More              0.94 1.302086
#     namespace::autoclean     any     0.15
# 
# === Test Recommends ===
# 
#     Module         Want     Have
#     ---------- -------- --------
#     CPAN::Meta 2.120900 2.150005
# 
# === Runtime Requires ===
# 
#     Module                       Want     Have
#     ---------------------------- ---- --------
#     Carp                          any     1.26
#     Data::OptList                 any    0.107
#     List::MoreUtils               any     0.33
#     List::Util                   1.45     1.47
#     Moose::Util                   any   2.0801
#     Moose::Util::TypeConstraints  any   2.0801
#     Scalar::Util                  any     1.47
#     Sub::Exporter::Progressive    any 0.001008
#     Syntax::Keyword::Junction     any 0.003008
#     Test::Builder                 any 1.302086
#     Test::Moose                   any   2.0801
#     Test::More                   0.94 1.302086
#     strict                        any     1.03
#     warnings                      any     1.03
# 
t/00-report-prereqs.t .................................. ok
Warning: Use of "shift" without parentheses is ambiguous at /home/njh/.cpan/build/Test-Moose-More-0.050-9/blib/lib/Test/Moose/More.pm line 110.
Warning: Use of "shift" without parentheses is ambiguous at /home/njh/.cpan/build/Test-Moose-More-0.050-9/blib/lib/Test/Moose/More.pm line 111.
Warning: Use of "shift" without parentheses is ambiguous at /home/njh/.cpan/build/Test-Moose-More-0.050-9/blib/lib/Test/Moose/More.pm line 110.
Warning: Use of "shift" without parentheses is ambiguous at /home/njh/.cpan/build/Test-Moose-More-0.050-9/blib/lib/Test/Moose/More.pm line 111.
t/00-compile.t ......................................... ok
Warning: Use of "shift" without parentheses is ambiguous at /home/njh/.cpan/build/Test-Moose-More-0.050-9/blib/lib/Test/Moose/More.pm line 110.
Warning: Use of "shift" without parentheses is ambiguous at /home/njh/.cpan/build/Test-Moose-More-0.050-9/blib/lib/Test/Moose/More.pm line 111.
t/attribute_options_ok/basic.t ......................... ok
t/attribute_options_ok/subtest-wrapper.t ............... ok
Warning: Use of "shift" without parentheses is ambiguous at /home/njh/.cpan/build/Test-Moose-More-0.050-9/blib/lib/Test/Moose/More.pm line 110.
Warning: Use of "shift" without parentheses is ambiguous at /home/njh/.cpan/build/Test-Moose-More-0.050-9/blib/lib/Test/Moose/More.pm line 111.
t/check_sugar.t ........................................ ok
Warning: Use of "shift" without parentheses is ambiguous at /home/njh/.cpan/build/Test-Moose-More-0.050-9/blib/lib/Test/Moose/More.pm line 110.
Warning: Use of "shift" without parentheses is ambiguous at /home/njh/.cpan/build/Test-Moose-More-0.050-9/blib/lib/Test/Moose/More.pm line 111.
Warning: Use of "shift" without parentheses is ambiguous at /home/njh/.cpan/build/Test-Moose-More-0.050-9/blib/lib/Test/Moose/More.pm line 110.
Warning: Use of "shift" without parentheses is ambiguous at /home/njh/.cpan/build/Test-Moose-More-0.050-9/blib/lib/Test/Moose/More.pm line 111.
t/does_not_metaroles_ok.t .............................. ok
t/definition_context.t ................................. ok
Warning: Use of "shift" without parentheses is ambiguous at /home/njh/.cpan/build/Test-Moose-More-0.050-9/blib/lib/Test/Moose/More.pm line 110.
Warning: Use of "shift" without parentheses is ambiguous at /home/njh/.cpan/build/Test-Moose-More-0.050-9/blib/lib/Test/Moose/More.pm line 111.
Warning: Use of "shift" without parentheses is ambiguous at /home/njh/.cpan/build/Test-Moose-More-0.050-9/blib/lib/Test/Moose/More.pm line 110.
Warning: Use of "shift" without parentheses is ambiguous at /home/njh/.cpan/build/Test-Moose-More-0.050-9/blib/lib/Test/Moose/More.pm line 111.
t/does_not_ok.t ........................................ ok
t/does_metaroles_ok.t .................................. ok
Warning: Use of "shift" without parentheses is ambiguous at /home/njh/.cpan/build/Test-Moose-More-0.050-9/blib/lib/Test/Moose/More.pm line 110.
Warning: Use of "shift" without parentheses is ambiguous at /home/njh/.cpan/build/Test-Moose-More-0.050-9/blib/lib/Test/Moose/More.pm line 111.
Warning: Use of "shift" without parentheses is ambiguous at /home/njh/.cpan/build/Test-Moose-More-0.050-9/blib/lib/Test/Moose/More.pm line 110.
Warning: Use of "shift" without parentheses is ambiguous at /home/njh/.cpan/build/Test-Moose-More-0.050-9/blib/lib/Test/Moose/More.pm line 111.
t/does_ok.t ............................................ ok
t/has_attribute_ok.t ................................... ok
Warning: Use of "shift" without parentheses is ambiguous at /home/njh/.cpan/build/Test-Moose-More-0.050-9/blib/lib/Test/Moose/More.pm line 110.
Warning: Use of "shift" without parentheses is ambiguous at /home/njh/.cpan/build/Test-Moose-More-0.050-9/blib/lib/Test/Moose/More.pm line 111.
t/is_anon_ok.t ......................................... ok
Warning: Use of "shift" without parentheses is ambiguous at /home/njh/.cpan/build/Test-Moose-More-0.050-9/blib/lib/Test/Moose/More.pm line 110.
Warning: Use of "shift" without parentheses is ambiguous at /home/njh/.cpan/build/Test-Moose-More-0.050-9/blib/lib/Test/Moose/More.pm line 111.
t/is_class_ok/basic.t .................................. ok
Warning: Use of "shift" without parentheses is ambiguous at /home/njh/.cpan/build/Test-Moose-More-0.050-9/blib/lib/Test/Moose/More.pm line 110.
Warning: Use of "shift" without parentheses is ambiguous at /home/njh/.cpan/build/Test-Moose-More-0.050-9/blib/lib/Test/Moose/More.pm line 111.
t/is_class_ok/moose-meta-attribute-should-be-moosey.t .. ok
Warning: Use of "shift" without parentheses is ambiguous at /home/njh/.cpan/build/Test-Moose-More-0.050-9/blib/lib/Test/Moose/More.pm line 110.
Warning: Use of "shift" without parentheses is ambiguous at /home/njh/.cpan/build/Test-Moose-More-0.050-9/blib/lib/Test/Moose/More.pm line 111.
t/is_immutable_ok.t .................................... ok
Warning: Use of "shift" without parentheses is ambiguous at /home/njh/.cpan/build/Test-Moose-More-0.050-9/blib/lib/Test/Moose/More.pm line 110.
Warning: Use of "shift" without parentheses is ambiguous at /home/njh/.cpan/build/Test-Moose-More-0.050-9/blib/lib/Test/Moose/More.pm line 111.
t/is_not_anon_ok.t ..................................... ok
Warning: Use of "shift" without parentheses is ambiguous at /home/njh/.cpan/build/Test-Moose-More-0.050-9/blib/lib/Test/Moose/More.pm line 110.
Warning: Use of "shift" without parentheses is ambiguous at /home/njh/.cpan/build/Test-Moose-More-0.050-9/blib/lib/Test/Moose/More.pm line 111.
t/is_role_ok.t ......................................... ok
Warning: Use of "shift" without parentheses is ambiguous at /home/njh/.cpan/build/Test-Moose-More-0.050-9/blib/lib/Test/Moose/More.pm line 110.
Warning: Use of "shift" without parentheses is ambiguous at /home/njh/.cpan/build/Test-Moose-More-0.050-9/blib/lib/Test/Moose/More.pm line 111.
Warning: Use of "shift" without parentheses is ambiguous at /home/njh/.cpan/build/Test-Moose-More-0.050-9/blib/lib/Test/Moose/More.pm line 110.
Warning: Use of "shift" without parentheses is ambiguous at /home/njh/.cpan/build/Test-Moose-More-0.050-9/blib/lib/Test/Moose/More.pm line 111.
t/meta_ok.t ............................................ ok
t/method_from_pkg_ok.t ................................. ok
Warning: Use of "shift" without parentheses is ambiguous at /home/njh/.cpan/build/Test-Moose-More-0.050-9/blib/lib/Test/Moose/More.pm line 110.
Warning: Use of "shift" without parentheses is ambiguous at /home/njh/.cpan/build/Test-Moose-More-0.050-9/blib/lib/Test/Moose/More.pm line 111.
Warning: Use of "shift" without parentheses is ambiguous at /home/njh/.cpan/build/Test-Moose-More-0.050-9/blib/lib/Test/Moose/More.pm line 110.
Warning: Use of "shift" without parentheses is ambiguous at /home/njh/.cpan/build/Test-Moose-More-0.050-9/blib/lib/Test/Moose/More.pm line 111.
t/method_is_accessor_ok.t .............................. ok
t/method_is_not_accessor_ok.t .......................... ok
Warning: Use of "shift" without parentheses is ambiguous at /home/njh/.cpan/build/Test-Moose-More-0.050-9/blib/lib/Test/Moose/More.pm line 110.
Warning: Use of "shift" without parentheses is ambiguous at /home/njh/.cpan/build/Test-Moose-More-0.050-9/blib/lib/Test/Moose/More.pm line 111.
t/method_not_from_pkg_ok.t ............................. ok
Warning: Use of "shift" without parentheses is ambiguous at /home/njh/.cpan/build/Test-Moose-More-0.050-9/blib/lib/Test/Moose/More.pm line 110.
Warning: Use of "shift" without parentheses is ambiguous at /home/njh/.cpan/build/Test-Moose-More-0.050-9/blib/lib/Test/Moose/More.pm line 111.
t/method_ok.t .......................................... ok
Warning: Use of "shift" without parentheses is ambiguous at /home/njh/.cpan/build/Test-Moose-More-0.050-9/blib/lib/Test/Moose/More.pm line 110.
Warning: Use of "shift" without parentheses is ambiguous at /home/njh/.cpan/build/Test-Moose-More-0.050-9/blib/lib/Test/Moose/More.pm line 111.
Warning: Use of "shift" without parentheses is ambiguous at /home/njh/.cpan/build/Test-Moose-More-0.050-9/blib/lib/Test/Moose/More.pm line 110.
Warning: Use of "shift" without parentheses is ambiguous at /home/njh/.cpan/build/Test-Moose-More-0.050-9/blib/lib/Test/Moose/More.pm line 111.
t/no_meta_ok.t ......................................... ok
t/pristine_ok.t ........................................ ok
Warning: Use of "shift" without parentheses is ambiguous at /home/njh/.cpan/build/Test-Moose-More-0.050-9/blib/lib/Test/Moose/More.pm line 110.
Warning: Use of "shift" without parentheses is ambiguous at /home/njh/.cpan/build/Test-Moose-More-0.050-9/blib/lib/Test/Moose/More.pm line 111.
Warning: Use of "shift" without parentheses is ambiguous at /home/njh/.cpan/build/Test-Moose-More-0.050-9/blib/lib/Test/Moose/More.pm line 110.
Warning: Use of "shift" without parentheses is ambiguous at /home/njh/.cpan/build/Test-Moose-More-0.050-9/blib/lib/Test/Moose/More.pm line 111.
t/requires_method_ok.t ................................. ok
t/subtest-1.t .......................................... ok
Warning: Use of "shift" without parentheses is ambiguous at /home/njh/.cpan/build/Test-Moose-More-0.050-9/blib/lib/Test/Moose/More.pm line 110.
Warning: Use of "shift" without parentheses is ambiguous at /home/njh/.cpan/build/Test-Moose-More-0.050-9/blib/lib/Test/Moose/More.pm line 111.
Warning: Use of "shift" without parentheses is ambiguous at /home/njh/.cpan/build/Test-Moose-More-0.050-9/blib/lib/Test/Moose/More.pm line 110.
Warning: Use of "shift" without parentheses is ambiguous at /home/njh/.cpan/build/Test-Moose-More-0.050-9/blib/lib/Test/Moose/More.pm line 111.
Warning: Use of "shift" without parentheses is ambiguous at /home/njh/.cpan/build/Test-Moose-More-0.050-9/blib/lib/Test/Moose/More.pm line 110.
Warning: Use of "shift" without parentheses is ambiguous at /home/njh/.cpan/build/Test-Moose-More-0.050-9/blib/lib/Test/Moose/More.pm line 111.
Warning: Use of "shift" without parentheses is ambiguous at /home/njh/.cpan/build/Test-Moose-More-0.050-9/blib/lib/Test/Moose/More.pm line 110.
Warning: Use of "shift" without parentheses is ambiguous at /home/njh/.cpan/build/Test-Moose-More-0.050-9/blib/lib/Test/Moose/More.pm line 111.
t/validate_attribute/coerce.t .......................... ok
t/validate_attribute/in_roles.t ........................ ok
t/validate_attribute/basic.t ........................... ok
t/validate_attribute/lazy.t ............................ ok
Warning: Use of "shift" without parentheses is ambiguous at /home/njh/.cpan/build/Test-Moose-More-0.050-9/blib/lib/Test/Moose/More.pm line 110.
Warning: Use of "shift" without parentheses is ambiguous at /home/njh/.cpan/build/Test-Moose-More-0.050-9/blib/lib/Test/Moose/More.pm line 111.
Warning: Use of "shift" without parentheses is ambiguous at /home/njh/.cpan/build/Test-Moose-More-0.050-9/blib/lib/Test/Moose/More.pm line 110.
Warning: Use of "shift" without parentheses is ambiguous at /home/njh/.cpan/build/Test-Moose-More-0.050-9/blib/lib/Test/Moose/More.pm line 111.
t/validate_attribute/required.t ........................ ok
Warning: Use of "shift" without parentheses is ambiguous at /home/njh/.cpan/build/Test-Moose-More-0.050-9/blib/lib/Test/Moose/More.pm line 110.
Warning: Use of "shift" without parentheses is ambiguous at /home/njh/.cpan/build/Test-Moose-More-0.050-9/blib/lib/Test/Moose/More.pm line 111.
t/validate_class/metaroles.t ........................... ok
Warning: Use of "shift" without parentheses is ambiguous at /home/njh/.cpan/build/Test-Moose-More-0.050-9/blib/lib/Test/Moose/More.pm line 110.
Warning: Use of "shift" without parentheses is ambiguous at /home/njh/.cpan/build/Test-Moose-More-0.050-9/blib/lib/Test/Moose/More.pm line 111.
t/validate_class/metaclasses.t ......................... ok
t/validate_class/basic.t ............................... ok
Warning: Use of "shift" without parentheses is ambiguous at /home/njh/.cpan/build/Test-Moose-More-0.050-9/blib/lib/Test/Moose/More.pm line 110.
Warning: Use of "shift" without parentheses is ambiguous at /home/njh/.cpan/build/Test-Moose-More-0.050-9/blib/lib/Test/Moose/More.pm line 111.
Warning: Use of "shift" without parentheses is ambiguous at /home/njh/.cpan/build/Test-Moose-More-0.050-9/blib/lib/Test/Moose/More.pm line 110.
Warning: Use of "shift" without parentheses is ambiguous at /home/njh/.cpan/build/Test-Moose-More-0.050-9/blib/lib/Test/Moose/More.pm line 111.
t/validate_class/methods.t ............................. ok
Warning: Use of "shift" without parentheses is ambiguous at /home/njh/.cpan/build/Test-Moose-More-0.050-9/blib/lib/Test/Moose/More.pm line 110.
Warning: Use of "shift" without parentheses is ambiguous at /home/njh/.cpan/build/Test-Moose-More-0.050-9/blib/lib/Test/Moose/More.pm line 111.
Warning: Use of "shift" without parentheses is ambiguous at /home/njh/.cpan/build/Test-Moose-More-0.050-9/blib/lib/Test/Moose/More.pm line 110.
Warning: Use of "shift" without parentheses is ambiguous at /home/njh/.cpan/build/Test-Moose-More-0.050-9/blib/lib/Test/Moose/More.pm line 111.
t/validate_role/basic.t ................................ ok
t/validate_role/compose.t .............................. ok
t/validate_role/metaclasses.t .......................... ok
Warning: Use of "shift" without parentheses is ambiguous at /home/njh/.cpan/build/Test-Moose-More-0.050-9/blib/lib/Test/Moose/More.pm line 110.
Warning: Use of "shift" without parentheses is ambiguous at /home/njh/.cpan/build/Test-Moose-More-0.050-9/blib/lib/Test/Moose/More.pm line 111.
Warning: Use of "shift" without parentheses is ambiguous at /home/njh/.cpan/build/Test-Moose-More-0.050-9/blib/lib/Test/Moose/More.pm line 110.
Warning: Use of "shift" without parentheses is ambiguous at /home/njh/.cpan/build/Test-Moose-More-0.050-9/blib/lib/Test/Moose/More.pm line 111.
t/validate_role/metaroles.t ............................ ok
Warning: Use of "shift" without parentheses is ambiguous at /home/njh/.cpan/build/Test-Moose-More-0.050-9/blib/lib/Test/Moose/More.pm line 110.
Warning: Use of "shift" without parentheses is ambiguous at /home/njh/.cpan/build/Test-Moose-More-0.050-9/blib/lib/Test/Moose/More.pm line 111.
t/validate_thing/sugar.t ............................... ok
Warning: Use of "shift" without parentheses is ambiguous at /home/njh/.cpan/build/Test-Moose-More-0.050-9/blib/lib/Test/Moose/More.pm line 110.
Warning: Use of "shift" without parentheses is ambiguous at /home/njh/.cpan/build/Test-Moose-More-0.050-9/blib/lib/Test/Moose/More.pm line 111.
t/validate_thing/metaclasses.t ......................... ok
t/validate_thing/methods.t ............................. ok
Warning: Use of "shift" without parentheses is ambiguous at /home/njh/.cpan/build/Test-Moose-More-0.050-9/blib/lib/Test/Moose/More.pm line 110.
Warning: Use of "shift" without parentheses is ambiguous at /home/njh/.cpan/build/Test-Moose-More-0.050-9/blib/lib/Test/Moose/More.pm line 111.
t/wrapped/in_roles.t ................................... ok
All tests successful.

Test Summary Report
-------------------
t/00-check-deps.t                                    (Wstat: 0 Tests: 32 Failed: 0)
  TODO passed:   32
Files=45, Tests=235,  4 wallclock secs ( 0.15 usr  0.05 sys + 10.29 cusr  1.48 csys = 11.97 CPU)
Result: PASS

------------------------------
PREREQUISITES
------------------------------

Prerequisite modules loaded:

requires:

    Module                       Need  Have    
    ---------------------------- ----- --------
    Carp                         0     1.26    
    Data::OptList                0     0.107   
    List::MoreUtils              0     0.33    
    List::Util                   1.45  1.47    
    Moose::Util                  0     2.0801  
    Moose::Util::TypeConstraints 0     2.0801  
    perl                         5.006 5.008006
    Scalar::Util                 0     1.47    
    strict                       0     1.03    
    Sub::Exporter::Progressive   0     0.001008
    Syntax::Keyword::Junction    0     0.003008
    Test::Builder                0     1.302086
    Test::Moose                  0     2.0801  
    Test::More                   0.94  1.302086
    warnings                     0     1.03    

build_requires:

    Module                       Need  Have    
    ---------------------------- ----- --------
    ExtUtils::MakeMaker          0     7.24    
    File::Spec                   0     3.40    
    IO::Handle                   0     1.28    
    IPC::Open3                   0     1.0106  
    List::Util                   1.45  1.47    
    Moose                        0     2.0801  
    Moose::Meta::Attribute       0     2.0801  
    Moose::Role                  0     2.0801  
    Moose::Util::MetaRole        0     2.0801  
    namespace::autoclean         0     0.15    
    TAP::SimpleOutput            0.009 0.009   
    Test::Builder::Tester        0     1.302086
    Test::CheckDeps              0.010 0.010   
    Test::More                   0.94  1.302086

configure_requires:

    Module                       Need  Have    
    ---------------------------- ----- --------
    ExtUtils::MakeMaker          0     7.24    
    perl                         5.006 5.008006


------------------------------
ENVIRONMENT AND OTHER CONTEXT
------------------------------

Environment variables:

    AUTOMATED_TESTING = 1
    HARNESS_OPTIONS = j4
    LANG = en_GB.UTF-8
    LANGUAGE = en_GB:en
    PATH = /home/njh/perl5/perlbrew/bin:/home/njh/perl5/perlbrew/perls/perl-5.8.6/bin:/home/njh/perl5/perlbrew/bin:/usr/bin:/bin
    PERL5LIB = /home/njh/.cpan/build/TAP-SimpleOutput-0.009-8/blib/arch:/home/njh/.cpan/build/TAP-SimpleOutput-0.009-8/blib/lib:/home/njh/.cpan/build/Perl-Version-1.013-8/blib/arch:/home/njh/.cpan/build/Perl-Version-1.013-8/blib/lib:/home/njh/.cpan/build/Pod-Usage-1.69-0/blib/arch:/home/njh/.cpan/build/Pod-Usage-1.69-0/blib/lib:/home/njh/.cpan/build/podlators-4.09-0/blib/arch:/home/njh/.cpan/build/podlators-4.09-0/blib/lib:/home/njh/.cpan/build/File-Slurp-Tiny-0.004-7/blib/arch:/home/njh/.cpan/build/File-Slurp-Tiny-0.004-7/blib/lib:/home/njh/.cpan/build/Syntax-Keyword-Junction-0.003008-8/blib/arch:/home/njh/.cpan/build/Syntax-Keyword-Junction-0.003008-8/blib/lib:/home/njh/.cpan/build/syntax-0.004-8/blib/arch:/home/njh/.cpan/build/syntax-0.004-8/blib/lib:/home/njh/.cpan/build/Test-Requires-0.10-2/blib/arch:/home/njh/.cpan/build/Test-Requires-0.10-2/blib/lib:/home/njh/.cpan/build/Test-CheckDeps-0.010-6/blib/arch:/home/njh/.cpan/build/Test-CheckDeps-0.010-6/blib/lib:/home/njh/.cpan/build/Scope-Guard-0.21-9/blib/arch:/home/njh/.cpan/build/Scope-Guard-0.21-9/blib/lib:/home/njh/.cpan/build/Lingua-EN-Inflect-1.902-3/blib/arch:/home/njh/.cpan/build/Lingua-EN-Inflect-1.902-3/blib/lib
    PERL5OPT = 
    PERL5_CPANPLUS_IS_RUNNING = 15645
    PERL5_CPAN_IS_RUNNING = 15645
    PERLBREW_BASHRC_VERSION = 0.73
    PERLBREW_HOME = /home/njh/.perlbrew
    PERLBREW_LIB = 
    PERLBREW_MANPATH = /home/njh/perl5/perlbrew/perls/perl-5.8.6/man
    PERLBREW_PATH = /home/njh/perl5/perlbrew/bin:/home/njh/perl5/perlbrew/perls/perl-5.8.6/bin
    PERLBREW_PERL = perl-5.8.6
    PERLBREW_ROOT = /home/njh/perl5/perlbrew
    PERLBREW_VERSION = 0.73
    PERL_LOCAL_LIB_ROOT = 
    SHELL = /bin/sh

Perl special variables (and OS-specific diagnostics, for MSWin32):

    $^X = /home/njh/perl5/perlbrew/perls/perl-5.8.6/bin/perl
    $UID/$EUID = 1000 / 1000
    $GID = 1000 1000 112 108 46 44 30 29 25 24 4
    $EGID = 1000 1000 112 108 46 44 30 29 25 24 4

Perl module toolchain versions installed:

    Module              Have    
    ------------------- --------
    CPAN                2.16    
    CPAN::Meta          2.150005
    Cwd                 3.40    
    ExtUtils::CBuilder  0.280216
    ExtUtils::Command   7.24    
    ExtUtils::Install   1.54    
    ExtUtils::MakeMaker 7.24    
    ExtUtils::Manifest  1.70    
    ExtUtils::ParseXS   3.30    
    File::Spec          3.40    
    JSON                2.93    
    JSON::PP            2.27400 
    Module::Build       0.4210  
    Module::Signature   n/a     
    Parse::CPAN::Meta   1.4422  
    Test::Harness       3.36    
    Test::More          1.302086
    YAML                n/a     
    YAML::Syck          1.30    
    version             0.88    


--

Summary of my perl5 (revision 5 version 8 subversion 6) configuration:
  Platform:
    osname=linux, osvers=3.2.0-4-amd64, archname=x86_64-linux-thread-multi
    uname='linux nigelhorne.force9.co.uk 3.2.0-4-amd64 #1 smp debian 3.2.32-1 x86_64 gnulinux '
    config_args='-de -Dprefix=/home/njh/perl5/perlbrew/perls/perl-5.8.6 -Duseithreads -Dusemultiplicity -Accflags=-O2 -W -Wformat=2 -Wswitch -Wshadow -Wwrite-strings -Wuninitialized -Wall -pipe -mtune=native -march=native -fomit-frame-pointer -mfpmath=sse -pedantic -D_FORTIFY_SOURCE=2 -Wpointer-arith -Wstrict-prototypes -fstack-protector -Wstack-protector -Wextra -Wbad-function-cast -Wcast-align -Wcast-qual -Wdisabled-optimization -Wendif-labels -Wfloat-equal -Wformat-nonliteral -Winline -Wmissing-declarations -Wmissing-prototypes -Wnested-externs -Wpointer-arith -Wundef -Wformat-security -Aeval:scriptdir=/home/njh/perl5/perlbrew/perls/perl-5.8.6/bin'
    hint=recommended, useposix=true, d_sigaction=define
    usethreads=define use5005threads=undef useithreads=define usemultiplicity=define
    useperlio=define d_sfio=undef uselargefiles=define usesocks=undef
    use64bitint=define use64bitall=define uselongdouble=undef
    usemymalloc=n, bincompat5005=undef
  Compiler:
    cc='cc', ccflags ='-D_REENTRANT -D_GNU_SOURCE -O2 -W -Wformat=2 -Wswitch -Wshadow -Wwrite-strings -Wuninitialized -Wall -pipe -mtune=native -march=native -fomit-frame-pointer -mfpmath=sse -pedantic -D_FORTIFY_SOURCE=2 -Wpointer-arith -Wstrict-prototypes -fstack-protector -Wstack-protector -Wextra -Wbad-function-cast -Wcast-align -Wcast-qual -Wdisabled-optimization -Wendif-labels -Wfloat-equal -Wformat-nonliteral -Winline -Wmissing-declarations -Wmissing-prototypes -Wnested-externs -Wpointer-arith -Wundef -Wformat-security -fno-strict-aliasing -I/usr/local/include -D_LARGEFILE_SOURCE -D_FILE_OFFSET_BITS=64',
    optimize='-O2',
    cppflags='-D_REENTRANT -D_GNU_SOURCE -O2 -W -Wformat=2 -Wswitch -Wshadow -Wwrite-strings -Wuninitialized -Wall -pipe -mtune=native -march=native -fomit-frame-pointer -mfpmath=sse -pedantic -D_FORTIFY_SOURCE=2 -Wpointer-arith -Wstrict-prototypes -fstack-protector -Wstack-protector -Wextra -Wbad-function-cast -Wcast-align -Wcast-qual -Wdisabled-optimization -Wendif-labels -Wfloat-equal -Wformat-nonliteral -Winline -Wmissing-declarations -Wmissing-prototypes -Wnested-externs -Wpointer-arith -Wundef -Wformat-security -fno-strict-aliasing -I/usr/local/include'
    ccversion='', gccversion='4.7.2', gccosandvers=''
    intsize=4, longsize=8, ptrsize=8, doublesize=8, byteorder=12345678
    d_longlong=define, longlongsize=8, d_longdbl=define, longdblsize=16
    ivtype='long', ivsize=8, nvtype='double', nvsize=8, Off_t='off_t', lseeksize=8
    alignbytes=8, prototype=define
  Linker and Libraries:
    ld='cc', ldflags =' -L/usr/local/lib'
    libpth=/usr/local/lib /lib/x86_64-linux-gnu /lib/../lib /usr/lib/x86_64-linux-gnu /usr/lib/../lib /lib /usr/lib
    libs=-lnsl -lgdbm -ldb -ldl -lm -lcrypt -lutil -lpthread -lc -lgdbm_compat
    perllibs=-lnsl -ldl -lm -lcrypt -lutil -lpthread -lc -lgdbm_compat
    libc=, so=so, useshrplib=false, libperl=libperl.a
    gnulibc_version='2.13'
  Dynamic Linking:
    dlsrc=dl_dlopen.xs, dlext=so, d_dlsymun=undef, ccdlflags='-Wl,-E'
    cccdlflags='-fpic', lddlflags='-shared -L/usr/local/lib'


Characteristics of this binary (from libperl): 
  Compile-time options: MULTIPLICITY USE_ITHREADS USE_64_BIT_INT USE_64_BIT_ALL USE_LARGE_FILES PERL_IMPLICIT_CONTEXT
  Built under linux
  Compiled at Mar  5 2013 01:10:40
  %ENV:
    PERL5LIB="/home/njh/.cpan/build/TAP-SimpleOutput-0.009-8/blib/arch:/home/njh/.cpan/build/TAP-SimpleOutput-0.009-8/blib/lib:/home/njh/.cpan/build/Perl-Version-1.013-8/blib/arch:/home/njh/.cpan/build/Perl-Version-1.013-8/blib/lib:/home/njh/.cpan/build/Pod-Usage-1.69-0/blib/arch:/home/njh/.cpan/build/Pod-Usage-1.69-0/blib/lib:/home/njh/.cpan/build/podlators-4.09-0/blib/arch:/home/njh/.cpan/build/podlators-4.09-0/blib/lib:/home/njh/.cpan/build/File-Slurp-Tiny-0.004-7/blib/arch:/home/njh/.cpan/build/File-Slurp-Tiny-0.004-7/blib/lib:/home/njh/.cpan/build/Syntax-Keyword-Junction-0.003008-8/blib/arch:/home/njh/.cpan/build/Syntax-Keyword-Junction-0.003008-8/blib/lib:/home/njh/.cpan/build/syntax-0.004-8/blib/arch:/home/njh/.cpan/build/syntax-0.004-8/blib/lib:/home/njh/.cpan/build/Test-Requires-0.10-2/blib/arch:/home/njh/.cpan/build/Test-Requires-0.10-2/blib/lib:/home/njh/.cpan/build/Test-CheckDeps-0.010-6/blib/arch:/home/njh/.cpan/build/Test-CheckDeps-0.010-6/blib/lib:/home/njh/.cpan/build/Scope-Guard-0.21-9/blib/arch:/home/njh/.cpan/build/Scope-Guard-0.21-9/blib/lib:/home/njh/.cpan/build/Lingua-EN-Inflect-1.902-3/blib/arch:/home/njh/.cpan/build/Lingua-EN-Inflect-1.902-3/blib/lib"
    PERL5OPT=""
    PERL5_CPANPLUS_IS_RUNNING="15645"
    PERL5_CPAN_IS_RUNNING="15645"
    PERLBREW_BASHRC_VERSION="0.73"
    PERLBREW_HOME="/home/njh/.perlbrew"
    PERLBREW_LIB=""
    PERLBREW_MANPATH="/home/njh/perl5/perlbrew/perls/perl-5.8.6/man"
    PERLBREW_PATH="/home/njh/perl5/perlbrew/bin:/home/njh/perl5/perlbrew/perls/perl-5.8.6/bin"
    PERLBREW_PERL="perl-5.8.6"
    PERLBREW_ROOT="/home/njh/perl5/perlbrew"
    PERLBREW_VERSION="0.73"
    PERL_LOCAL_LIB_ROOT=""
  @INC:
    /home/njh/.cpan/build/TAP-SimpleOutput-0.009-8/blib/arch
    /home/njh/.cpan/build/TAP-SimpleOutput-0.009-8/blib/lib
    /home/njh/.cpan/build/Perl-Version-1.013-8/blib/arch
    /home/njh/.cpan/build/Perl-Version-1.013-8/blib/lib
    /home/njh/.cpan/build/Pod-Usage-1.69-0/blib/arch
    /home/njh/.cpan/build/Pod-Usage-1.69-0/blib/lib
    /home/njh/.cpan/build/podlators-4.09-0/blib/arch
    /home/njh/.cpan/build/podlators-4.09-0/blib/lib
    /home/njh/.cpan/build/File-Slurp-Tiny-0.004-7/blib/arch
    /home/njh/.cpan/build/File-Slurp-Tiny-0.004-7/blib/lib
    /home/njh/.cpan/build/Syntax-Keyword-Junction-0.003008-8/blib/arch
    /home/njh/.cpan/build/Syntax-Keyword-Junction-0.003008-8/blib/lib
    /home/njh/.cpan/build/syntax-0.004-8/blib/arch
    /home/njh/.cpan/build/syntax-0.004-8/blib/lib
    /home/njh/.cpan/build/Test-Requires-0.10-2/blib/arch
    /home/njh/.cpan/build/Test-Requires-0.10-2/blib/lib
    /home/njh/.cpan/build/Test-CheckDeps-0.010-6/blib/arch
    /home/njh/.cpan/build/Test-CheckDeps-0.010-6/blib/lib
    /home/njh/.cpan/build/Scope-Guard-0.21-9/blib/arch
    /home/njh/.cpan/build/Scope-Guard-0.21-9/blib/lib
    /home/njh/.cpan/build/Lingua-EN-Inflect-1.902-3/blib/arch
    /home/njh/.cpan/build/Lingua-EN-Inflect-1.902-3/blib/lib
    /home/njh/perl5/perlbrew/perls/perl-5.8.6/lib/5.8.6/x86_64-linux-thread-multi
    /home/njh/perl5/perlbrew/perls/perl-5.8.6/lib/5.8.6
    /home/njh/perl5/perlbrew/perls/perl-5.8.6/lib/site_perl/5.8.6/x86_64-linux-thread-multi
    /home/njh/perl5/perlbrew/perls/perl-5.8.6/lib/site_perl/5.8.6
    /home/njh/perl5/perlbrew/perls/perl-5.8.6/lib/site_perl
    .