CGI-Buffer v0.82 Perl 5 v5.26.1 amd64-freebsd
- Status
- Pass
- From
- Slaven Rezić (SREZIC)
- Dist
-
CGI-Buffer v0.82
- Platform
- Perl 5 v5.26.1 amd64-freebsd
- Date
- 2018-08-07 14:11:48
- ID
- d2b44f90-9a4b-11e8-a506-d914104a213d
This distribution has been tested as part of the CPAN Testers
project, supporting the Perl programming language. See
http://wiki.cpantesters.org/ for more information or email
questions to cpan-testers-discuss@perl.org
--
Dear Nigel Horne,
This is a computer-generated report for CGI-Buffer-0.82
on perl 5.26.1, created by CPAN-Reporter-1.2018.
Thank you for uploading your work to CPAN. Congratulations!
All tests were successful.
Sections of this report:
* Tester comments
* Program output
* Prerequisites
* Environment and other context
------------------------------
TESTER COMMENTS
------------------------------
Additional comments from tester:
none provided
------------------------------
PROGRAM OUTPUT
------------------------------
Output from '/usr/bin/make test':
PERL_DL_NONLAZY=1 "/usr/perl5.26.1p/bin/perl" "-MExtUtils::Command::MM" "-MTest::Harness" "-e" "undef *Test::Harness::Switches; test_harness(0, 'blib/lib', 'blib/arch')" t/*.t
# Testing CGI::Buffer 0.82, Perl 5.026001, /usr/perl5.26.1p/bin/perl
t/00-load.t ........ ok
t/apoc.t ........... skipped: Test::Apocalypse required for testing the distribution
t/boiler.t ......... ok
t/changes.t ........ skipped: Author tests not required for installation
t/coverage.t ....... ok
t/critic.t ......... skipped: Author tests not required for installation
t/cv.t ............. skipped: Author tests not required for installation
t/dist.t ........... skipped: Author tests not required for installation
t/gv.t ............. skipped: Author tests not required for installation
# Using CHI 0.60
t/is_cached.t ...... ok
t/js.t ............. ok
t/kwalitee.t ....... skipped: Author tests not required for installation
t/last_mod.t ....... ok
t/links.t .......... skipped: Author tests not required for installation
t/manifest.t ....... skipped: Author tests not required for installation
t/metrics.t ........ skipped: Author tests not required for installation
t/namespaces.t ..... skipped: Author tests not required for installation
t/no404s.t ......... skipped: Author tests not required for installation
# Author tests not required for installation
t/noopentickets.t .. ok
t/noplan.t ......... skipped: Author tests not required for installation
# Ignore warning about <a> is never closed
(1:59): <a> at (1:13) is never closed
(1:66): <head> tag is required
(1:66): <title> tag is required
t/output.t ......... ok
t/pod-cm.t ......... skipped: Test::Pod::Spelling::CommonMistakes required for testing POD spelling
t/pod.t ............ skipped: Author tests not required for installation
t/port.t ........... ok
t/prereq.t ......... skipped: Author tests not required for installation
t/snippets.t ....... skipped: Author tests not required for installation
t/spelling.t ....... skipped: Author tests not required for installation
t/strict.t ......... skipped: Author tests not required for installation
# Using CHI 0.60
# Ignore the error that it can't retrieve the given body
Error retrieving data for key xyzzy at t/too_late.t line 0.
Can't retrieve body for key xyzzy at t/too_late.t line 0.
Can't retrieve body for key xyzzy, cache_hash contains:
t/too_late.t ....... ok
t/unused.t ......... skipped: Author tests not required for installation
t/used.t ........... skipped: Author tests not required for installation
t/vars.t ........... skipped: Author tests not required for installation
All tests successful.
Test Summary Report
-------------------
t/boiler.t (Wstat: 0 Tests: 3 Failed: 0)
TODO passed: 1-3
Files=32, Tests=144, 7 wallclock secs ( 0.10 usr 0.05 sys + 5.02 cusr 1.80 csys = 6.97 CPU)
Result: PASS
------------------------------
PREREQUISITES
------------------------------
Prerequisite modules loaded:
requires:
Module Need Have
-------------------- -------- --------
Carp 0 1.42
CGI::Info 0.51 0.67
Compress::Zlib 0 2.081
CSS::Packer 0 2.05
Digest::MD5 0 2.55
Encode 0 2.98
File::Spec 0 3.74
HTML::Lint 0 2.32
HTML::Packer 1 2.06
HTTP::Date 0 6.02
HTTP::Status 0 6.13
IO::Compress::Brotli 0.003 0.004
IO::String 0 1.08
JavaScript::Packer 2 2.04
perl 5.006002 5.026001
Storable 0 2.62
Time::localtime 0 1.02
build_requires:
Module Need Have
-------------------- -------- --------
DateTime 0 1.49
ExtUtils::MakeMaker 0 7.34
Test::Most 0 0.35
Test::TempDir::Tiny 0 0.016
WWW::RT::CPAN 0 0.002
configure_requires:
Module Need Have
-------------------- -------- --------
ExtUtils::MakeMaker 0 7.34
------------------------------
ENVIRONMENT AND OTHER CONTEXT
------------------------------
Environment variables:
PATH = /usr/local/bin:/usr/bin:/bin:/usr/local/sbin:/usr/sbin:/sbin:/home/cpansand/bin/sh:/home/cpansand/bin:/usr/games:/home/cpansand/devel:/home/eserte/src/srezic-misc/scripts
PERL5LIB = /home/cpansand/.cpan/build/2018080723/WWW-RT-CPAN-0.002-2/blib/arch:/home/cpansand/.cpan/build/2018080723/WWW-RT-CPAN-0.002-2/blib/lib:/home/cpansand/.cpan/build/2018080723/HTML-Lint-2.32-1/blib/arch:/home/cpansand/.cpan/build/2018080723/HTML-Lint-2.32-1/blib/lib:/home/cpansand/.cpan/build/2018080723/CGI-Info-0.67-1/blib/arch:/home/cpansand/.cpan/build/2018080723/CGI-Info-0.67-1/blib/lib:/home/cpansand/.cpan/build/2018080723/Tie-Filehandle-Preempt-Stdin-0.02-1/blib/arch:/home/cpansand/.cpan/build/2018080723/Tie-Filehandle-Preempt-Stdin-0.02-1/blib/lib:/home/cpansand/.cpan/build/2018080723/String-Clean-0.031-1/blib/arch:/home/cpansand/.cpan/build/2018080723/String-Clean-0.031-1/blib/lib:/home/cpansand/.cpan/build/2018080723/Class-Autouse-2.01-1/blib/arch:/home/cpansand/.cpan/build/2018080723/Class-Autouse-2.01-1/blib/lib
PERL5OPT =
PERL5_CPANPLUS_IS_RUNNING = 75456
PERL5_CPAN_IS_RUNNING = 75456
PERL5_CPAN_IS_RUNNING_IN_RECURSION = 74024,75456
PERL_BATCH = yes
PERL_CANARY_STABILITY_NOPROMPT = 1
PERL_CPAN_REPORTER_CONFIG = /var/tmp/cpansmoker-1023/2018080723/cpanreporter_000_config.ini
PERL_EXTUTILS_AUTOINSTALL = --defaultdeps
PERL_USE_UNSAFE_INC = 1
SHELL = /bin/sh
TMPDIR = /var/tmp/cpansmoker-1023/2018080723
Perl special variables (and OS-specific diagnostics, for MSWin32):
$^X = /usr/perl5.26.1p/bin/perl
$UID/$EUID = 1023 / 1023
$GID = 1023 1023
$EGID = 1023 1023
Perl module toolchain versions installed:
Module Have
------------------- --------
CPAN 2.18
CPAN::Meta 2.150010
Cwd 3.74
ExtUtils::CBuilder 0.280230
ExtUtils::Command 7.34
ExtUtils::Install 2.06
ExtUtils::MakeMaker 7.34
ExtUtils::Manifest 1.70
ExtUtils::ParseXS 3.34
File::Spec 3.74
JSON 2.97001
JSON::PP 2.94
Module::Build 0.4224
Module::Signature 0.81
Parse::CPAN::Meta 2.150010
Test::Harness 3.42
Test::More 1.302136
YAML 1.26
YAML::Syck 1.30
version 0.9917
--
Summary of my perl5 (revision 5 version 26 subversion 1) configuration:
Platform:
osname=freebsd
osvers=11.1-stable
archname=amd64-freebsd
uname='freebsd ali3.bbbike.org 11.1-stable freebsd 11.1-stable #1 21e3b2eb0af(stable11): thu oct 19 19:30:51 utc 2017 root@ali3.bbbike.org:usrobjhomeprojectsfreebsdsysgeneric amd64 '
config_args='-ds -e -Dprefix=/usr/perl5.26.1p -Dcf_email=srezic@cpan.org -Doptimize=-O2 -pipe'
hint=recommended
useposix=true
d_sigaction=define
useithreads=undef
usemultiplicity=undef
use64bitint=define
use64bitall=define
uselongdouble=undef
usemymalloc=n
default_inc_excludes_dot=define
bincompat5005=undef
Compiler:
cc='cc'
ccflags ='-DHAS_FPSETMASK -DHAS_FLOATINGPOINT_H -fno-strict-aliasing -pipe -fstack-protector-strong -I/usr/local/include -D_FORTIFY_SOURCE=2'
optimize='-O2 -pipe'
cppflags='-DHAS_FPSETMASK -DHAS_FLOATINGPOINT_H -fno-strict-aliasing -pipe -fstack-protector-strong -I/usr/local/include'
ccversion=''
gccversion='4.2.1 Compatible FreeBSD Clang 5.0.0 (tags/RELEASE_500/final 312559)'
gccosandvers=''
intsize=4
longsize=8
ptrsize=8
doublesize=8
byteorder=12345678
doublekind=3
d_longlong=define
longlongsize=8
d_longdbl=define
longdblsize=16
longdblkind=3
ivtype='long'
ivsize=8
nvtype='double'
nvsize=8
Off_t='off_t'
lseeksize=8
alignbytes=8
prototype=define
Linker and Libraries:
ld='cc'
ldflags ='-pthread -Wl,-E -fstack-protector-strong -L/usr/local/lib'
libpth=/usr/lib /usr/local/lib /usr/lib/clang/5.0.0/lib /usr/lib
libs=-lpthread -lgdbm -lm -lcrypt -lutil -lc
perllibs=-lpthread -lm -lcrypt -lutil -lc
libc=
so=so
useshrplib=false
libperl=libperl.a
gnulibc_version=''
Dynamic Linking:
dlsrc=dl_dlopen.xs
dlext=so
d_dlsymun=undef
ccdlflags=' '
cccdlflags='-DPIC -fPIC'
lddlflags='-shared -L/usr/local/lib -fstack-protector-strong'
Characteristics of this binary (from libperl):
Compile-time options:
HAS_TIMES
PERLIO_LAYERS
PERL_COPY_ON_WRITE
PERL_DONT_CREATE_GVSV
PERL_MALLOC_WRAP
PERL_OP_PARENT
PERL_PRESERVE_IVUV
USE_64_BIT_ALL
USE_64_BIT_INT
USE_LARGE_FILES
USE_LOCALE
USE_LOCALE_COLLATE
USE_LOCALE_CTYPE
USE_LOCALE_NUMERIC
USE_LOCALE_TIME
USE_PERLIO
USE_PERL_ATOF
Built under freebsd
Compiled at Oct 31 2017 01:02:57
%ENV:
PERL5LIB="/home/cpansand/.cpan/build/2018080723/WWW-RT-CPAN-0.002-2/blib/arch:/home/cpansand/.cpan/build/2018080723/WWW-RT-CPAN-0.002-2/blib/lib:/home/cpansand/.cpan/build/2018080723/HTML-Lint-2.32-1/blib/arch:/home/cpansand/.cpan/build/2018080723/HTML-Lint-2.32-1/blib/lib:/home/cpansand/.cpan/build/2018080723/CGI-Info-0.67-1/blib/arch:/home/cpansand/.cpan/build/2018080723/CGI-Info-0.67-1/blib/lib:/home/cpansand/.cpan/build/2018080723/Tie-Filehandle-Preempt-Stdin-0.02-1/blib/arch:/home/cpansand/.cpan/build/2018080723/Tie-Filehandle-Preempt-Stdin-0.02-1/blib/lib:/home/cpansand/.cpan/build/2018080723/String-Clean-0.031-1/blib/arch:/home/cpansand/.cpan/build/2018080723/String-Clean-0.031-1/blib/lib:/home/cpansand/.cpan/build/2018080723/Class-Autouse-2.01-1/blib/arch:/home/cpansand/.cpan/build/2018080723/Class-Autouse-2.01-1/blib/lib"
PERL5OPT=""
PERL5_CPANPLUS_IS_RUNNING="75456"
PERL5_CPAN_IS_RUNNING="75456"
PERL5_CPAN_IS_RUNNING_IN_RECURSION="74024,75456"
PERL_BATCH="yes"
PERL_CANARY_STABILITY_NOPROMPT="1"
PERL_CPAN_REPORTER_CONFIG="/var/tmp/cpansmoker-1023/2018080723/cpanreporter_000_config.ini"
PERL_EXTUTILS_AUTOINSTALL="--defaultdeps"
PERL_USE_UNSAFE_INC="1"
@INC:
/home/cpansand/.cpan/build/2018080723/WWW-RT-CPAN-0.002-2/blib/arch
/home/cpansand/.cpan/build/2018080723/WWW-RT-CPAN-0.002-2/blib/lib
/home/cpansand/.cpan/build/2018080723/HTML-Lint-2.32-1/blib/arch
/home/cpansand/.cpan/build/2018080723/HTML-Lint-2.32-1/blib/lib
/home/cpansand/.cpan/build/2018080723/CGI-Info-0.67-1/blib/arch
/home/cpansand/.cpan/build/2018080723/CGI-Info-0.67-1/blib/lib
/home/cpansand/.cpan/build/2018080723/Tie-Filehandle-Preempt-Stdin-0.02-1/blib/arch
/home/cpansand/.cpan/build/2018080723/Tie-Filehandle-Preempt-Stdin-0.02-1/blib/lib
/home/cpansand/.cpan/build/2018080723/String-Clean-0.031-1/blib/arch
/home/cpansand/.cpan/build/2018080723/String-Clean-0.031-1/blib/lib
/home/cpansand/.cpan/build/2018080723/Class-Autouse-2.01-1/blib/arch
/home/cpansand/.cpan/build/2018080723/Class-Autouse-2.01-1/blib/lib
/usr/perl5.26.1p/lib/site_perl/5.26.1/amd64-freebsd
/usr/perl5.26.1p/lib/site_perl/5.26.1
/usr/perl5.26.1p/lib/5.26.1/amd64-freebsd
/usr/perl5.26.1p/lib/5.26.1
.