CPANPLUS v0.9916 Perl 5 v5.16.3 darwin-thread-multi-2level

Status
Pass
From
David Cantrell (DCANTRELL)
Dist
CPANPLUS v0.9916
Platform
Perl 5 v5.16.3 darwin-thread-multi-2level
Date
2025-07-30 21:47:43
ID
d26ca3d4-6d8e-11f0-bb06-5cec1ef3b414
This distribution has been tested as part of the CPAN Testers
project, supporting the Perl programming language.  See
http://wiki.cpantesters.org/ for more information or email
questions to cpan-testers-discuss@perl.org


--
Dear Chris Williams,

This is a computer-generated report for CPANPLUS-0.9916
on perl 5.16.3, created by CPAN-Reporter-1.2019.

Thank you for uploading your work to CPAN.  Congratulations!
All tests were successful.

Sections of this report:

    * Tester comments
    * Program output
    * Prerequisites
    * Environment and other context

------------------------------
TESTER COMMENTS
------------------------------

Additional comments from tester:

this report is from an automated smoke testing program
and was not reviewed by a human for accuracy

------------------------------
PROGRAM OUTPUT
------------------------------

Output from '/usr/bin/make test':

PERL_DL_NONLAZY=1 "/Users/cpantesting/cpantesting/perl-5.16.3/bin/perl" "-MExtUtils::Command::MM" "-MTest::Harness" "-e" "undef *Test::Harness::Switches; test_harness(0, 'inc', 'blib/lib', 'blib/arch')" t/*.t
t/08_CPANPLUS-Backend.t ....................... ok
t/00_CPANPLUS-Internals-Utils.t ............... ok
t/01_CPANPLUS-Configure.t ..................... ok
t/02_CPANPLUS-Internals.t ..................... ok
t/031_CPANPLUS-Internals-Source-SQLite.t ...... skipped: SQLite engine not available
t/032_CPANPLUS-Internals-Source-via-sqlite.t .. skipped: SQLite engine not available
t/03_CPANPLUS-Internals-Source.t .............. ok
t/04_CPANPLUS-Module.t ........................ ok
t/05_CPANPLUS-Internals-Fetch.t ............... ok
t/06_CPANPLUS-Internals-Constants.t ........... ok
t/07_CPANPLUS-Internals-Extract.t ............. ok
t/09_CPANPLUS-Internals-Search.t .............. ok
t/10_CPANPLUS-Error.t ......................... ok
t/15_CPANPLUS-Shell.t ......................... ok
t/19_CPANPLUS-Dist.t .......................... ok
t/20_CPANPLUS-Dist-MM.t ....................... ok
t/21_CPANPLUS-Dist-No-Build.t ................. ok
t/25_CPANPLUS.t ............................... ok
t/30_CPANPLUS-Internals-Selfupdate.t .......... ok
t/40_CPANPLUS-Internals-Report.t .............. ok
All tests successful.
Files=20, Tests=1708, 47 wallclock secs ( 0.38 usr  0.10 sys + 29.74 cusr 12.46 csys = 42.68 CPU)
Result: PASS

------------------------------
PREREQUISITES
------------------------------

Prerequisite modules loaded:

requires:

    Module                    Need    Have    
    ------------------------- ------- --------
    Archive::Extract          0.16    0.58    
    Archive::Tar              1.23    1.82    
    Digest::SHA               0.0     5.71    
    ExtUtils::Install         1.42    2.06    
    File::Fetch               0.15_02 0.32    
    File::Spec                0.82    3.39_02 
    IO::Zlib                  1.04    1.10    
    IPC::Cmd                  0.36    0.76    
    Locale::Maketext::Simple  0.01    0.21    
    Log::Message              0.01    0.04    
    Module::CoreList          2.22    2.76_02 
    Module::Load              0.10    0.36    
    Module::Load::Conditional 0.50    0.74    
    Module::Loaded            0.01    0.08    
    Module::Pluggable         2.4     4.0     
    Object::Accessor          0.44    0.48    
    Package::Constants        0.01    0.02    
    Params::Check             0.36    0.38    
    Parse::CPAN::Meta         1.4200  1.4414  
    Storable                  0.0     2.34    
    Term::UI                  0.18    0.30    
    Test::Harness             2.62    3.52    
    Test::More                0.47    1.302214
    version                   0.77    0.99    

build_requires:

    Module                    Need    Have    
    ------------------------- ------- --------
    ExtUtils::MakeMaker       6.36    7.58    


------------------------------
ENVIRONMENT AND OTHER CONTEXT
------------------------------

Environment variables:

    AUTOMATED_TESTING = 1
    LANG = en_GB.UTF-8
    LC_TERMINAL = iTerm2
    LC_TERMINAL_VERSION = 3.5.14
    NONINTERACTIVE_TESTING = 1
    PATH = /Users/cpantesting/perl5/perlbrew/bin:/Users/cpantesting/perl5/perlbrew/perls/perl-5.32.0/bin:/usr/local/bin:/System/Cryptexes/App/usr/bin:/usr/bin:/bin:/usr/sbin:/sbin:/var/run/com.apple.security.cryptexd/codex.system/bootstrap/usr/local/bin:/var/run/com.apple.security.cryptexd/codex.system/bootstrap/usr/bin:/var/run/com.apple.security.cryptexd/codex.system/bootstrap/usr/appleinternal/bin:/opt/X11/bin:/Library/Apple/usr/bin:/Applications/VMware Fusion.app/Contents/Public:/usr/local/zfs/bin:/Users/cpantesting/.cargo/bin
    PERL = 5.16.3
    PERL5LIB = 
    PERL5OPT = 
    PERL5_CPANPLUS_IS_RUNNING = 41631
    PERL5_CPAN_IS_RUNNING = 41631
    PERLBREW_HOME = /Users/cpantesting/.perlbrew
    PERLBREW_MANPATH = /Users/cpantesting/perl5/perlbrew/perls/perl-5.32.0/man
    PERLBREW_PATH = /Users/cpantesting/perl5/perlbrew/bin:/Users/cpantesting/perl5/perlbrew/perls/perl-5.32.0/bin
    PERLBREW_PERL = perl-5.32.0
    PERLBREW_ROOT = /Users/cpantesting/perl5/perlbrew
    PERLBREW_SHELLRC_VERSION = 0.94
    PERLBREW_VERSION = 0.94
    PERLVER = 5.16.3
    PERL_INLINE_DIRECTORY = /Users/cpantesting/.Inline-5.16.3
    PERL_MM_USE_DEFAULT = 1
    PERL_USE_UNSAFE_INC = 0
    SHELL = /bin/bash
    TERM = screen
    TMPDIR = /var/folders/zy/47mkymr176b35xhyp425tk7h0000gq/T/

Perl special variables (and OS-specific diagnostics, for MSWin32):

    $^X = /Users/cpantesting/cpantesting/perl-5.16.3/bin/perl
    $UID/$EUID = 503 / 503
    $GID = 20 20 12 61 399 703 702 701 100
    $EGID = 20 20 12 61 399 703 702 701 100

Perl module toolchain versions installed:

    Module              Have    
    ------------------- --------
    CPAN                1.9800  
    CPAN::Meta          2.143240
    Cwd                 3.39_02 
    ExtUtils::CBuilder  0.280235
    ExtUtils::Command   7.58    
    ExtUtils::Install   2.06    
    ExtUtils::MakeMaker 7.58    
    ExtUtils::Manifest  1.70    
    ExtUtils::ParseXS   3.16    
    File::Spec          3.39_02 
    JSON                4.10    
    JSON::PP            4.05    
    Module::Build       0.4234  
    Module::Signature   n/a     
    Parse::CPAN::Meta   1.4414  
    Test2               1.302214
    Test::Harness       3.52    
    Test::More          1.302214
    YAML                n/a     
    YAML::Syck          n/a     
    version             0.99    


--

Summary of my perl5 (revision 5 version 16 subversion 3) configuration:
   
  Platform:
    osname=darwin, osvers=19.6.0, archname=darwin-thread-multi-2level
    uname='darwin harrow.local 19.6.0 darwin kernel version 19.6.0: thu oct 29 22:56:45 pdt 2020; root:xnu-6153.141.2.2~1release_x86_64 x86_64 '
    config_args='-de -Dusethreads -Dprefix=/Users/cpantesting/cpantesting/perl-5.16.3'
    hint=recommended, useposix=true, d_sigaction=define
    useithreads=define, usemultiplicity=define
    useperlio=define, d_sfio=undef, uselargefiles=define, usesocks=undef
    use64bitint=define, use64bitall=define, uselongdouble=undef
    usemymalloc=n, bincompat5005=undef
  Compiler:
    cc='cc', ccflags ='-fno-common -DPERL_DARWIN -fno-strict-aliasing -pipe -fstack-protector -I/usr/local/include',
    optimize='-O3',
    cppflags='-fno-common -DPERL_DARWIN -fno-strict-aliasing -pipe -fstack-protector -I/usr/local/include'
    ccversion='', gccversion='Apple LLVM 12.0.0 (clang-1200.0.32.27)', gccosandvers=''
    intsize=4, longsize=8, ptrsize=8, doublesize=8, byteorder=12345678
    d_longlong=define, longlongsize=8, d_longdbl=define, longdblsize=16
    ivtype='long', ivsize=8, nvtype='double', nvsize=8, Off_t='off_t', lseeksize=8
    alignbytes=8, prototype=define
  Linker and Libraries:
    ld='env MACOSX_DEPLOYMENT_TARGET=10.3 cc', ldflags =' -fstack-protector -L/usr/local/lib'
    libpth=/usr/local/lib /usr/lib
    libs=-lgdbm -ldbm -ldl -lm -lutil -lc
    perllibs=-ldl -lm -lutil -lc
    libc=, so=dylib, useshrplib=false, libperl=libperl.a
    gnulibc_version=''
  Dynamic Linking:
    dlsrc=dl_dlopen.xs, dlext=bundle, d_dlsymun=undef, ccdlflags=' '
    cccdlflags=' ', lddlflags=' -bundle -undefined dynamic_lookup -L/usr/local/lib -fstack-protector'


Characteristics of this binary (from libperl): 
  Compile-time options: HAS_TIMES MULTIPLICITY PERLIO_LAYERS
                        PERL_DONT_CREATE_GVSV PERL_IMPLICIT_CONTEXT
                        PERL_MALLOC_WRAP PERL_PRESERVE_IVUV USE_64_BIT_ALL
                        USE_64_BIT_INT USE_ITHREADS USE_LARGE_FILES
                        USE_LOCALE USE_LOCALE_COLLATE USE_LOCALE_CTYPE
                        USE_LOCALE_NUMERIC USE_PERLIO USE_PERL_ATOF
                        USE_REENTRANT_API
  Built under darwin
  Compiled at Dec 29 2020 22:52:51
  %ENV:
    PERL="5.16.3"
    PERL5LIB=""
    PERL5OPT=""
    PERL5_CPANPLUS_IS_RUNNING="41631"
    PERL5_CPAN_IS_RUNNING="41631"
    PERLBREW_HOME="/Users/cpantesting/.perlbrew"
    PERLBREW_MANPATH="/Users/cpantesting/perl5/perlbrew/perls/perl-5.32.0/man"
    PERLBREW_PATH="/Users/cpantesting/perl5/perlbrew/bin:/Users/cpantesting/perl5/perlbrew/perls/perl-5.32.0/bin"
    PERLBREW_PERL="perl-5.32.0"
    PERLBREW_ROOT="/Users/cpantesting/perl5/perlbrew"
    PERLBREW_SHELLRC_VERSION="0.94"
    PERLBREW_VERSION="0.94"
    PERLVER="5.16.3"
    PERL_INLINE_DIRECTORY="/Users/cpantesting/.Inline-5.16.3"
    PERL_MM_USE_DEFAULT="1"
    PERL_USE_UNSAFE_INC="0"
  @INC:
    /Users/cpantesting/cpantesting/perl-5.16.3/lib/site_perl/5.16.3/darwin-thread-multi-2level
    /Users/cpantesting/cpantesting/perl-5.16.3/lib/site_perl/5.16.3
    /Users/cpantesting/cpantesting/perl-5.16.3/lib/5.16.3/darwin-thread-multi-2level
    /Users/cpantesting/cpantesting/perl-5.16.3/lib/5.16.3
    .