Back
From: metabase:user:314402c4-2aae-11df-837a-5e0a49663a4f
Subject: PASS RDF-Query-2.916 v5.20.2 FreeBSD
Date: 2015-10-16T15:44:44Z
This distribution has been tested as part of the CPAN Testers
project, supporting the Perl programming language. See
http://wiki.cpantesters.org/ for more information or email
questions to cpan-testers-discuss@perl.org
--
Dear Gregory Todd Williams,
This is a computer-generated report for RDF-Query-2.916
on perl 5.20.2, created by CPAN-Reporter-1.2015.
Thank you for uploading your work to CPAN. Congratulations!
All tests were successful.
Sections of this report:
* Tester comments
* Program output
* Prerequisites
* Environment and other context
------------------------------
TESTER COMMENTS
------------------------------
Additional comments from tester:
none provided
------------------------------
PROGRAM OUTPUT
------------------------------
Output from '/usr/bin/make test':
PERL_DL_NONLAZY=1 "/usr/perl5.20.2p/bin/perl" "-MExtUtils::Command::MM" "-MTest::Harness" "-e" "undef *Test::Harness::Switches; test_harness(0, 'inc', 'blib/lib', 'blib/arch')" t/*.t
t/00-simple.t .................... ok
t/01-coverage.t .................. ok
t/algebra-bgp.t .................. ok
t/algebra-expr.t ................. ok
t/algebra-func.t ................. ok
t/algebra-subsumption.t .......... ok
t/algebra.t ...................... ok
t/constraints.t .................. ok
t/dataset-from-file.t ............ ok
t/dataset-from-net.t ............. skipped: No network. Set RDFQUERY_NETWORK_TESTS to run these tests.
t/dev-computed-statements.t ...... ok
t/ext-select-expr.t .............. ok
t/filters.t ...................... ok
t/functions.t .................... ok
t/hooks.t ........................ skipped: No network. Set RDFQUERY_NETWORK_TESTS to run these tests.
t/iterators.t .................... ok
t/literals.t ..................... ok
t/named-graphs.t ................. ok
t/optional.t ..................... ok
t/plan.t ......................... skipped: Developer tests. Set RDFQUERY_DEV_TESTS to run these tests.
t/protocol-serialization.t ....... ok
t/queryform-ask.t ................ ok
t/queryform-construct.t .......... ok
t/queryform-describe.t ........... ok
t/rdql.t ......................... ok
t/resultforms.t .................. ok
t/serialize.t .................... ok
t/sparql11-aggregates.t .......... ok
t/sparql11-federation.t .......... ok
t/sparql11-negation.t ............ ok
t/sparql11-propery_paths.t ....... ok
t/sparql11-select_expressions.t .. ok
t/sparql11-subselect.t ........... ok
t/sparql11-update.t .............. ok
t/syntactic_forms.t .............. ok
t/union.t ........................ ok
All tests successful.
Files=36, Tests=1139, 92 wallclock secs ( 0.22 usr 0.25 sys + 77.48 cusr 7.35 csys = 85.30 CPU)
Result: PASS
------------------------------
PREREQUISITES
------------------------------
Prerequisite modules loaded:
requires:
Module Need Have
------------------------ ----- --------
Data::UUID 0 1.221
DateTime::Format::W3CDTF 0 0.06
Digest::SHA 0 5.88
Error 0 0.17023
File::Spec 0 3.48_01
File::Temp 0 0.2304
I18N::LangTags 0 0.40
JSON 2 2.90
Module::Pluggable 0 5.2
Parse::RecDescent 0 1.967012
RDF::Trine 1.004 1.014
Scalar::Util 0 1.42
Set::Scalar 0 1.29
URI 1.52 1.69
build_requires:
Module Need Have
------------------------ ----- --------
ExtUtils::MakeMaker 6.36 7.10
FindBin 0 1.51
Test::Exception 0 0.40
Test::JSON 0 0.11
Test::More 0.88 1.001014
YAML 0 1.15
configure_requires:
Module Need Have
------------------------ ----- --------
ExtUtils::MakeMaker 6.36 7.10
------------------------------
ENVIRONMENT AND OTHER CONTEXT
------------------------------
Environment variables:
LC_ALL = de_DE.ISO8859-1
PATH = /usr/local/bin:/usr/bin:/bin:/usr/local/sbin:/usr/sbin:/sbin:/home/cpansand/bin/freebsd10.1:/home/cpansand/bin/sh:/home/cpansand/bin:/usr/games:/home/cpansand/devel:/home/eserte/src/srezic-misc/scripts
PERL5LIB = /home/cpansand/.cpan/build/2015101615/DateTimeX-Immutable-0.36-7m7nhZ/blib/arch:/home/cpansand/.cpan/build/2015101615/DateTimeX-Immutable-0.36-7m7nhZ/blib/lib
PERL5OPT =
PERL5_CPANPLUS_IS_RUNNING = 51383
PERL5_CPAN_IS_RUNNING = 51383
PERL5_CPAN_IS_RUNNING_IN_RECURSION = 51345,51383
PERLDOC = -MPod::Perldoc::ToTextOverstrike
PERL_BATCH = yes
PERL_CANARY_STABILITY_NOPROMPT = 1
PERL_CPAN_REPORTER_CONFIG = /var/tmp/cpansmoker-1023/2015101615/cpanreporter_000_config.ini
PERL_EXTUTILS_AUTOINSTALL = --defaultdeps
SHELL = /usr/local/bin/zsh
TERM = screen
TMPDIR = /var/tmp/cpansmoker-1023/2015101615
Perl special variables (and OS-specific diagnostics, for MSWin32):
$^X = /usr/perl5.20.2p/bin/perl
$UID/$EUID = 1023 / 1023
$GID = 1023 1023
$EGID = 1023 1023
Perl module toolchain versions installed:
Module Have
------------------- --------
CPAN 2.10
CPAN::Meta 2.150005
Cwd 3.48_01
ExtUtils::CBuilder 0.280224
ExtUtils::Command 7.10
ExtUtils::Install 1.67
ExtUtils::MakeMaker 7.10
ExtUtils::Manifest 1.70
ExtUtils::ParseXS 3.24
File::Spec 3.48_01
JSON 2.90
JSON::PP 2.27203
Module::Build 0.4214
Module::Signature 0.79
Parse::CPAN::Meta 1.4417
Test::Harness 3.35
Test::More 1.001014
YAML 1.15
YAML::Syck 1.29
version 0.9912
--
Summary of my perl5 (revision 5 version 20 subversion 2) configuration:
Platform:
osname=freebsd, osvers=10.1-release, archname=amd64-freebsd
uname='freebsd cvrsnica-freebsd-101.herceg.de 10.1-release freebsd 10.1-release #0 r274401: tue nov 11 21:02:49 utc 2014 root@releng1.nyi.freebsd.org:usrobjusrsrcsysgeneric amd64 '
config_args='-ds -e -Dprefix=/usr/perl5.20.2p'
hint=recommended, useposix=true, d_sigaction=define
useithreads=undef, usemultiplicity=undef
use64bitint=define, use64bitall=define, uselongdouble=undef
usemymalloc=n, bincompat5005=undef
Compiler:
cc='cc', ccflags ='-DHAS_FPSETMASK -DHAS_FLOATINGPOINT_H -fno-strict-aliasing -pipe -fstack-protector -I/usr/local/include',
optimize='-O',
cppflags='-DHAS_FPSETMASK -DHAS_FLOATINGPOINT_H -fno-strict-aliasing -pipe -fstack-protector -I/usr/local/include'
ccversion='', gccversion='4.2.1 Compatible FreeBSD Clang 3.4.1 (tags/RELEASE_34/dot1-final 208032)', gccosandvers=''
intsize=4, longsize=8, ptrsize=8, doublesize=8, byteorder=12345678
d_longlong=define, longlongsize=8, d_longdbl=define, longdblsize=16
ivtype='long', ivsize=8, nvtype='double', nvsize=8, Off_t='off_t', lseeksize=8
alignbytes=8, prototype=define
Linker and Libraries:
ld='cc', ldflags ='-pthread -Wl,-E -fstack-protector -L/usr/local/lib'
libpth=/usr/lib /usr/local/lib /usr/include/clang/3.4.1 /usr/lib
libs=-lgdbm -lm -lcrypt -lutil -lc
perllibs=-lm -lcrypt -lutil -lc
libc=, so=so, useshrplib=false, libperl=libperl.a
gnulibc_version=''
Dynamic Linking:
dlsrc=dl_dlopen.xs, dlext=so, d_dlsymun=undef, ccdlflags=' '
cccdlflags='-DPIC -fPIC', lddlflags='-shared -L/usr/local/lib -fstack-protector'
Characteristics of this binary (from libperl):
Compile-time options: HAS_TIMES PERLIO_LAYERS PERL_DONT_CREATE_GVSV
PERL_HASH_FUNC_ONE_AT_A_TIME_HARD PERL_MALLOC_WRAP
PERL_NEW_COPY_ON_WRITE PERL_PRESERVE_IVUV
USE_64_BIT_ALL USE_64_BIT_INT USE_LARGE_FILES
USE_LOCALE USE_LOCALE_COLLATE USE_LOCALE_CTYPE
USE_LOCALE_NUMERIC USE_PERLIO USE_PERL_ATOF
Built under freebsd
Compiled at Feb 14 2015 20:35:40
%ENV:
PERL5LIB="/home/cpansand/.cpan/build/2015101615/DateTimeX-Immutable-0.36-7m7nhZ/blib/arch:/home/cpansand/.cpan/build/2015101615/DateTimeX-Immutable-0.36-7m7nhZ/blib/lib"
PERL5OPT=""
PERL5_CPANPLUS_IS_RUNNING="51383"
PERL5_CPAN_IS_RUNNING="51383"
PERL5_CPAN_IS_RUNNING_IN_RECURSION="51345,51383"
PERLDOC="-MPod::Perldoc::ToTextOverstrike"
PERL_BATCH="yes"
PERL_CANARY_STABILITY_NOPROMPT="1"
PERL_CPAN_REPORTER_CONFIG="/var/tmp/cpansmoker-1023/2015101615/cpanreporter_000_config.ini"
PERL_EXTUTILS_AUTOINSTALL="--defaultdeps"
@INC:
/home/cpansand/.cpan/build/2015101615/DateTimeX-Immutable-0.36-7m7nhZ/blib/arch
/home/cpansand/.cpan/build/2015101615/DateTimeX-Immutable-0.36-7m7nhZ/blib/lib
/usr/perl5.20.2p/lib/site_perl/5.20.2/amd64-freebsd
/usr/perl5.20.2p/lib/site_perl/5.20.2
/usr/perl5.20.2p/lib/5.20.2/amd64-freebsd
/usr/perl5.20.2p/lib/5.20.2
.