Test-Class-Moose v0.93 Perl 5 v5.20.2 x86_64-linux-thread-multi
- Status
- Pass
- From
- Nigel Horne
- Dist
-
Test-Class-Moose v0.93
- Platform
- Perl 5 v5.20.2 x86_64-linux-thread-multi
- Date
- 2018-08-15 03:46:41
- ID
- d2218ea6-a03d-11e8-ac4b-91e1574f9e0a
This distribution has been tested as part of the CPAN Testers
project, supporting the Perl programming language. See
http://wiki.cpantesters.org/ for more information or email
questions to cpan-testers-discuss@perl.org
--
Dear Dave Rolsky,
This is a computer-generated report for Test-Class-Moose-0.93
on perl 5.20.2, created by CPAN-Reporter-1.2018.
Thank you for uploading your work to CPAN. Congratulations!
All tests were successful.
Sections of this report:
* Tester comments
* Program output
* Prerequisites
* Environment and other context
------------------------------
TESTER COMMENTS
------------------------------
Additional comments from tester:
this report is from an automated smoke testing program
and was not reviewed by a human for accuracy
------------------------------
PROGRAM OUTPUT
------------------------------
Output from '/usr/bin/make test':
PERL_DL_NONLAZY=1 "/home/njh/perl5/perlbrew/perls/perl-5.20.2/bin/perl" "-MExtUtils::Command::MM" "-MTest::Harness" "-e" "undef *Test::Harness::Switches; test_harness(0, 'blib/lib', 'blib/arch')" t/*.t
#
# Versions for all modules listed in MYMETA.json (including optional ones):
#
# === Configure Requires ===
#
# Module Want Have
# ------------------- ---- ----
# ExtUtils::MakeMaker any 7.34
#
# === Build Requires ===
#
# Module Want Have
# ------------------- ---- ----
# ExtUtils::MakeMaker any 7.34
#
# === Test Requires ===
#
# Module Want Have
# --------------------- -------- --------
# ExtUtils::MakeMaker any 7.34
# File::Spec any 3.74
# File::Temp any 0.2304
# Test2::Tools::Basic any 0.000114
# Test2::Tools::Class any 0.000114
# Test2::Tools::Compare any 0.000114
# Test2::Tools::Subtest any 0.000114
# Test2::V0 any 0.000114
# Test::Builder any 1.302136
# Test::More 1.302015 1.302136
# Test::Requires any 0.08
# Test::Warnings any 0.026
# lib any 0.63
#
# === Test Recommends ===
#
# Module Want Have
# ------------ -------- --------
# CPAN::Meta 2.120900 2.150005
# Test::Output 0.0005 1.031
#
# === Runtime Requires ===
#
# Module Want Have
# ---------------------------- --------- --------
# Benchmark any 1.18
# Carp any 1.3301
# Class::MOP any 2.1403
# Exporter any 5.72
# File::Find any 1.27
# File::Spec any 3.74
# Import::Into any 1.002004
# JSON any 2.97001
# List::SomeUtils any 0.56
# List::Util any 1.48
# Module::Runtime any 0.014
# Module::Util any 1.09
# Moose 2.0000 2.1403
# Moose::Role 2.0000 2.1403
# Moose::Util any 2.1403
# Moose::Util::TypeConstraints any 2.1403
# MooseX::Getopt 0.71 0.71
# MooseX::Getopt::Dashes any 0.71
# Package::DeprecationManager 0.16 0.17
# Parallel::ForkManager any 1.19
# Scalar::Util any 1.48
# Sub::Attribute any 0.06
# TAP::Formatter::Color 3.29 3.36
# Test2 1.1302118 1.302136
# Test2::API any 1.302136
# Test2::AsyncSubtest 0.000018 0.000114
# Test2::IPC any 1.302136
# Test2::Tools::AsyncSubtest any 0.000114
# Test::Most any 0.35
# Try::Tiny any 0.28
# namespace::autoclean any 0.24
# strict any 1.08
# warnings any 1.23
#
# === Runtime Recommends ===
#
# Module Want Have
# --------------------- ------ ----
# Parallel::ForkManager v0.7.6 1.19
#
t/00-report-prereqs.t .......... ok
t/bare.t ....................... ok
t/bad_subclass.t ............... ok
t/autouse.t .................... ok
t/basic.t ...................... ok
t/environment.t ................ ok
t/executor_roles.t ............. ok
t/cli.t ........................ ok
t/load.t ....................... ok
t/include_classes.t ............ ok
t/include_exclude.t ............ ok
t/no_tests_run.t ............... ok
t/non_randomize_classes.t ...... ok
[32m.[0m[32m.[0m[32m.[0m[32m.[0m[32m.[0m[32m.[0m[32m.[0m[32m.[0m[32m.[0m[32m.[0m[32m.[0m[32m.[0m[32m.[0m[32m.[0m[32m.[0m[32m.[0m[32m.[0m[32m.[0m[32m.[0m[32m.[0m[32m.[0m[32m.[0m[31mX[0m[31mX[0m[32m.[0m[32m.[0mt/plans.t ...................... ok
t/parameterized.t .............. ok
t/process_name.t ............... ok
t/parallel.t ................... ok
t/skip.t ....................... ok
t/tags.t ....................... ok
t/reportpassed.t ............... ok
t/test_class_is_not_loaded.t ... ok
t/test_control_methods.t ....... ok
t/test_control_methods_skip.t .. ok
t/todo.t ....................... ok
t/timing.t ..................... ok
All tests successful.
Files=25, Tests=213, 12 wallclock secs ( 0.29 usr 0.05 sys + 11.29 cusr 0.95 csys = 12.58 CPU)
Result: PASS
------------------------------
PREREQUISITES
------------------------------
Prerequisite modules loaded:
requires:
Module Need Have
---------------------------- --------- --------
Benchmark 0 1.18
Carp 0 1.3301
Class::MOP 0 2.1403
Exporter 0 5.72
File::Find 0 1.27
File::Spec 0 3.74
Import::Into 0 1.002004
JSON 0 2.97001
List::SomeUtils 0 0.56
List::Util 0 1.48
Module::Runtime 0 0.014
Module::Util 0 1.09
Moose 2.0000 2.1403
Moose::Role 2.0000 2.1403
Moose::Util 0 2.1403
Moose::Util::TypeConstraints 0 2.1403
MooseX::Getopt 0.71 0.71
MooseX::Getopt::Dashes 0 0.71
namespace::autoclean 0 0.24
Package::DeprecationManager 0.16 0.17
Parallel::ForkManager 0 1.19
perl 5.010000 5.020002
Scalar::Util 0 1.48
strict 0 1.08
Sub::Attribute 0 0.06
TAP::Formatter::Color 3.29 3.36
Test2 1.1302118 1.302136
Test2::API 0 1.302136
Test2::AsyncSubtest 0.000018 0.000114
Test2::IPC 0 1.302136
Test2::Tools::AsyncSubtest 0 0.000114
Test::Most 0 0.35
Try::Tiny 0 0.28
warnings 0 1.23
build_requires:
Module Need Have
---------------------------- --------- --------
ExtUtils::MakeMaker 0 7.34
File::Spec 0 3.74
File::Temp 0 0.2304
lib 0 0.63
Test2::Tools::Basic 0 0.000114
Test2::Tools::Class 0 0.000114
Test2::Tools::Compare 0 0.000114
Test2::Tools::Subtest 0 0.000114
Test2::V0 0 0.000114
Test::Builder 0 1.302136
Test::More 1.302015 1.302136
Test::Requires 0 0.08
Test::Warnings 0 0.026
configure_requires:
Module Need Have
---------------------------- --------- --------
ExtUtils::MakeMaker 0 7.34
------------------------------
ENVIRONMENT AND OTHER CONTEXT
------------------------------
Environment variables:
AUTOMATED_TESTING = 1
HARNESS_OPTIONS = j4
LANG = en_GB.UTF-8
LANGUAGE = en_GB:en
PATH = /home/njh/perl5/perlbrew/bin:/home/njh/perl5/perlbrew/perls/perl-5.20.2/bin:/usr/bin:/bin:/home/njh/src/njh/smoker/bin
PERL5LIB = /home/njh/.cpan/build/Data-Table-Text-20180816-17/blib/arch:/home/njh/.cpan/build/Data-Table-Text-20180816-17/blib/lib:/home/njh/.cpan/build/String-Numeric-0.9-15/blib/arch:/home/njh/.cpan/build/String-Numeric-0.9-15/blib/lib:/home/njh/.cpan/build/Module-Build-0.4224-2/blib/arch:/home/njh/.cpan/build/Module-Build-0.4224-2/blib/lib
PERL5OPT =
PERL5_CPANPLUS_IS_RUNNING = 5148
PERL5_CPAN_IS_RUNNING = 5148
PERLBREW_HOME = /home/njh/.perlbrew
PERLBREW_MANPATH = /home/njh/perl5/perlbrew/perls/perl-5.20.2/man
PERLBREW_PATH = /home/njh/perl5/perlbrew/bin:/home/njh/perl5/perlbrew/perls/perl-5.20.2/bin
PERLBREW_PERL = perl-5.20.2
PERLBREW_ROOT = /home/njh/perl5/perlbrew
PERLBREW_SHELLRC_VERSION = 0.82
PERLBREW_VERSION = 0.82
SHELL = /bin/sh
TEMP = /tmp/user/1000
TMPDIR = /tmp/user/1000/testwrapper.5133
Perl special variables (and OS-specific diagnostics, for MSWin32):
$^X = /home/njh/perl5/perlbrew/perls/perl-5.20.2/bin/perl
$UID/$EUID = 1000 / 1000
$GID = 1000 4 24 25 29 30 44 46 108 112 1000
$EGID = 1000 4 24 25 29 30 44 46 108 112 1000
Perl module toolchain versions installed:
Module Have
------------------- --------
CPAN 2.16
CPAN::Meta 2.150005
Cwd 3.74
ExtUtils::CBuilder 0.280223
ExtUtils::Command 7.34
ExtUtils::Install 2.06
ExtUtils::MakeMaker 7.34
ExtUtils::Manifest 1.70
ExtUtils::ParseXS 3.30
File::Spec 3.74
JSON 2.97001
JSON::PP 2.27400
Module::Build 0.4224
Module::Signature n/a
Parse::CPAN::Meta 1.4422
Test::Harness 3.36
Test::More 1.302136
YAML 1.26
YAML::Syck 1.30
version 0.9912
--
Summary of my perl5 (revision 5 version 20 subversion 2) configuration:
Platform:
osname=linux, osvers=3.16.0-4-amd64, archname=x86_64-linux-thread-multi
uname='linux nigelhorne.force9.co.uk 3.16.0-4-amd64 #1 smp debian 3.16.7-ckt4-3 (2015-02-03) x86_64 gnulinux '
config_args='-de -Dprefix=/home/njh/perl5/perlbrew/perls/perl-5.20.2 -Duseithreads -Dusemultiplicity -Dusedevel -Accflags= -Aeval:scriptdir=/home/njh/perl5/perlbrew/perls/perl-5.20.2/bin'
hint=recommended, useposix=true, d_sigaction=define
useithreads=define, usemultiplicity=define
use64bitint=define, use64bitall=define, uselongdouble=undef
usemymalloc=n, bincompat5005=undef
Compiler:
cc='cc', ccflags ='-D_REENTRANT -D_GNU_SOURCE -fwrapv -fno-strict-aliasing -pipe -fstack-protector -I/usr/local/include -D_LARGEFILE_SOURCE -D_FILE_OFFSET_BITS=64',
optimize='-O2',
cppflags='-D_REENTRANT -D_GNU_SOURCE -fwrapv -fno-strict-aliasing -pipe -fstack-protector -I/usr/local/include'
ccversion='', gccversion='4.9.2', gccosandvers=''
intsize=4, longsize=8, ptrsize=8, doublesize=8, byteorder=12345678
d_longlong=define, longlongsize=8, d_longdbl=define, longdblsize=16
ivtype='long', ivsize=8, nvtype='double', nvsize=8, Off_t='off_t', lseeksize=8
alignbytes=8, prototype=define
Linker and Libraries:
ld='cc', ldflags =' -fstack-protector -L/usr/local/lib'
libpth=/usr/local/lib /usr/lib/gcc/x86_64-linux-gnu/4.9/include-fixed /usr/include/x86_64-linux-gnu /usr/lib /lib/x86_64-linux-gnu /lib/../lib /usr/lib/x86_64-linux-gnu /usr/lib/../lib /lib
libs=-lnsl -lgdbm -ldb -ldl -lm -lcrypt -lutil -lpthread -lc -lgdbm_compat
perllibs=-lnsl -ldl -lm -lcrypt -lutil -lpthread -lc
libc=libc-2.19.so, so=so, useshrplib=false, libperl=libperl.a
gnulibc_version='2.19'
Dynamic Linking:
dlsrc=dl_dlopen.xs, dlext=so, d_dlsymun=undef, ccdlflags='-Wl,-E'
cccdlflags='-fPIC', lddlflags='-shared -O2 -L/usr/local/lib -fstack-protector'
Characteristics of this binary (from libperl):
Compile-time options: HAS_TIMES MULTIPLICITY PERLIO_LAYERS
PERL_DONT_CREATE_GVSV
PERL_HASH_FUNC_ONE_AT_A_TIME_HARD
PERL_IMPLICIT_CONTEXT PERL_MALLOC_WRAP
PERL_NEW_COPY_ON_WRITE PERL_PRESERVE_IVUV
PERL_USE_DEVEL USE_64_BIT_ALL USE_64_BIT_INT
USE_ITHREADS USE_LARGE_FILES USE_LOCALE
USE_LOCALE_COLLATE USE_LOCALE_CTYPE
USE_LOCALE_NUMERIC USE_PERLIO USE_PERL_ATOF
USE_REENTRANT_API
Built under linux
Compiled at Mar 1 2015 00:32:04
%ENV:
PERL5LIB="/home/njh/.cpan/build/Data-Table-Text-20180816-17/blib/arch:/home/njh/.cpan/build/Data-Table-Text-20180816-17/blib/lib:/home/njh/.cpan/build/String-Numeric-0.9-15/blib/arch:/home/njh/.cpan/build/String-Numeric-0.9-15/blib/lib:/home/njh/.cpan/build/Module-Build-0.4224-2/blib/arch:/home/njh/.cpan/build/Module-Build-0.4224-2/blib/lib"
PERL5OPT=""
PERL5_CPANPLUS_IS_RUNNING="5148"
PERL5_CPAN_IS_RUNNING="5148"
PERLBREW_HOME="/home/njh/.perlbrew"
PERLBREW_MANPATH="/home/njh/perl5/perlbrew/perls/perl-5.20.2/man"
PERLBREW_PATH="/home/njh/perl5/perlbrew/bin:/home/njh/perl5/perlbrew/perls/perl-5.20.2/bin"
PERLBREW_PERL="perl-5.20.2"
PERLBREW_ROOT="/home/njh/perl5/perlbrew"
PERLBREW_SHELLRC_VERSION="0.82"
PERLBREW_VERSION="0.82"
@INC:
/home/njh/.cpan/build/Data-Table-Text-20180816-17/blib/arch
/home/njh/.cpan/build/Data-Table-Text-20180816-17/blib/lib
/home/njh/.cpan/build/String-Numeric-0.9-15/blib/arch
/home/njh/.cpan/build/String-Numeric-0.9-15/blib/lib
/home/njh/.cpan/build/Module-Build-0.4224-2/blib/arch
/home/njh/.cpan/build/Module-Build-0.4224-2/blib/lib
/home/njh/perl5/perlbrew/perls/perl-5.20.2/lib/site_perl/5.20.2/x86_64-linux-thread-multi
/home/njh/perl5/perlbrew/perls/perl-5.20.2/lib/site_perl/5.20.2
/home/njh/perl5/perlbrew/perls/perl-5.20.2/lib/5.20.2/x86_64-linux-thread-multi
/home/njh/perl5/perlbrew/perls/perl-5.20.2/lib/5.20.2
.