Back
From: metabase:user:320bfe00-2aae-11df-837a-5e0a49663a4f
Subject: PASS WebService-GData-0.0409 v5.15.2 GNU/Linux
Date: 2011-09-02T11:00:49Z
This distribution has been tested as part of the CPAN Testers
project, supporting the Perl programming language. See
http://wiki.cpantesters.org/ for more information or email
questions to cpan-testers-discuss@perl.org
--
Dear shirirules,
This is a computer-generated report for WebService-GData-0.0409
on perl 5.15.2, created by CPAN-Reporter-1.1902.
Thank you for uploading your work to CPAN. Congratulations!
All tests were successful.
Sections of this report:
* Tester comments
* Program output
* Prerequisites
* Environment and other context
------------------------------
TESTER COMMENTS
------------------------------
Additional comments from tester:
none provided
------------------------------
PROGRAM OUTPUT
------------------------------
Output from '/usr/bin/make test':
make[1]: Entering directory `/home/sand/.cpan/build/WebService-GData-0.0409-Ln9UDz'
PERL_DL_NONLAZY=1 /home/sand/src/perl/repoperls/installed-perls/perl/v5.15.2-221-gad66d0c/1df5/bin/perl "-MExtUtils::Command::MM" "-e" "test_harness(0, 'inc', 'blib/lib', 'blib/arch')" t/*.t
t/00-WebService-GData-load.t ................................. ok
t/01-WebService-GData-instance.t ............................. ok
t/02-WebService-GData-install_in_package.t ................... ok
t/03-WebService-GData-Constants-load.t ....................... ok
t/04-WebService-GData-Constants-noimport.t ................... ok
t/05-WebService-GData-Constants-import-service.t ............. ok
t/06-WebService-GData-Constants-import-format.t .............. ok
t/07-WebService-GData-Constants-import-general.t ............. ok
t/08-WebService-GData-Constants-import-namespaces.t .......... ok
t/09-WebService-GData-Error-Entry-load.t ..................... ok
t/10-WebService-GData-Error-Entry-instance.t ................. ok
t/11-WebService-GData-Error-Entry-parsexml.t ................. ok
t/12-WebService-GData-Error-Entry-createxml.t ................ ok
t/13-WebService-GData-Error-load.t ........................... ok
t/14-WebService-GData-Error-instance.t ....................... ok
t/15-WebService-GData-Error-parsexml.t ....................... ok
t/16-WebService-GData-Query-load.t ........................... ok
t/17-WebService-GData-Query-instance.t ....................... ok
t/18-WebService-GData-YouTube-Query-load.t ................... ok
t/19-WebService-GData-YouTube-Query-instance.t ............... ok
t/20-WebService-GData-Base-load.t ............................ ok
t/21-WebService-GData-Base-instance.t ........................ ok
t/22-WebService-GData-Base-mockrequest.t ..................... ok
t/23-WebService-GData-ClientLogin-load.t ..................... ok
t/24-WebService-GData-ClientLogin-mockrequest.t .............. ok
t/25-WebService-GData-ClientLogin-fail.t ..................... ok
t/26-WebService-GData-ClientLogin-requestservice.t ........... skipped: Crypt::SSLeay must be installed to test ClientLogin live...
t/27-WebService-GData-Node-load.t ............................ ok
t/28-WebService-GData-Node-Link-load.t ....................... ok
t/29-WebService-GData-Node-Link-instance.t ................... ok
t/30-WebService-GData-Node-Category-load.t ................... ok
t/31-WebService-GData-Node-Category-instance.t ............... ok
t/32-WebService-GData-Node-Content-load.t .................... ok
t/33-WebService-GData-Node-Content-instance.t ................ ok
t/34-WebService-GData-Node-Media-Content-instance.t .......... ok
t/35-WebService-GData-Node-GeoRSS-GML-instance.t ............. ok
t/36-WebService-GData-Node-AuthorEntity-load.t ............... ok
t/37-WebService-GData-Node-AuthorEntity-instance.t ........... ok
t/38-WebService-GData-Node-PointEntity-load.t ................ ok
t/39-WebService-GData-Node-PointEntity-instance.t ............ ok
t/40-WebService-GData-Collection-load.t ...................... ok
t/41-WebService-GData-Collection-instance.t .................. ok
t/42-WebService-GData-Node-Atom-FeedEntity-instance.t ........ ok
t/43-WebService-GData-Node-Atom-FeedEntity-emptyinstance.t ... ok
t/44-WebService-GData-Feed-load.t ............................ ok
t/45-WebService-GData-Feed-instance.t ........................ ok
t/46-WebService-GData-Feed-instance.t ........................ ok
t/47-WebService-GData-Feed-Entry-load.t ...................... ok
t/48-WebService-GData-Feed-Entry-instance.t .................. ok
t/49-WebService-GData-YouTube-Constants-load.t ............... ok
t/50-WebService-GData-YouTube-Constants-noimport.t ........... ok
t/51-WebService-GData-YouTube-Constants-imported.t ........... ok
t/52-WebService-GData-YouTube-load.t ......................... ok
t/53-WebService-GData-YouTube-Node-AccessControl-instance.t .. ok
t/54-WebService-GData-YouTube-Node-AboutMe-instance.t ........ ok
t/55-WebService-GData-YouTube-Feed-Video-load.t .............. ok
t/56-WebService-GData-YouTube-Feed-Video-instance.t .......... ok
t/57-WebService-Gdata-Youtube-StagingServer.t ................ ok
t/58-WebService-GData-YouTube-Feed-UserProfile-instance.t .... ok
t/59-WebService-GData-YouTube-Feed-Complaint-instance.t ...... ok
t/60-WebService-GData-YouTube-Feed-VideoMessage-instance.t ... ok
All tests successful.
Files=61, Tests=339, 5 wallclock secs ( 0.20 usr 0.41 sys + 2.04 cusr 0.99 csys = 3.64 CPU)
Result: PASS
make[1]: Leaving directory `/home/sand/.cpan/build/WebService-GData-0.0409-Ln9UDz'
------------------------------
PREREQUISITES
------------------------------
Prerequisite modules loaded:
requires:
Module Need Have
------------------- -------- --------
JSON 2 2.53
LWP 0 6.02
perl 5.008008 5.015002
Test::Mock::LWP 0.05 0.06
Test::More 0 0.98
build_requires:
Module Need Have
------------------- -------- --------
ExtUtils::MakeMaker 6.42 6.59
configure_requires:
Module Need Have
------------------- -------- --------
ExtUtils::MakeMaker 6.42 6.59
------------------------------
ENVIRONMENT AND OTHER CONTEXT
------------------------------
Environment variables:
LANG = en_US.UTF-8
LANGUAGE = en_US:en
PATH = /usr/lib/ccache:/home/sand/bin:/usr/local/bin:/usr/bin:/bin:/usr/bin/X11:/usr/games:/usr/local/perl/bin:/usr/X11/bin:/sbin:/usr/sbin
PERL5LIB = /home/sand/.cpan/build/ProjectBuilder-0.11.3-2kQ9mj/blib/arch:/home/sand/.cpan/build/ProjectBuilder-0.11.3-2kQ9mj/blib/lib:/home/sand/.cpan/build/Encode-IBM-0.11-YgcEw4/blib/arch:/home/sand/.cpan/build/Encode-IBM-0.11-YgcEw4/blib/lib:/home/sand/.cpan/build/Mail-SpamAssassin-2.43-G8rX8z/blib/arch:/home/sand/.cpan/build/Mail-SpamAssassin-2.43-G8rX8z/blib/lib
PERL5OPT =
PERL5_CPANPLUS_IS_RUNNING = 30874
PERL5_CPAN_IS_RUNNING = 30874
SHELL = /usr/bin/zsh
TERM = screen
Perl special variables (and OS-specific diagnostics, for MSWin32):
$^X = /home/sand/src/perl/repoperls/installed-perls/perl/v5.15.2-221-gad66d0c/1df5/bin/perl
$UID/$EUID = 1001 / 1001
$GID = 1001 1001
$EGID = 1001 1001
Perl module toolchain versions installed:
Module Have
------------------- --------
CPAN 1.9800
Cwd 3.37
ExtUtils::CBuilder 0.280204
ExtUtils::Command 1.17
ExtUtils::Install 1.57
ExtUtils::MakeMaker 6.59
ExtUtils::Manifest 1.60
ExtUtils::ParseXS 3.04_01
File::Spec 3.34
Module::Build 0.39_01
Module::Signature n/a
Test::Harness 3.23
Test::More 0.98
YAML 0.73
YAML::Syck n/a
version 0.93
--
Summary of my perl5 (revision 5 version 15 subversion 2) configuration:
Commit id: ad66d0c9a62d4dfd3104dc78e5ed404470286bb6
Platform:
osname=linux, osvers=3.0.0-1-amd64, archname=x86_64-linux
uname='linux k81 3.0.0-1-amd64 #1 smp sat aug 27 16:21:11 utc 2011 x86_64 gnulinux '
config_args='-Dprefix=/home/src/perl/repoperls/installed-perls/perl/v5.15.2-221-gad66d0c/1df5 -Dinstallusrbinperl=n -Uversiononly -Dusedevel -des -Ui_db -Uuseithreads -Uuselongdouble -DDEBUGGING=-g'
hint=recommended, useposix=true, d_sigaction=define
useithreads=undef, usemultiplicity=undef
useperlio=define, d_sfio=undef, uselargefiles=define, usesocks=undef
use64bitint=define, use64bitall=define, uselongdouble=undef
usemymalloc=n, bincompat5005=undef
Compiler:
cc='cc', ccflags ='-fno-strict-aliasing -pipe -fstack-protector -I/usr/local/include -D_LARGEFILE_SOURCE -D_FILE_OFFSET_BITS=64',
optimize='-O2 -g',
cppflags='-fno-strict-aliasing -pipe -fstack-protector -I/usr/local/include'
ccversion='', gccversion='4.6.1', gccosandvers=''
intsize=4, longsize=8, ptrsize=8, doublesize=8, byteorder=12345678
d_longlong=define, longlongsize=8, d_longdbl=define, longdblsize=16
ivtype='long', ivsize=8, nvtype='double', nvsize=8, Off_t='off_t', lseeksize=8
alignbytes=8, prototype=define
Linker and Libraries:
ld='cc', ldflags =' -fstack-protector -L/usr/local/lib'
libpth=/usr/local/lib /lib/x86_64-linux-gnu /usr/lib/x86_64-linux-gnu /lib /usr/lib /lib64 /usr/lib64
libs=-lnsl -ldb -ldl -lm -lcrypt -lutil -lc
perllibs=-lnsl -ldl -lm -lcrypt -lutil -lc
libc=, so=so, useshrplib=false, libperl=libperl.a
gnulibc_version='2.13'
Dynamic Linking:
dlsrc=dl_dlopen.xs, dlext=so, d_dlsymun=undef, ccdlflags='-Wl,-E'
cccdlflags='-fPIC', lddlflags='-shared -O2 -g -L/usr/local/lib -fstack-protector'
Characteristics of this binary (from libperl):
Compile-time options: HAS_TIMES PERLIO_LAYERS PERL_DONT_CREATE_GVSV
PERL_MALLOC_WRAP PERL_PRESERVE_IVUV PERL_USE_DEVEL
USE_64_BIT_ALL USE_64_BIT_INT USE_LARGE_FILES
USE_LOCALE USE_LOCALE_COLLATE USE_LOCALE_CTYPE
USE_LOCALE_NUMERIC USE_PERLIO USE_PERL_ATOF
Built under linux
Compiled at Sep 2 2011 00:03:09
%ENV:
PERL5LIB="/home/sand/.cpan/build/ProjectBuilder-0.11.3-2kQ9mj/blib/arch:/home/sand/.cpan/build/ProjectBuilder-0.11.3-2kQ9mj/blib/lib:/home/sand/.cpan/build/Encode-IBM-0.11-YgcEw4/blib/arch:/home/sand/.cpan/build/Encode-IBM-0.11-YgcEw4/blib/lib:/home/sand/.cpan/build/Mail-SpamAssassin-2.43-G8rX8z/blib/arch:/home/sand/.cpan/build/Mail-SpamAssassin-2.43-G8rX8z/blib/lib"
PERL5OPT=""
PERL5_CPANPLUS_IS_RUNNING="30874"
PERL5_CPAN_IS_RUNNING="30874"
@INC:
/home/sand/.cpan/build/ProjectBuilder-0.11.3-2kQ9mj/blib/arch
/home/sand/.cpan/build/ProjectBuilder-0.11.3-2kQ9mj/blib/lib
/home/sand/.cpan/build/Encode-IBM-0.11-YgcEw4/blib/arch
/home/sand/.cpan/build/Encode-IBM-0.11-YgcEw4/blib/lib
/home/sand/.cpan/build/Mail-SpamAssassin-2.43-G8rX8z/blib/arch
/home/sand/.cpan/build/Mail-SpamAssassin-2.43-G8rX8z/blib/lib
/home/src/perl/repoperls/installed-perls/perl/v5.15.2-221-gad66d0c/1df5/lib/site_perl/5.15.2/x86_64-linux
/home/src/perl/repoperls/installed-perls/perl/v5.15.2-221-gad66d0c/1df5/lib/site_perl/5.15.2
/home/src/perl/repoperls/installed-perls/perl/v5.15.2-221-gad66d0c/1df5/lib/5.15.2/x86_64-linux
/home/src/perl/repoperls/installed-perls/perl/v5.15.2-221-gad66d0c/1df5/lib/5.15.2
.