Raisin v0.93 Perl 5 v5.24.4 x86_64-linux
- Status
- Pass
- From
- Slaven Rezić
- Dist
-
Raisin v0.93
- Platform
- Perl 5 v5.24.4 x86_64-linux
- Date
- 2021-05-05 08:35:15
- ID
- d0a8b94c-ad7c-11eb-8334-7c3b1f24ea8f
This distribution has been tested as part of the CPAN Testers
project, supporting the Perl programming language. See
http://wiki.cpantesters.org/ for more information or email
questions to cpan-testers-discuss@perl.org
--
Dear Artur Khabibullin,
This is a computer-generated report for Raisin-0.93
on perl 5.24.4, created by CPAN-Reporter-1.2018.
Thank you for uploading your work to CPAN. Congratulations!
All tests were successful.
Sections of this report:
* Tester comments
* Program output
* Prerequisites
* Environment and other context
------------------------------
TESTER COMMENTS
------------------------------
Additional comments from tester:
none provided
------------------------------
PROGRAM OUTPUT
------------------------------
Output from './Build test':
t/00-compile.t ........................ ok
#
# Versions for all modules listed in MYMETA.json (including optional ones):
#
# === Configure Requires ===
#
# Module Want Have
# ------------- ---- ------
# Module::Build 0.28 0.4231
#
# === Build Requires ===
#
# Module Want Have
# ------------- ---- ------
# Module::Build 0.28 0.4231
#
# === Test Requires ===
#
# Module Want Have
# ------------------- -------- --------
# ExtUtils::MakeMaker any 7.62
# File::Spec any 3.75
# IO::Handle any 1.45
# IPC::Open3 any 1.20
# List::Util 1.29 1.56
# Test::Exception any 0.43
# Test::More any 1.302183
# Test::Pod any 1.52
# Test::Simple 1.001014 1.302183
#
# === Test Recommends ===
#
# Module Want Have
# ---------- -------- --------
# CPAN::Meta 2.120900 2.150010
#
# === Runtime Requires ===
#
# Module Want Have
# ------------------------------ -------- --------
# HTTP::Request::Common any 6.28
# HTTP::Status any 6.28
# Hash::Merge 0.300 0.300
# JSON::MaybeXS 1.004000 1.004003
# Plack 1.0030 1.0048
# Plack::Middleware::CrossOrigin 0.009 0.014
# Scalar::Util 1.38 1.56
# Type::Tiny 0.044 1.012002
# YAML 0.90 1.30
# parent any 0.238
#
t/00-report-prereqs.t ................. ok
t/author-eof.t ........................ skipped: these tests are for testing by the author
t/author-eol.t ........................ skipped: these tests are for testing by the author
t/author-no-breakpoints.t ............. skipped: these tests are for testing by the author
t/author-no-tabs.t .................... skipped: these tests are for testing by the author
t/author-pod-syntax.t ................. skipped: these tests are for testing by the author
t/author-portability.t ................ skipped: these tests are for testing by the author
t/behaviour/app-deserialize.t ......... ok
t/behaviour/app-hooks.t ............... ok
2021-05-05T08:34:14.226 Loading Raisin...
t/behaviour/app-routes.t .............. ok
t/behaviour/app-serialize-provides.t .. ok
t/behaviour/app-serialize.t ........... ok
t/behaviour/plugin-openapi.t .......... ok
t/release-kwalitee.t .................. skipped: these tests are for release candidate testing
t/release-test-legal.t ................ skipped: these tests are for release candidate testing
t/release-unused-vars.t ............... skipped: these tests are for release candidate testing
t/unit/api.t .......................... ok
t/unit/encoder.t ...................... ok
t/unit/entity.t ....................... ok
t/unit/entity/object.t ................ ok
t/unit/logger.t ....................... ok
t/unit/middleware/formatter.t ......... ok
t/unit/param.t ........................ ok
t/unit/param/moose.t .................. ok
t/unit/plugin.t ....................... ok
t/unit/plugin/logger.t ................ skipped: NA
t/unit/plugin/swagger.t ............... ok
t/unit/plugin/swagger/moose.t ......... ok
t/unit/request.t ...................... ok
t/unit/routes.t ....................... ok
t/unit/routes/endpoint.t .............. ok
t/unit/util.t ......................... ok
All tests successful.
Files=33, Tests=125, 12 wallclock secs ( 0.31 usr 0.64 sys + 7.72 cusr 2.30 csys = 10.97 CPU)
Result: PASS
------------------------------
PREREQUISITES
------------------------------
Prerequisite modules loaded:
requires:
Module Need Have
------------------------------ -------- --------
Hash::Merge 0.300 0.300
HTTP::Request::Common 0 6.28
HTTP::Status 0 6.28
JSON::MaybeXS 1.004000 1.004003
parent 0 0.238
perl 5.010000 5.024004
Plack 1.0030 1.0048
Plack::Middleware::CrossOrigin 0.009 0.014
Scalar::Util 1.38 1.56
Type::Tiny 0.044 1.012002
YAML 0.90 1.30
build_requires:
Module Need Have
------------------------------ -------- --------
ExtUtils::MakeMaker 0 7.62
File::Spec 0 3.75
IO::Handle 0 1.45
IPC::Open3 0 1.20
List::Util 1.29 1.56
Module::Build 0.28 0.4231
Test::Exception 0 0.43
Test::More 0 1.302183
Test::Pod 0 1.52
Test::Simple 1.001014 1.302183
configure_requires:
Module Need Have
------------------------------ -------- --------
Module::Build 0.28 0.4231
------------------------------
ENVIRONMENT AND OTHER CONTEXT
------------------------------
Environment variables:
LANG = en_US.UTF-8
PATH = /usr/local/bin:/usr/bin:/bin:/usr/local/sbin:/usr/sbin:/sbin:/home/cpansand/bin/linux-gnu:/home/cpansand/bin/sh:/home/cpansand/bin:/usr/games:/home/cpansand/devel:/home/eserte/src/srezic-misc/scripts
PERL5LIB =
PERL5OPT =
PERL5_CPANPLUS_IS_RUNNING = 14161
PERL5_CPAN_IS_RUNNING = 14161
PERL5_CPAN_IS_RUNNING_IN_RECURSION = 13826,14161
PERLDOC = -MPod::Perldoc::ToTextOverstrike
PERL_BATCH = yes
PERL_CANARY_STABILITY_NOPROMPT = 1
PERL_CPAN_REPORTER_CONFIG = /var/tmp/cpansmoker-1023/2021050508/cpanreporter_000_config.ini
PERL_EXTUTILS_AUTOINSTALL = --defaultdeps
PERL_USE_UNSAFE_INC = 1
SHELL = /usr/bin/zsh
TERM = screen
TMPDIR = /var/tmp/cpansmoker-1023/2021050508
Perl special variables (and OS-specific diagnostics, for MSWin32):
$^X = /opt/perl-5.24.4/bin/perl
$UID/$EUID = 1023 / 1023
$GID = 1023 1023
$EGID = 1023 1023
Perl module toolchain versions installed:
Module Have
------------------- --------
CPAN 2.28
CPAN::Meta 2.150010
Cwd 3.75
ExtUtils::CBuilder 0.280235
ExtUtils::Command 7.62
ExtUtils::Install 2.20
ExtUtils::MakeMaker 7.62
ExtUtils::Manifest 1.70
ExtUtils::ParseXS 3.35
File::Spec 3.75
JSON 4.03
JSON::PP 4.06
Module::Build 0.4231
Module::Signature 0.87
Parse::CPAN::Meta 2.150010
Test::Harness 3.42
Test::More 1.302183
YAML 1.30
YAML::Syck 1.34
version 0.9916
--
Summary of my perl5 (revision 5 version 24 subversion 4) configuration:
Platform:
osname=linux, osvers=4.4.0-157-generic, archname=x86_64-linux
uname='linux ubuntu16 4.4.0-157-generic #185-ubuntu smp tue jul 23 09:17:01 utc 2019 x86_64 x86_64 x86_64 gnulinux '
config_args='-ds -e -Dprefix=/opt/perl-5.24.4 -Dcf_email=srezic@cpan.org'
hint=recommended, useposix=true, d_sigaction=define
useithreads=undef, usemultiplicity=undef
use64bitint=define, use64bitall=define, uselongdouble=undef
usemymalloc=n, bincompat5005=undef
Compiler:
cc='cc', ccflags ='-fwrapv -fno-strict-aliasing -pipe -fstack-protector-strong -I/usr/local/include -D_LARGEFILE_SOURCE -D_FILE_OFFSET_BITS=64',
optimize='-O2',
cppflags='-fwrapv -fno-strict-aliasing -pipe -fstack-protector-strong -I/usr/local/include'
ccversion='', gccversion='5.4.0 20160609', gccosandvers=''
intsize=4, longsize=8, ptrsize=8, doublesize=8, byteorder=12345678, doublekind=3
d_longlong=define, longlongsize=8, d_longdbl=define, longdblsize=16, longdblkind=3
ivtype='long', ivsize=8, nvtype='double', nvsize=8, Off_t='off_t', lseeksize=8
alignbytes=8, prototype=define
Linker and Libraries:
ld='cc', ldflags =' -fstack-protector-strong -L/usr/local/lib'
libpth=/usr/local/lib /usr/lib/gcc/x86_64-linux-gnu/5/include-fixed /usr/include/x86_64-linux-gnu /usr/lib /lib/x86_64-linux-gnu /lib/../lib /usr/lib/x86_64-linux-gnu /usr/lib/../lib /lib
libs=-lpthread -lnsl -ldb -ldl -lm -lcrypt -lutil -lc
perllibs=-lpthread -lnsl -ldl -lm -lcrypt -lutil -lc
libc=libc-2.23.so, so=so, useshrplib=false, libperl=libperl.a
gnulibc_version='2.23'
Dynamic Linking:
dlsrc=dl_dlopen.xs, dlext=so, d_dlsymun=undef, ccdlflags='-Wl,-E'
cccdlflags='-fPIC', lddlflags='-shared -O2 -L/usr/local/lib -fstack-protector-strong'
Characteristics of this binary (from libperl):
Compile-time options: HAS_TIMES PERLIO_LAYERS PERL_COPY_ON_WRITE
PERL_DONT_CREATE_GVSV
PERL_HASH_FUNC_ONE_AT_A_TIME_HARD PERL_MALLOC_WRAP
PERL_PRESERVE_IVUV USE_64_BIT_ALL USE_64_BIT_INT
USE_LARGE_FILES USE_LOCALE USE_LOCALE_COLLATE
USE_LOCALE_CTYPE USE_LOCALE_NUMERIC USE_LOCALE_TIME
USE_PERLIO USE_PERL_ATOF
Built under linux
Compiled at Aug 6 2019 17:24:30
%ENV:
PERL5LIB=""
PERL5OPT=""
PERL5_CPANPLUS_IS_RUNNING="14161"
PERL5_CPAN_IS_RUNNING="14161"
PERL5_CPAN_IS_RUNNING_IN_RECURSION="13826,14161"
PERLDOC="-MPod::Perldoc::ToTextOverstrike"
PERL_BATCH="yes"
PERL_CANARY_STABILITY_NOPROMPT="1"
PERL_CPAN_REPORTER_CONFIG="/var/tmp/cpansmoker-1023/2021050508/cpanreporter_000_config.ini"
PERL_EXTUTILS_AUTOINSTALL="--defaultdeps"
PERL_USE_UNSAFE_INC="1"
@INC:
/opt/perl-5.24.4/lib/site_perl/5.24.4/x86_64-linux
/opt/perl-5.24.4/lib/site_perl/5.24.4
/opt/perl-5.24.4/lib/5.24.4/x86_64-linux
/opt/perl-5.24.4/lib/5.24.4
.