Archive-Tar-Wrapper v0.33 Perl 5 v5.29.9 amd64-freebsd-thread-multi
- Status
- Pass
- From
- Carlos Guevara
- Dist
-
Archive-Tar-Wrapper v0.33
- Platform
- Perl 5 v5.29.9 amd64-freebsd-thread-multi
- Date
- 2019-02-22 21:42:56
- ID
- d08741f0-36ea-11e9-86d5-fc1ce5b8a71e
This distribution has been tested as part of the CPAN Testers
project, supporting the Perl programming language. See
http://wiki.cpantesters.org/ for more information or email
questions to cpan-testers-discuss@perl.org
--
Dear Alceu Rodrigues de Freitas Junior,
This is a computer-generated report for Archive-Tar-Wrapper-0.33
on perl 5.29.9, created by CPAN-Reporter-1.2018.
Thank you for uploading your work to CPAN. Congratulations!
All tests were successful.
Sections of this report:
* Tester comments
* Program output
* Prerequisites
* Environment and other context
------------------------------
TESTER COMMENTS
------------------------------
Additional comments from tester:
none provided
------------------------------
PROGRAM OUTPUT
------------------------------
Output from '/usr/bin/make test':
PERL_DL_NONLAZY=1 "/usr/home/cpan/bin/perl-blead/bin/perl5.29.9" "-MExtUtils::Command::MM" "-MTest::Harness" "-e" "undef *Test::Harness::Switches; test_harness(0, 'blib/lib', 'blib/arch')" t/*.t
t/001Basic.t .............. ok
t/002Mult.t ............... ok
t/003Dirs.t ............... ok
t/004Utf8.t ............... ok
t/005Cwd.t ................ ok
t/006DirPerms.t ........... ok
t/007bzip.t ............... ok
# with grep: Ran 1274 iterations (251 outliers).
# with grep: Rounded run time per iteration: 0.000879 +/- 0.000001 (0.1%)
# with grep and compiled regex: Ran 1337 iterations (305 outliers).
# with grep and compiled regex: Rounded run time per iteration: 0.001260 +/- 0.000001 (0.1%)
# with eq: Ran 1337 iterations (308 outliers).
# with eq: Rounded run time per iteration: 0.000724 +/- 0.000001 (0.1%)
# with enhanced eq: Ran 1274 iterations (274 outliers).
# with enhanced eq: Rounded run time per iteration: 0.000653 +/- 0.000001 (0.1%)
# with enhanced eq mark2: Ran 1214 iterations (210 outliers).
# with enhanced eq mark2: Rounded run time per iteration: 0.000530 +/- 0.000001 (0.2%)
# with enhanced eq mark3: Ran 1214 iterations (205 outliers).
# with enhanced eq mark3: Rounded run time per iteration: 0.000424 +/- 0.000001 (0.2%)
# sort and shift: Ran 1274 iterations (256 outliers).
# sort and shift: Rounded run time per iteration: 0.001044 +/- 0.000002 (0.1%)
t/008performance.t ........ ok
# with grep: Ran 1274 iterations (274 outliers).
# with grep: Rounded run time per iteration: 0.000045 +/- 0.000000 (0.1%)
# with grep and compiled regex: Ran 1274 iterations (230 outliers).
# with grep and compiled regex: Rounded run time per iteration: 0.000053 +/- 0.000000 (0.1%)
# with eq: Ran 1274 iterations (228 outliers).
# with eq: Rounded run time per iteration: 0.000040 +/- 0.000000 (0.1%)
# with enhanced eq: Ran 1214 iterations (173 outliers).
# with enhanced eq: Rounded run time per iteration: 0.000037 +/- 0.000000 (0.2%)
# with enhanced eq mark2: Ran 1274 iterations (244 outliers).
# with enhanced eq mark2: Rounded run time per iteration: 0.000035 +/- 0.000000 (0.1%)
# with enhanced eq mark3: Ran 1337 iterations (335 outliers).
# with enhanced eq mark3: Rounded run time per iteration: 0.000033 +/- 0.000000 (0.1%)
# sort and shift: Ran 1403 iterations (393 outliers).
# sort and shift: Rounded run time per iteration: 0.000034 +/- 0.000000 (0.1%)
t/009performance-small.t .. ok
All tests successful.
Test Summary Report
-------------------
t/008performance.t (Wstat: 0 Tests: 1 Failed: 0)
TODO passed: 1
t/009performance-small.t (Wstat: 0 Tests: 1 Failed: 0)
TODO passed: 1
Files=9, Tests=54, 948 wallclock secs ( 0.06 usr 0.03 sys + 923.16 cusr 18.16 csys = 941.41 CPU)
Result: PASS
------------------------------
PREREQUISITES
------------------------------
Prerequisite modules loaded:
requires:
Module Need Have
------------------- -------- ----------
Cwd 0 3.77
File::Temp 0 0.2309
File::Which 0 1.23
IPC::Run 0 20180523.0
Log::Log4perl 0 1.49
perl 5.008001 5.029009
build_requires:
Module Need Have
------------------- -------- ----------
Dumbbench 0.111 0.111
ExtUtils::MakeMaker 0 7.34
Test::Simple 1.302073 1.302162
configure_requires:
Module Need Have
------------------- -------- ----------
ExtUtils::MakeMaker 0 7.34
File::Which 0 1.23
------------------------------
ENVIRONMENT AND OTHER CONTEXT
------------------------------
Environment variables:
LC_ALL = C
NONINTERACTIVE_TESTING = 1
PATH = /home/cpan/bin/perl-blead/bin:/home/cpan/bin/perl-blead/bin:/home/cpan/bin:/sbin:/bin:/usr/sbin:/usr/bin:/usr/local/sbin:/usr/local/bin:/home/cpan/bin
PERL5LIB =
PERL5OPT =
PERL5_CPANPLUS_IS_RUNNING = 93187
PERL5_CPAN_IS_RUNNING = 93187
PERL_MM_USE_DEFAULT = 1
PERL_USE_UNSAFE_INC = 1
PERL_VERSION = blead
SHELL = /usr/local/bin/bash
TERM = screen
TMPDIR = /home/cpan/tmp
Perl special variables (and OS-specific diagnostics, for MSWin32):
$^X = /usr/home/cpan/bin/perl-blead/bin/perl5.29.9
$UID/$EUID = 1002 / 1002
$GID = 1002 1002
$EGID = 1002 1002
Perl module toolchain versions installed:
Module Have
------------------- --------
CPAN 2.22
CPAN::Meta 2.150010
Cwd 3.77
ExtUtils::CBuilder 0.280230
ExtUtils::Command 7.34
ExtUtils::Install 2.14
ExtUtils::MakeMaker 7.34
ExtUtils::Manifest 1.71
ExtUtils::ParseXS 3.40
File::Spec 3.77
JSON n/a
JSON::PP 4.00
Module::Build 0.4224
Module::Signature n/a
Parse::CPAN::Meta 2.150010
Test::Harness 3.42
Test::More 1.302162
YAML n/a
YAML::Syck n/a
version 0.9924
--
Summary of my perl5 (revision 5 version 29 subversion 9) configuration:
Commit id: 678ae29284d351e19c3401c94ccf83538266b096
Platform:
osname=freebsd
osvers=11.2-release-p9
archname=amd64-freebsd-thread-multi
uname='freebsd cjg-freebsd11 11.2-release-p9 freebsd 11.2-release-p9 #0: tue feb 5 15:30:36 utc 2019 root@amd64-builder.daemonology.net:usrobjusrsrcsysgeneric amd64 '
config_args='-des -Dprefix=~/bin/perl-blead -Dscriptdir=~/bin/perl-blead/bin -Dusedevel -Duse64bitall -Duseithreads'
hint=recommended
useposix=true
d_sigaction=define
useithreads=define
usemultiplicity=define
use64bitint=define
use64bitall=define
uselongdouble=undef
usemymalloc=n
default_inc_excludes_dot=define
bincompat5005=undef
Compiler:
cc='cc'
ccflags ='-DHAS_FPSETMASK -DHAS_FLOATINGPOINT_H -fno-strict-aliasing -pipe -fstack-protector-strong -I/usr/local/include -D_FORTIFY_SOURCE=2'
optimize='-O2'
cppflags='-DHAS_FPSETMASK -DHAS_FLOATINGPOINT_H -fno-strict-aliasing -pipe -fstack-protector-strong -I/usr/local/include'
ccversion=''
gccversion='4.2.1 Compatible FreeBSD Clang 6.0.0 (tags/RELEASE_600/final 326565)'
gccosandvers=''
intsize=4
longsize=8
ptrsize=8
doublesize=8
byteorder=12345678
doublekind=3
d_longlong=define
longlongsize=8
d_longdbl=define
longdblsize=16
longdblkind=3
ivtype='long'
ivsize=8
nvtype='double'
nvsize=8
Off_t='off_t'
lseeksize=8
alignbytes=8
prototype=define
Linker and Libraries:
ld='cc'
ldflags ='-pthread -Wl,-E -fstack-protector-strong -L/usr/local/lib'
libpth=/usr/lib /usr/local/lib /usr/lib/clang/6.0.0/lib /usr/lib
libs=-lpthread -lgdbm -ldl -lm -lcrypt -lutil
perllibs=-lpthread -ldl -lm -lcrypt -lutil
libc=
so=so
useshrplib=false
libperl=libperl.a
gnulibc_version=''
Dynamic Linking:
dlsrc=dl_dlopen.xs
dlext=so
d_dlsymun=undef
ccdlflags=' '
cccdlflags='-DPIC -fPIC'
lddlflags='-shared -L/usr/local/lib -fstack-protector-strong'
Characteristics of this binary (from libperl):
Compile-time options:
HAS_TIMES
MULTIPLICITY
PERLIO_LAYERS
PERL_COPY_ON_WRITE
PERL_DONT_CREATE_GVSV
PERL_IMPLICIT_CONTEXT
PERL_MALLOC_WRAP
PERL_OP_PARENT
PERL_PRESERVE_IVUV
PERL_USE_DEVEL
USE_64_BIT_ALL
USE_64_BIT_INT
USE_ITHREADS
USE_LARGE_FILES
USE_LOCALE
USE_LOCALE_COLLATE
USE_LOCALE_CTYPE
USE_LOCALE_NUMERIC
USE_LOCALE_TIME
USE_PERLIO
USE_PERL_ATOF
USE_REENTRANT_API
Built under freebsd
Compiled at Feb 22 2019 14:36:27
%ENV:
PERL5LIB=""
PERL5OPT=""
PERL5_CPANPLUS_IS_RUNNING="93187"
PERL5_CPAN_IS_RUNNING="93187"
PERL_MM_USE_DEFAULT="1"
PERL_USE_UNSAFE_INC="1"
PERL_VERSION="blead"
@INC:
/home/cpan/bin/perl-blead/lib/site_perl/5.29.9/amd64-freebsd-thread-multi
/home/cpan/bin/perl-blead/lib/site_perl/5.29.9
/home/cpan/bin/perl-blead/lib/5.29.9/amd64-freebsd-thread-multi
/home/cpan/bin/perl-blead/lib/5.29.9
.