Report for Gungho-0.09008

Back
From: metabase:user:314402c4-2aae-11df-837a-5e0a49663a4f
Subject: PASS Gungho-0.09008 v5.13.4 FreeBSD
Date: 2010-09-09T12:21:46Z

This distribution has been tested as part of the CPAN Testers
project, supporting the Perl programming language.  See
http://wiki.cpantesters.org/ for more information or email
questions to cpan-testers-discuss@perl.org


--
Dear Daisuke Maki,

This is a computer-generated report for Gungho-0.09008
on perl 5.13.4, created by CPAN-Reporter-1.18.

Thank you for uploading your work to CPAN.  Congratulations!
All tests were successful.

Sections of this report:

    * Tester comments
    * Program output
    * Prerequisites
    * Environment and other context

------------------------------
TESTER COMMENTS
------------------------------

Additional comments from tester:

none provided

------------------------------
PROGRAM OUTPUT
------------------------------

Output from '/usr/bin/make test':

/usr/home/cpansand/var/ctps/5134/install/perl-5.13.4/bin/perl "-Iinc" Makefile.PL --config= --installdeps=Data::Valve,0,Data::Valve,0

*** Since we're running under CPANPLUS, I'll just let it take care
    of the dependency's installation later.
PERL_DL_NONLAZY=1 /usr/home/cpansand/var/ctps/5134/install/perl-5.13.4/bin/perl "-MExtUtils::Command::MM" "-e" "test_harness(0, 'inc', 'blib/lib', 'blib/arch')" t/01_load.t t/02_config.t t/03_live/perl-proxy.t t/03_live/perl.t t/03_live/twitter.t t/99_kwalitee.t t/99_pod-coverage.t t/99_pod.t t/component/authentication/01_load.t t/component/cache/01_load.t t/component/robot_rules/01_load.t t/component/robot_rules/02_storage.t t/component/robot_rules/regression_jkim_20071201.t t/component/robots_meta/01_load.t t/component/scraper/01_load.t t/component/throttle/01_load.t t/engine/danga-socket/01_load.t t/engine/danga-socket/02_live.t t/engine/danga-socket/04_dns.t t/engine/io-async/01_load.t t/engine/io-async/02_live.t t/engine/io-async/04_dns.t t/engine/poe/01_load.t t/engine/poe/02_live.t t/engine/poe/04_dns.t t/engine/poe/05_dns_params.t t/engine/poe/06_dns_disable.t t/plugin/request_log/01_basic.t t/plugin/statistics/01_load.t t/plugin/statistics/02_parts.t t/request/regression_jkim_20071201.t t/response/regression_jkim_20071201.t
t/01_load.t ......................................... ok
t/02_config.t ....................................... ok
t/03_live/perl-proxy.t .............................. skipped: Set proxy URI to GUNGHO_TEST_PROXY to run these tests
t/03_live/perl.t .................................... skipped: Enable GUNGHO_TEST_LIVE to run these tests
t/03_live/twitter.t ................................. skipped: Enable GUNGHO_TWITTER_USERNAME and GUNGHO_TWITTER_PASSWORD to run these tests
t/99_kwalitee.t ..................................... skipped: Enable TEST_KWALITEE to enable these tests
t/99_pod-coverage.t ................................. skipped: Enable TEST_POD environment variable to test POD
t/99_pod.t .......................................... skipped: Enable TEST_POD environment variable to test POD
t/component/authentication/01_load.t ................ ok
t/component/cache/01_load.t ......................... ok
t/component/robot_rules/01_load.t ................... ok
t/component/robot_rules/02_storage.t ................ ok
t/component/robot_rules/regression_jkim_20071201.t .. skipped: RobotRules is not enabled
t/component/robots_meta/01_load.t ................... ok
t/component/scraper/01_load.t ....................... ok
t/component/throttle/01_load.t ...................... ok
t/engine/danga-socket/01_load.t ..................... ok
t/engine/danga-socket/02_live.t ..................... skipped: Environment variable GUNGHO_TEST_LIVE is not specified
t/engine/danga-socket/04_dns.t ...................... skipped: Environment variable GUNGHO_TEST_LIVE is not specified
t/engine/io-async/01_load.t ......................... skipped: IO::Async::Buffer not available
t/engine/io-async/02_live.t ......................... skipped: IO::Async::Buffer not available
t/engine/io-async/04_dns.t .......................... skipped: IO::Async::Buffer not available
t/engine/poe/01_load.t .............................. ok
t/engine/poe/02_live.t .............................. skipped: Environment variable GUNGHO_TEST_LIVE is not specified
t/engine/poe/04_dns.t ............................... skipped: Environment variable GUNGHO_TEST_LIVE is not specified
t/engine/poe/05_dns_params.t ........................ ok
t/engine/poe/06_dns_disable.t ....................... skipped: Environment variable GUNGHO_TEST_LIVE is not specified
t/plugin/request_log/01_basic.t ..................... skipped: Enable GUNGHO_TEST_LIVE to run these tests
t/plugin/statistics/01_load.t ....................... ok
t/plugin/statistics/02_parts.t ...................... skipped: XML::LibXML, IO::String, or DBD::SQLite not installed
t/request/regression_jkim_20071201.t ................ ok
t/response/regression_jkim_20071201.t ............... ok
All tests successful.
Files=32, Tests=66, 10 wallclock secs ( 0.13 usr  0.03 sys +  4.68 cusr  0.84 csys =  5.69 CPU)
Result: PASS

------------------------------
PREREQUISITES
------------------------------

Prerequisite modules loaded:

requires:

    Module                            Need    Have      
    --------------------------------- ------- ----------
    Best                              0       0.12      
    Class::Accessor::Fast             0       0.34      
    Class::C3                         0       0.23      
    Class::C3::Componentised          0       1.0006    
    Class::C3::XS                     0       0.13      
    Class::Data::Inheritable          0       0.08      
    Class::Inspector                  0       1.24      
    Config::Any                       0       0.20      
    Danga::Socket                     0       1.61      
    Danga::Socket::Callback           0       0.01200   
    Data::Dumper                      0       2.126     
  ! Data::Valve                       0       n/a       
    DB_File                           0       1.820     
    Digest::MD5                       0       2.40      
    DirHandle                         0       1.03      
    Event::Notify                     0.00004 0.00004   
    Exception::Class                  0       1.32      
    ExtUtils::MakeMaker               6.5601  6.5601    
    File::Spec                        0       3.31_01   
    File::Temp                        0       0.22      
    FindBin                           0       1.50      
    Getopt::Long                      0       2.38      
    HTML::RobotsMETA                  0       0.00004   
    HTTP::Headers::Util               0       5.817     
    HTTP::Parser                      0       0.05      
    HTTP::Request                     0       5.827     
    HTTP::Response                    0       5.836     
    HTTP::Status                      0       5.817     
    IO::Socket::INET                  0       1.31      
    Log::Dispatch                     0       2.26      
    MIME::Base64                      0       3.09      
    Net::DNS                          0       0.66      
    Path::Class                       0       0.21      
    Path::Class::Dir                  0       0.21      
    Pod::Usage                        0       1.36      
    POE                               0.9999  1.293     
    POE::Component::Client::DNS       0       1.051     
    POE::Component::Client::HTTP      0.81    0.895     
    POE::Component::Client::Keepalive 0       0.263     
    Regexp::Common                    0       2010010201
    Storable                          0       2.22      
    Sys::Hostname                     0       1.11      
    Test::MockObject                  0       1.09      
    Test::More                        0       0.96      
    Time::HiRes                       0       1.9721    
    UNIVERSAL::isa                    0.06    1.03      
    UNIVERSAL::require                0       0.13      
    URI                               0       1.55      
    Web::Scraper::Config              0       0.01      
    WWW::RobotRules::Parser           0       0.04001   
    XML::LibXML                       0       1.70      
    YAML                              0       0.72      


------------------------------
ENVIRONMENT AND OTHER CONTEXT
------------------------------

Environment variables:

    DBIC_NO_WARN_BAD_PERL = 1
    PATH = /usr/local/bin:/usr/X11R6/bin:/usr/X11/bin:/usr/perl5.8.0/bin:/usr/bin:/bin:/usr/local/sbin:/usr/sbin:/sbin:/usr/local/pilot/bin:/home/cpansand/bin/freebsd8.0:/home/cpansand/bin/sh:/home/cpansand/bin:/usr/X386/bin:/usr/games:/home/cpansand/devel:/usr/home/e/eserte/src/perl/CPAN-Testers-ParallelSmoker/utils
    PERL5LIB = 
    PERL5OPT = 
    PERL5_CPANPLUS_IS_RUNNING = 17108
    PERL5_CPAN_IS_RUNNING = 17108
    PERL5_CPAN_IS_RUNNING_IN_RECURSION = 9925,17108
    PERL_BATCH = yes
    PERL_CPAN_REPORTER_DIR = /home/cpansand/var/ctps/5134/config/perl-5.13.4/cpanreporter
    PERL_EXTUTILS_AUTOINSTALL = --defaultdeps
    PERL_HTML_DISPLAY_CLASS = HTML::Display::Mozilla
    SHELL = /usr/local/bin/zsh
    TERM = xterm
    TMPDIR = /tmp/cpansmoker-1023

Perl special variables (and OS-specific diagnostics, for MSWin32):

    $^X = /usr/home/cpansand/var/ctps/5134/install/perl-5.13.4/bin/perl
    $UID/$EUID = 1023 / 1023
    $GID = 1023 1023
    $EGID = 1023 1023

Perl module toolchain versions installed:

    Module              Have   
    ------------------- -------
    CPAN                1.94_57
    Cwd                 3.31   
    ExtUtils::CBuilder  0.2703 
    ExtUtils::Command   1.16   
    ExtUtils::Install   1.55   
    ExtUtils::MakeMaker 6.5601 
    ExtUtils::Manifest  1.58   
    ExtUtils::ParseXS   2.2207 
    File::Spec          3.31_01
    Module::Build       0.3607 
    Module::Signature   0.66   
    Test::Harness       3.22   
    Test::More          0.96   
    YAML                0.72   
    YAML::Syck          1.14   
    version             0.82   


--

Summary of my perl5 (revision 5 version 13 subversion 4) configuration:
   
  Platform:
    osname=freebsd, osvers=8.0-release, archname=i386-freebsd
    uname='freebsd biokovo.herceg.de 8.0-release freebsd 8.0-release #0: sat nov 21 15:48:17 utc 2009 root@almeida.cse.buffalo.edu:usrobjusrsrcsysgeneric i386 '
    config_args='-ds -e -Uversiononly -Dinstallusrbinperl=n -Dusedevel -Dprefix=/home/cpansand/var/ctps/5134/install/perl-5.13.4'
    hint=recommended, useposix=true, d_sigaction=define
    useithreads=undef, usemultiplicity=undef
    useperlio=define, d_sfio=undef, uselargefiles=define, usesocks=undef
    use64bitint=undef, use64bitall=undef, uselongdouble=undef
    usemymalloc=n, bincompat5005=undef
  Compiler:
    cc='cc', ccflags ='-DHAS_FPSETMASK -DHAS_FLOATINGPOINT_H -fno-strict-aliasing -pipe -fstack-protector -I/usr/local/include',
    optimize='-O',
    cppflags='-DHAS_FPSETMASK -DHAS_FLOATINGPOINT_H -fno-strict-aliasing -pipe -fstack-protector -I/usr/local/include'
    ccversion='', gccversion='4.2.1 20070719  [FreeBSD]', gccosandvers=''
    intsize=4, longsize=4, ptrsize=4, doublesize=8, byteorder=1234
    d_longlong=define, longlongsize=8, d_longdbl=define, longdblsize=12
    ivtype='long', ivsize=4, nvtype='double', nvsize=8, Off_t='off_t', lseeksize=8
    alignbytes=4, prototype=define
  Linker and Libraries:
    ld='cc', ldflags ='-Wl,-E  -fstack-protector -L/usr/local/lib'
    libpth=/usr/lib /usr/local/lib
    libs=-lgdbm -lm -lcrypt -lutil -lc
    perllibs=-lm -lcrypt -lutil -lc
    libc=, so=so, useshrplib=false, libperl=libperl.a
    gnulibc_version=''
  Dynamic Linking:
    dlsrc=dl_dlopen.xs, dlext=so, d_dlsymun=undef, ccdlflags=' '
    cccdlflags='-DPIC -fPIC', lddlflags='-shared  -L/usr/local/lib -fstack-protector'


Characteristics of this binary (from libperl): 
  Compile-time options: PERL_DONT_CREATE_GVSV PERL_MALLOC_WRAP PERL_USE_DEVEL
                        USE_LARGE_FILES USE_PERLIO USE_PERL_ATOF
  Built under freebsd
  Compiled at Sep  7 2010 20:45:15
  %ENV:
    PERL5LIB=""
    PERL5OPT=""
    PERL5_CPANPLUS_IS_RUNNING="17108"
    PERL5_CPAN_IS_RUNNING="17108"
    PERL5_CPAN_IS_RUNNING_IN_RECURSION="9925,17108"
    PERL_BATCH="yes"
    PERL_CPAN_REPORTER_DIR="/home/cpansand/var/ctps/5134/config/perl-5.13.4/cpanreporter"
    PERL_EXTUTILS_AUTOINSTALL="--defaultdeps"
    PERL_HTML_DISPLAY_CLASS="HTML::Display::Mozilla"
  @INC:
    /home/cpansand/var/ctps/5134/install/perl-5.13.4/lib/site_perl/5.13.4/i386-freebsd
    /home/cpansand/var/ctps/5134/install/perl-5.13.4/lib/site_perl/5.13.4
    /home/cpansand/var/ctps/5134/install/perl-5.13.4/lib/5.13.4/i386-freebsd
    /home/cpansand/var/ctps/5134/install/perl-5.13.4/lib/5.13.4
    .