IO-Compress-Lzf v2.205 Perl 5 v5.12.0 amd64-freebsd

Status
Pass
From
Bartosz Jarzyna
Dist
IO-Compress-Lzf v2.205
Platform
Perl 5 v5.12.0 amd64-freebsd
Date
2023-07-22 14:34:05
ID
cfa361a8-289c-11ee-9320-a69a961eb6c6
This distribution has been tested as part of the CPAN Testers
project, supporting the Perl programming language.  See
http://wiki.cpantesters.org/ for more information or email
questions to cpan-testers-discuss@perl.org


--
Dear Paul Marquess,

This is a computer-generated report for IO-Compress-Lzf-2.205
on perl 5.12.0, created by CPAN-Reporter-1.2018.

Thank you for uploading your work to CPAN.  Congratulations!
All tests were successful.

Sections of this report:

    * Tester comments
    * Program output
    * Prerequisites
    * Environment and other context

------------------------------
TESTER COMMENTS
------------------------------

Additional comments from tester:

this report is from an automated smoke testing program
and was not reviewed by a human for accuracy

------------------------------
PROGRAM OUTPUT
------------------------------

Output from 'make test':

PERL_DL_NONLAZY=1 "/home/smoker12/perl5/perlbrew/perls/perl-5.12.0/bin/perl" "-MExtUtils::Command::MM" "-MTest::Harness" "-e" "undef *Test::Harness::Switches; test_harness(0, 'blib/lib', 'blib/arch')" t/*.t
t/000prereq.t ........ ok
t/050interop-lzf.t ... skipped: Cannot find lzf
t/100generic-lzf.t ... ok
t/101truncate-lzf.t .. ok
t/102tied-lzf.t ...... ok
t/103newtied-lzf.t ... ok
t/104destroy-lzf.t ... ok
t/105oneshot-lzf.t ... ok
t/106prime-lzf.t ..... skipped: Lengthy Tests Disabled
t/107multi-lzf.t ..... ok
t/108anyunc-lzf.t .... ok
t/110encode-lzf.t .... ok
t/999pod.t ........... ok
t/meta-json.t ........ skipped: Test::CPAN::Meta::JSON required for testing META.json
t/meta-yaml.t ........ skipped: Test::CPAN::Meta required for testing META.yml
All tests successful.
Files=15, Tests=5007, 15 wallclock secs ( 0.60 usr  0.04 sys +  2.11 cusr  0.34 csys =  3.09 CPU)
Result: PASS

------------------------------
PREREQUISITES
------------------------------

Prerequisite modules loaded:

requires:

    Module               Need  Have 
    -------------------- ----- -----
    Compress::LZF        0     3.8  
    IO::Compress::Base   2.205 2.205
    IO::Uncompress::Base 2.205 2.205

build_requires:

    Module               Need  Have 
    -------------------- ----- -----
    ExtUtils::MakeMaker  0     7.64 

configure_requires:

    Module               Need  Have 
    -------------------- ----- -----
    ExtUtils::MakeMaker  0     7.64 


------------------------------
ENVIRONMENT AND OTHER CONTEXT
------------------------------

Environment variables:

    AUTOMATED_TESTING = 1
    LANG = C.UTF-8
    PATH = /sbin:/bin:/usr/sbin:/usr/bin:/usr/local/sbin:/usr/local/bin:/home/smoker12/bin
    PERL5LIB = /home/smoker12/.cpan/build/Compress-LZF-3.8-73PPMM/blib/arch:/home/smoker12/.cpan/build/Compress-LZF-3.8-73PPMM/blib/lib:/home/smoker12/.cpan/build/IO-Compress-2.205-By0B_h/blib/arch:/home/smoker12/.cpan/build/IO-Compress-2.205-By0B_h/blib/lib:/home/smoker12/.cpan/build/Compress-Raw-Zlib-2.205-2Q4Es9/blib/arch:/home/smoker12/.cpan/build/Compress-Raw-Zlib-2.205-2Q4Es9/blib/lib:/home/smoker12/.cpan/build/Compress-Raw-Bzip2-2.205-qIGNaO/blib/arch:/home/smoker12/.cpan/build/Compress-Raw-Bzip2-2.205-qIGNaO/blib/lib
    PERL5OPT = 
    PERL5_CPANPLUS_IS_RUNNING = 67163
    PERL5_CPAN_IS_RUNNING = 67163
    PERL5_CPAN_IS_RUNNING_IN_RECURSION = 5009,67163
    PERL_CR_SMOKER_CURRENT = IO-Compress-Lzf-2.205
    PERL_EXTUTILS_AUTOINSTALL = --defaultdeps
    PERL_MM_USE_DEFAULT = 1
    SHELL = /bin/sh

Perl special variables (and OS-specific diagnostics, for MSWin32):

    $^X = /home/smoker12/perl5/perlbrew/perls/perl-5.12.0/bin/perl
    $UID/$EUID = 1002 / 1002
    $GID = 1002 1002
    $EGID = 1002 1002

Perl module toolchain versions installed:

    Module              Have    
    ------------------- --------
    CPAN                1.94_56 
    CPAN::Meta          2.143240
    Cwd                 3.31    
    ExtUtils::CBuilder  0.27    
    ExtUtils::Command   7.64    
    ExtUtils::Install   2.06    
    ExtUtils::MakeMaker 7.64    
    ExtUtils::Manifest  1.70    
    ExtUtils::ParseXS   2.21    
    File::Spec          3.31    
    JSON                n/a     
    JSON::PP            4.12    
    Module::Build       0.3603  
    Module::Signature   n/a     
    Parse::CPAN::Meta   1.4414  
    Test::Harness       3.17    
    Test::More          1.302191
    YAML                n/a     
    YAML::Syck          1.34    
    version             0.9929  


--

Summary of my perl5 (revision 5 version 12 subversion 0) configuration:
   
  Platform:
    osname=freebsd, osvers=13.1-release-p3, archname=amd64-freebsd
    uname='freebsd smoker-10.smoker 13.1-release-p3 freebsd 13.1-release-p3 generic amd64 '
    config_args='-de -Dprefix=/home/smoker12/perl5/perlbrew/perls/perl-5.12.0 -Duse64bitint -Aeval:scriptdir=/home/smoker12/perl5/perlbrew/perls/perl-5.12.0/bin'
    hint=recommended, useposix=true, d_sigaction=define
    useithreads=undef, usemultiplicity=undef
    useperlio=define, d_sfio=undef, uselargefiles=define, usesocks=undef
    use64bitint=define, use64bitall=define, uselongdouble=undef
    usemymalloc=n, bincompat5005=undef
  Compiler:
    cc='cc', ccflags ='-DHAS_FPSETMASK -DHAS_FLOATINGPOINT_H -fno-strict-aliasing -pipe -fstack-protector -I/usr/local/include',
    optimize='-O2',
    cppflags='-DHAS_FPSETMASK -DHAS_FLOATINGPOINT_H -fno-strict-aliasing -pipe -fstack-protector -I/usr/local/include'
    ccversion='', gccversion='FreeBSD Clang 13.0.0 (git@github.com:llvm/llvm-project.git llvmorg-13.0.0-0-gd7b669b3a303)', gccosandvers=''
    intsize=4, longsize=8, ptrsize=8, doublesize=8, byteorder=12345678
    d_longlong=define, longlongsize=8, d_longdbl=define, longdblsize=16
    ivtype='long', ivsize=8, nvtype='double', nvsize=8, Off_t='off_t', lseeksize=8
    alignbytes=8, prototype=define
  Linker and Libraries:
    ld='cc', ldflags ='-Wl,-E  -fstack-protector -L/usr/local/lib'
    libpth=/usr/lib /usr/local/lib
    libs=-ldl -lm -lcrypt -lutil -lc
    perllibs=-ldl -lm -lcrypt -lutil -lc
    libc=, so=so, useshrplib=false, libperl=libperl.a
    gnulibc_version=''
  Dynamic Linking:
    dlsrc=dl_dlopen.xs, dlext=so, d_dlsymun=undef, ccdlflags=' '
    cccdlflags='-DPIC -fPIC', lddlflags='-shared  -L/usr/local/lib -fstack-protector'


Characteristics of this binary (from libperl): 
  Compile-time options: PERL_DONT_CREATE_GVSV PERL_MALLOC_WRAP USE_64_BIT_ALL
                        USE_64_BIT_INT USE_LARGE_FILES USE_PERLIO
                        USE_PERL_ATOF
  Locally applied patches:
	Devel::PatchPerl 2.08
  Built under freebsd
  Compiled at Nov 17 2022 20:51:41
  %ENV:
    PERL5LIB="/home/smoker12/.cpan/build/Compress-LZF-3.8-73PPMM/blib/arch:/home/smoker12/.cpan/build/Compress-LZF-3.8-73PPMM/blib/lib:/home/smoker12/.cpan/build/IO-Compress-2.205-By0B_h/blib/arch:/home/smoker12/.cpan/build/IO-Compress-2.205-By0B_h/blib/lib:/home/smoker12/.cpan/build/Compress-Raw-Zlib-2.205-2Q4Es9/blib/arch:/home/smoker12/.cpan/build/Compress-Raw-Zlib-2.205-2Q4Es9/blib/lib:/home/smoker12/.cpan/build/Compress-Raw-Bzip2-2.205-qIGNaO/blib/arch:/home/smoker12/.cpan/build/Compress-Raw-Bzip2-2.205-qIGNaO/blib/lib"
    PERL5OPT=""
    PERL5_CPANPLUS_IS_RUNNING="67163"
    PERL5_CPAN_IS_RUNNING="67163"
    PERL5_CPAN_IS_RUNNING_IN_RECURSION="5009,67163"
    PERL_CR_SMOKER_CURRENT="IO-Compress-Lzf-2.205"
    PERL_EXTUTILS_AUTOINSTALL="--defaultdeps"
    PERL_MM_USE_DEFAULT="1"
  @INC:
    /home/smoker12/.cpan/build/Compress-LZF-3.8-73PPMM/blib/arch
    /home/smoker12/.cpan/build/Compress-LZF-3.8-73PPMM/blib/lib
    /home/smoker12/.cpan/build/IO-Compress-2.205-By0B_h/blib/arch
    /home/smoker12/.cpan/build/IO-Compress-2.205-By0B_h/blib/lib
    /home/smoker12/.cpan/build/Compress-Raw-Zlib-2.205-2Q4Es9/blib/arch
    /home/smoker12/.cpan/build/Compress-Raw-Zlib-2.205-2Q4Es9/blib/lib
    /home/smoker12/.cpan/build/Compress-Raw-Bzip2-2.205-qIGNaO/blib/arch
    /home/smoker12/.cpan/build/Compress-Raw-Bzip2-2.205-qIGNaO/blib/lib
    /home/smoker12/perl5/perlbrew/perls/perl-5.12.0/lib/site_perl/5.12.0/amd64-freebsd
    /home/smoker12/perl5/perlbrew/perls/perl-5.12.0/lib/site_perl/5.12.0
    /home/smoker12/perl5/perlbrew/perls/perl-5.12.0/lib/5.12.0/amd64-freebsd
    /home/smoker12/perl5/perlbrew/perls/perl-5.12.0/lib/5.12.0
    .