JPList v0.05 Perl 5 v5.24.1 x86_64-linux
        
            - Status
- Pass
- From
- Slaven Rezić (SREZIC)
- Dist
- 
                JPList v0.05
            
- Platform
- Perl 5 v5.24.1 x86_64-linux
- Date
- 2017-09-21 08:49:42
- ID
- cf8da85a-9ea9-11e7-9e30-8f4c9e3c5e11
This distribution has been tested as part of the CPAN Testers
project, supporting the Perl programming language.  See
http://wiki.cpantesters.org/ for more information or email
questions to cpan-testers-discuss@perl.org
--
Dear Sheeju Alex,
This is a computer-generated report for JPList-0.05
on perl 5.24.1, created by CPAN-Reporter-1.2018.
Thank you for uploading your work to CPAN.  Congratulations!
All tests were successful.
Sections of this report:
    * Tester comments
    * Program output
    * Prerequisites
    * Environment and other context
------------------------------
TESTER COMMENTS
------------------------------
Additional comments from tester:
none provided
------------------------------
PROGRAM OUTPUT
------------------------------
Output from '/usr/bin/make test':
PERL_DL_NONLAZY=1 "/opt/perl-5.24.1/bin/perl5.24.1" "-MExtUtils::Command::MM" "-MTest::Harness" "-e" "undef *Test::Harness::Switches; test_harness(0, 'blib/lib', 'blib/arch')" t/*.t
t/00-load.t ... ok
[jplist info] SELECT * FROM "Items" LIMIT ? OFFSET ?
[jplist info] bind_vals 10 0 
[jplist info] SELECT * FROM "Items" LIMIT ? OFFSET ?
[jplist info] bind_vals 10 10 
[jplist info] SELECT * FROM "Items" WHERE ( "Title" LIKE ? ) LIMIT ? OFFSET ?
[jplist info] bind_vals %Arch% 10 0 
t/01-run.t .... ok
t/manifest.t .. skipped: Author tests not required for installation
All tests successful.
Files=3, Tests=51,  0 wallclock secs ( 0.02 usr  0.02 sys +  0.38 cusr  0.05 csys =  0.47 CPU)
Result: PASS
------------------------------
PREREQUISITES
------------------------------
Prerequisite modules loaded:
requires:
    Module               Need   Have    
    -------------------- ------ --------
    JSON                 2.90   2.94    
    Moose                2.1604 2.2006  
    namespace::autoclean 0.28   0.28    
    perl                 5.006  5.024001
    SQL::Abstract        1.81   1.84    
    URI::Escape          1.72   3.31    
build_requires:
    Module               Need   Have    
    -------------------- ------ --------
    DBI                  1.630  1.637   
    FindBin              0      1.51    
    Test::Class          0.50   0.50    
    Test::Exception      0      0.43    
    Test::More           0      1.302096
    Test::Most           0.34   0.35    
configure_requires:
    Module               Need   Have    
    -------------------- ------ --------
    ExtUtils::MakeMaker  0      7.30    
------------------------------
ENVIRONMENT AND OTHER CONTEXT
------------------------------
Environment variables:
    LANG = en_US.UTF-8
    PATH = /usr/local/bin:/usr/bin:/bin:/usr/local/sbin:/usr/sbin:/sbin:/home/cpansand/bin/linux-gnu:/home/cpansand/bin/sh:/home/cpansand/bin:/usr/games:/home/cpansand/devel:/home/eserte/src/srezic-misc/scripts
    PERL5LIB = /home/cpansand/.cpan/build/2017092106/Catmandu-1.0604-X0kVFf/blib/arch:/home/cpansand/.cpan/build/2017092106/Catmandu-1.0604-X0kVFf/blib/lib:/home/cpansand/.cpan/build/2017092106/Async-Simple-Pool-0.14-3KJxSe/blib/arch:/home/cpansand/.cpan/build/2017092106/Async-Simple-Pool-0.14-3KJxSe/blib/lib:/home/cpansand/.cpan/build/2017092106/Dist-Zilla-App-Command-distversion-0.003-uxD3iC/blib/arch:/home/cpansand/.cpan/build/2017092106/Dist-Zilla-App-Command-distversion-0.003-uxD3iC/blib/lib
    PERL5OPT = 
    PERL5_CPANPLUS_IS_RUNNING = 9064
    PERL5_CPAN_IS_RUNNING = 9064
    PERL5_CPAN_IS_RUNNING_IN_RECURSION = 9008,9064
    PERLDOC = -MPod::Perldoc::ToTextOverstrike
    PERL_BATCH = yes
    PERL_CANARY_STABILITY_NOPROMPT = 1
    PERL_CPAN_REPORTER_CONFIG = /var/tmp/cpansmoker-1023/2017092106/cpanreporter_000_config.ini
    PERL_EXTUTILS_AUTOINSTALL = --defaultdeps
    SHELL = /usr/bin/zsh
    TERM = screen
    TMPDIR = /var/tmp/cpansmoker-1023/2017092106
Perl special variables (and OS-specific diagnostics, for MSWin32):
    $^X = /opt/perl-5.24.1/bin/perl5.24.1
    $UID/$EUID = 1023 / 1023
    $GID = 1023 1023
    $EGID = 1023 1023
Perl module toolchain versions installed:
    Module              Have      
    ------------------- ----------
    CPAN                2.11_01   
    CPAN::Meta          2.150005  
    Cwd                 3.63_01   
    ExtUtils::CBuilder  0.280225  
    ExtUtils::Command   7.30      
    ExtUtils::Install   2.06      
    ExtUtils::MakeMaker 7.30      
    ExtUtils::Manifest  1.70      
    ExtUtils::ParseXS   3.31      
    File::Spec          3.63_01   
    JSON                2.94      
    JSON::PP            2.94      
    Module::Build       0.4224    
    Module::Signature   0.81      
    Parse::CPAN::Meta   1.4417_001
    Test::Harness       3.36_01   
    Test::More          1.302096  
    YAML                1.23      
    YAML::Syck          1.30      
    version             0.9916    
--
Summary of my perl5 (revision 5 version 24 subversion 1) configuration:
   
  Platform:
    osname=linux, osvers=4.4.0-81-generic, archname=x86_64-linux
    uname='linux ubuntu16 4.4.0-81-generic #104-ubuntu smp wed jun 14 08:17:06 utc 2017 x86_64 x86_64 x86_64 gnulinux '
    config_args='-ds -e -Dprefix=/opt/perl-5.24.1 -Dcf_email=srezic@cpan.org'
    hint=recommended, useposix=true, d_sigaction=define
    useithreads=undef, usemultiplicity=undef
    use64bitint=define, use64bitall=define, uselongdouble=undef
    usemymalloc=n, bincompat5005=undef
  Compiler:
    cc='cc', ccflags ='-fwrapv -fno-strict-aliasing -pipe -fstack-protector-strong -I/usr/local/include -D_LARGEFILE_SOURCE -D_FILE_OFFSET_BITS=64',
    optimize='-O2',
    cppflags='-fwrapv -fno-strict-aliasing -pipe -fstack-protector-strong -I/usr/local/include'
    ccversion='', gccversion='5.4.0 20160609', gccosandvers=''
    intsize=4, longsize=8, ptrsize=8, doublesize=8, byteorder=12345678, doublekind=3
    d_longlong=define, longlongsize=8, d_longdbl=define, longdblsize=16, longdblkind=3
    ivtype='long', ivsize=8, nvtype='double', nvsize=8, Off_t='off_t', lseeksize=8
    alignbytes=8, prototype=define
  Linker and Libraries:
    ld='cc', ldflags =' -fstack-protector-strong -L/usr/local/lib'
    libpth=/usr/local/lib /usr/lib/gcc/x86_64-linux-gnu/5/include-fixed /usr/include/x86_64-linux-gnu /usr/lib /lib/x86_64-linux-gnu /lib/../lib /usr/lib/x86_64-linux-gnu /usr/lib/../lib /lib
    libs=-lpthread -lnsl -lgdbm -ldb -ldl -lm -lcrypt -lutil -lc -lgdbm_compat
    perllibs=-lpthread -lnsl -ldl -lm -lcrypt -lutil -lc
    libc=libc-2.23.so, so=so, useshrplib=false, libperl=libperl.a
    gnulibc_version='2.23'
  Dynamic Linking:
    dlsrc=dl_dlopen.xs, dlext=so, d_dlsymun=undef, ccdlflags='-Wl,-E'
    cccdlflags='-fPIC', lddlflags='-shared -O2 -L/usr/local/lib -fstack-protector-strong'
Characteristics of this binary (from libperl): 
  Compile-time options: HAS_TIMES PERLIO_LAYERS PERL_COPY_ON_WRITE
                        PERL_DONT_CREATE_GVSV
                        PERL_HASH_FUNC_ONE_AT_A_TIME_HARD PERL_MALLOC_WRAP
                        PERL_PRESERVE_IVUV USE_64_BIT_ALL USE_64_BIT_INT
                        USE_LARGE_FILES USE_LOCALE USE_LOCALE_COLLATE
                        USE_LOCALE_CTYPE USE_LOCALE_NUMERIC USE_LOCALE_TIME
                        USE_PERLIO USE_PERL_ATOF
  Built under linux
  Compiled at Jun 21 2017 05:36:18
  %ENV:
    PERL5LIB="/home/cpansand/.cpan/build/2017092106/Catmandu-1.0604-X0kVFf/blib/arch:/home/cpansand/.cpan/build/2017092106/Catmandu-1.0604-X0kVFf/blib/lib:/home/cpansand/.cpan/build/2017092106/Async-Simple-Pool-0.14-3KJxSe/blib/arch:/home/cpansand/.cpan/build/2017092106/Async-Simple-Pool-0.14-3KJxSe/blib/lib:/home/cpansand/.cpan/build/2017092106/Dist-Zilla-App-Command-distversion-0.003-uxD3iC/blib/arch:/home/cpansand/.cpan/build/2017092106/Dist-Zilla-App-Command-distversion-0.003-uxD3iC/blib/lib"
    PERL5OPT=""
    PERL5_CPANPLUS_IS_RUNNING="9064"
    PERL5_CPAN_IS_RUNNING="9064"
    PERL5_CPAN_IS_RUNNING_IN_RECURSION="9008,9064"
    PERLDOC="-MPod::Perldoc::ToTextOverstrike"
    PERL_BATCH="yes"
    PERL_CANARY_STABILITY_NOPROMPT="1"
    PERL_CPAN_REPORTER_CONFIG="/var/tmp/cpansmoker-1023/2017092106/cpanreporter_000_config.ini"
    PERL_EXTUTILS_AUTOINSTALL="--defaultdeps"
  @INC:
    /home/cpansand/.cpan/build/2017092106/Catmandu-1.0604-X0kVFf/blib/arch
    /home/cpansand/.cpan/build/2017092106/Catmandu-1.0604-X0kVFf/blib/lib
    /home/cpansand/.cpan/build/2017092106/Async-Simple-Pool-0.14-3KJxSe/blib/arch
    /home/cpansand/.cpan/build/2017092106/Async-Simple-Pool-0.14-3KJxSe/blib/lib
    /home/cpansand/.cpan/build/2017092106/Dist-Zilla-App-Command-distversion-0.003-uxD3iC/blib/arch
    /home/cpansand/.cpan/build/2017092106/Dist-Zilla-App-Command-distversion-0.003-uxD3iC/blib/lib
    /opt/perl-5.24.1/lib/site_perl/5.24.1/x86_64-linux
    /opt/perl-5.24.1/lib/site_perl/5.24.1
    /opt/perl-5.24.1/lib/5.24.1/x86_64-linux
    /opt/perl-5.24.1/lib/5.24.1
    .