Test-Class-Moose v0.92 Perl 5 v5.26.1 armv7l-linux-multi

Status
Pass
From
Nigel Horne
Dist
Test-Class-Moose v0.92
Platform
Perl 5 v5.26.1 armv7l-linux-multi
Date
2018-03-10 00:48:55
ID
cf6cdaa2-23fc-11e8-ac72-d78a67fdcd96
This distribution has been tested as part of the CPAN Testers
project, supporting the Perl programming language.  See
http://wiki.cpantesters.org/ for more information or email
questions to cpan-testers-discuss@perl.org


--
Dear Dave Rolsky,

This is a computer-generated report for Test-Class-Moose-0.92
on perl 5.26.1, created by CPAN-Reporter-1.2018.

Thank you for uploading your work to CPAN.  Congratulations!
All tests were successful.

Sections of this report:

    * Tester comments
    * Program output
    * Prerequisites
    * Environment and other context

------------------------------
TESTER COMMENTS
------------------------------

Additional comments from tester:

none provided

------------------------------
PROGRAM OUTPUT
------------------------------

Output from '/usr/bin/make test':

PERL_DL_NONLAZY=1 "/home/njh/perl5/perlbrew/perls/perl-5.26.1-multi/bin/perl5.26.1" "-MExtUtils::Command::MM" "-MTest::Harness" "-e" "undef *Test::Harness::Switches; test_harness(0, 'blib/lib', 'blib/arch')" t/*.t
# 
# Versions for all modules listed in MYMETA.json (including optional ones):
# 
# === Configure Requires ===
# 
#     Module              Want Have
#     ------------------- ---- ----
#     ExtUtils::MakeMaker  any 7.30
# 
# === Build Requires ===
# 
#     Module              Want Have
#     ------------------- ---- ----
#     ExtUtils::MakeMaker  any 7.30
# 
# === Test Requires ===
# 
#     Module                    Want     Have
#     --------------------- -------- --------
#     ExtUtils::MakeMaker        any     7.30
#     File::Spec                 any     3.67
#     File::Temp                 any   0.2304
#     Test2::Tools::Basic        any 0.000106
#     Test2::Tools::Class        any 0.000106
#     Test2::Tools::Compare      any 0.000106
#     Test2::Tools::Subtest      any 0.000106
#     Test2::V0                  any 0.000106
#     Test::Builder              any 1.302130
#     Test::More            1.302015 1.302130
#     Test::Requires             any     0.10
#     Test::Warnings             any    0.026
#     lib                        any     0.64
# 
# === Test Recommends ===
# 
#     Module           Want     Have
#     ------------ -------- --------
#     CPAN::Meta   2.120900 2.150010
#     Test::Output   0.0005    1.031
# 
# === Runtime Requires ===
# 
#     Module                            Want     Have
#     ---------------------------- --------- --------
#     Benchmark                          any     1.22
#     Carp                               any     1.42
#     Class::MOP                         any   2.2010
#     Exporter                           any     5.72
#     File::Find                         any     1.34
#     File::Spec                         any     3.67
#     Import::Into                       any 1.002005
#     JSON                               any     2.94
#     List::SomeUtils                    any     0.56
#     List::Util                         any  1.46_02
#     Module::Runtime                    any    0.015
#     Module::Util                       any     1.09
#     Moose                           2.0000   2.2010
#     Moose::Role                     2.0000   2.2010
#     Moose::Util                        any   2.2010
#     Moose::Util::TypeConstraints       any   2.2010
#     MooseX::Getopt                    0.71     0.71
#     MooseX::Getopt::Dashes             any     0.71
#     Package::DeprecationManager       0.16     0.17
#     Parallel::ForkManager              any     1.19
#     Scalar::Util                       any  1.46_02
#     Sub::Attribute                     any     0.06
#     TAP::Formatter::Color             3.29     3.38
#     Test2                        1.1302118 1.302130
#     Test2::API                         any 1.302130
#     Test2::AsyncSubtest           0.000018 0.000106
#     Test2::IPC                         any 1.302130
#     Test2::Tools::AsyncSubtest         any 0.000106
#     Test::Most                         any     0.35
#     Try::Tiny                          any     0.28
#     namespace::autoclean               any     0.28
#     strict                             any     1.11
#     warnings                           any     1.37
# 
# === Runtime Recommends ===
# 
#     Module                  Want Have
#     --------------------- ------ ----
#     Parallel::ForkManager v0.7.6 1.19
# 
t/00-report-prereqs.t .......... ok
t/bare.t ....................... ok
t/autouse.t .................... ok
t/environment.t ................ ok
t/basic.t ...................... ok
t/cli.t ........................ ok
t/executor_roles.t ............. ok
t/load.t ....................... ok
t/include_classes.t ............ ok
t/include_exclude.t ............ ok
t/no_tests_run.t ............... ok
t/non_randomize_classes.t ...... ok
......................XX..t/plans.t ...................... ok
t/process_name.t ............... ok
t/parameterized.t .............. ok
t/reportpassed.t ............... ok
t/parallel.t ................... ok
t/tags.t ....................... ok
t/skip.t ....................... ok
t/test_class_is_not_loaded.t ... ok
t/test_control_methods_skip.t .. ok
t/test_control_methods.t ....... ok
t/timing.t ..................... ok
t/todo.t ....................... ok
All tests successful.
Files=24, Tests=209, 52 wallclock secs ( 2.44 usr  0.30 sys + 130.51 cusr  6.54 csys = 139.79 CPU)
Result: PASS

------------------------------
PREREQUISITES
------------------------------

Prerequisite modules loaded:

requires:

    Module                       Need      Have    
    ---------------------------- --------- --------
    Benchmark                    0         1.22    
    Carp                         0         1.42    
    Class::MOP                   0         2.2010  
    Exporter                     0         5.72    
    File::Find                   0         1.34    
    File::Spec                   0         3.67    
    Import::Into                 0         1.002005
    JSON                         0         2.94    
    List::SomeUtils              0         0.56    
    List::Util                   0         1.46_02 
    Module::Runtime              0         0.015   
    Module::Util                 0         1.09    
    Moose                        2.0000    2.2010  
    Moose::Role                  2.0000    2.2010  
    Moose::Util                  0         2.2010  
    Moose::Util::TypeConstraints 0         2.2010  
    MooseX::Getopt               0.71      0.71    
    MooseX::Getopt::Dashes       0         0.71    
    namespace::autoclean         0         0.28    
    Package::DeprecationManager  0.16      0.17    
    Parallel::ForkManager        0         1.19    
    perl                         5.010000  5.026001
    Scalar::Util                 0         1.46_02 
    strict                       0         1.11    
    Sub::Attribute               0         0.06    
    TAP::Formatter::Color        3.29      3.38    
    Test2                        1.1302118 1.302130
    Test2::API                   0         1.302130
    Test2::AsyncSubtest          0.000018  0.000106
    Test2::IPC                   0         1.302130
    Test2::Tools::AsyncSubtest   0         0.000106
    Test::Most                   0         0.35    
    Try::Tiny                    0         0.28    
    warnings                     0         1.37    

build_requires:

    Module                       Need      Have    
    ---------------------------- --------- --------
    ExtUtils::MakeMaker          0         7.30    
    File::Spec                   0         3.67    
    File::Temp                   0         0.2304  
    lib                          0         0.64    
    Test2::Tools::Basic          0         0.000106
    Test2::Tools::Class          0         0.000106
    Test2::Tools::Compare        0         0.000106
    Test2::Tools::Subtest        0         0.000106
    Test2::V0                    0         0.000106
    Test::Builder                0         1.302130
    Test::More                   1.302015  1.302130
    Test::Requires               0         0.10    
    Test::Warnings               0         0.026   

configure_requires:

    Module                       Need      Have    
    ---------------------------- --------- --------
    ExtUtils::MakeMaker          0         7.30    


------------------------------
ENVIRONMENT AND OTHER CONTEXT
------------------------------

Environment variables:

    HARNESS_OPTIONS = j4:c
    LANG = en_GB.UTF-8
    LD_LIBRARY_PATH = /usr/local/lib:
    PATH = /home/njh/perl5/perlbrew/bin:/home/njh/perl5/perlbrew/perls/perl-5.26.1-multi/bin::/home/njh/bin:/usr/local/sbin:/usr/local/bin:/usr/sbin:/usr/bin:/sbin:/bin:/usr/local/games:/usr/games
    PERL5LIB = 
    PERL5OPT = 
    PERL5_CPANPLUS_IS_RUNNING = 23735
    PERL5_CPAN_IS_RUNNING = 23735
    PERLBREW_BASHRC_VERSION = 0.80
    PERLBREW_HOME = /home/njh/.perlbrew
    PERLBREW_MANPATH = /home/njh/perl5/perlbrew/perls/perl-5.26.1-multi/man
    PERLBREW_PATH = /home/njh/perl5/perlbrew/bin:/home/njh/perl5/perlbrew/perls/perl-5.26.1-multi/bin
    PERLBREW_PERL = perl-5.26.1-multi
    PERLBREW_ROOT = /home/njh/perl5/perlbrew
    PERLBREW_VERSION = 0.80
    PERL_USE_UNSAFE_INC = 1
    SHELL = /bin/bash
    TERM = xterm-256color
    TMPDIR = /home/njh/tmp

Perl special variables (and OS-specific diagnostics, for MSWin32):

    $^X = /home/njh/perl5/perlbrew/perls/perl-5.26.1-multi/bin/perl5.26.1
    $UID/$EUID = 1000 / 1000
    $GID = 1000 4 20 24 25 27 29 30 44 46 60 100 101 108 997 998 999 1000
    $EGID = 1000 4 20 24 25 27 29 30 44 46 60 100 101 108 997 998 999 1000

Perl module toolchain versions installed:

    Module              Have      
    ------------------- ----------
    CPAN                2.18      
    CPAN::Meta          2.150010  
    Cwd                 3.67      
    ExtUtils::CBuilder  0.280225  
    ExtUtils::Command   7.30      
    ExtUtils::Install   2.06      
    ExtUtils::MakeMaker 7.30      
    ExtUtils::Manifest  1.70      
    ExtUtils::ParseXS   3.34      
    File::Spec          3.67      
    JSON                2.94      
    JSON::PP            2.27400_02
    Module::Build       0.4224    
    Module::Signature   n/a       
    Parse::CPAN::Meta   2.150010  
    Test::Harness       3.38      
    Test::More          1.302130  
    YAML                1.24      
    YAML::Syck          1.30      
    version             0.9917    


--

Summary of my perl5 (revision 5 version 26 subversion 1) configuration:
   
  Platform:
    osname=linux
    osvers=4.9.40-v7+
    archname=armv7l-linux-multi
    uname='linux pi2 4.9.40-v7+ #1022 smp sun jul 30 11:16:10 bst 2017 armv7l gnulinux '
    config_args='-de -Dprefix=/home/njh/perl5/perlbrew/perls/perl-5.26.1-multi -Dusedevel -Dusemultiplicity -Accflags= -Aeval:scriptdir=/home/njh/perl5/perlbrew/perls/perl-5.26.1-multi/bin'
    hint=recommended
    useposix=true
    d_sigaction=define
    useithreads=undef
    usemultiplicity=define
    use64bitint=undef
    use64bitall=undef
    uselongdouble=undef
    usemymalloc=n
    default_inc_excludes_dot=define
    bincompat5005=undef
  Compiler:
    cc='cc'
    ccflags ='-fwrapv -fno-strict-aliasing -pipe -fstack-protector-strong -I/usr/local/include -D_LARGEFILE_SOURCE -D_FILE_OFFSET_BITS=64 -D_FORTIFY_SOURCE=2'
    optimize='-O2'
    cppflags='-fwrapv -fno-strict-aliasing -pipe -fstack-protector-strong -I/usr/local/include'
    ccversion=''
    gccversion='6.3.0 20170516'
    gccosandvers=''
    intsize=4
    longsize=4
    ptrsize=4
    doublesize=8
    byteorder=1234
    doublekind=3
    d_longlong=define
    longlongsize=8
    d_longdbl=define
    longdblsize=8
    longdblkind=0
    ivtype='long'
    ivsize=4
    nvtype='double'
    nvsize=8
    Off_t='off_t'
    lseeksize=8
    alignbytes=8
    prototype=define
  Linker and Libraries:
    ld='cc'
    ldflags =' -fstack-protector-strong -L/usr/local/lib'
    libpth=/usr/local/lib /usr/lib/gcc/arm-linux-gnueabihf/6/include-fixed /usr/include/arm-linux-gnueabihf /usr/lib /lib/arm-linux-gnueabihf /lib /usr/lib/arm-linux-gnueabihf
    libs=-lpthread -lnsl -lgdbm -ldb -ldl -lm -lcrypt -lutil -lc -lgdbm_compat
    perllibs=-lpthread -lnsl -ldl -lm -lcrypt -lutil -lc
    libc=libc-2.24.so
    so=so
    useshrplib=false
    libperl=libperl.a
    gnulibc_version='2.24'
  Dynamic Linking:
    dlsrc=dl_dlopen.xs
    dlext=so
    d_dlsymun=undef
    ccdlflags='-Wl,-E'
    cccdlflags='-fPIC'
    lddlflags='-shared -O2 -L/usr/local/lib -fstack-protector-strong'


Characteristics of this binary (from libperl): 
  Compile-time options:
    HAS_TIMES
    MULTIPLICITY
    PERLIO_LAYERS
    PERL_COPY_ON_WRITE
    PERL_DONT_CREATE_GVSV
    PERL_HASH_FUNC_ONE_AT_A_TIME_HARD
    PERL_IMPLICIT_CONTEXT
    PERL_MALLOC_WRAP
    PERL_OP_PARENT
    PERL_PRESERVE_IVUV
    PERL_USE_DEVEL
    USE_LARGE_FILES
    USE_LOCALE
    USE_LOCALE_COLLATE
    USE_LOCALE_CTYPE
    USE_LOCALE_NUMERIC
    USE_LOCALE_TIME
    USE_PERLIO
    USE_PERL_ATOF
  Built under linux
  Compiled at Oct  2 2017 03:03:53
  %ENV:
    PERL5LIB=""
    PERL5OPT=""
    PERL5_CPANPLUS_IS_RUNNING="23735"
    PERL5_CPAN_IS_RUNNING="23735"
    PERLBREW_BASHRC_VERSION="0.80"
    PERLBREW_HOME="/home/njh/.perlbrew"
    PERLBREW_MANPATH="/home/njh/perl5/perlbrew/perls/perl-5.26.1-multi/man"
    PERLBREW_PATH="/home/njh/perl5/perlbrew/bin:/home/njh/perl5/perlbrew/perls/perl-5.26.1-multi/bin"
    PERLBREW_PERL="perl-5.26.1-multi"
    PERLBREW_ROOT="/home/njh/perl5/perlbrew"
    PERLBREW_VERSION="0.80"
    PERL_USE_UNSAFE_INC="1"
  @INC:
    /home/njh/perl5/perlbrew/perls/perl-5.26.1-multi/lib/site_perl/5.26.1/armv7l-linux-multi
    /home/njh/perl5/perlbrew/perls/perl-5.26.1-multi/lib/site_perl/5.26.1
    /home/njh/perl5/perlbrew/perls/perl-5.26.1-multi/lib/5.26.1/armv7l-linux-multi
    /home/njh/perl5/perlbrew/perls/perl-5.26.1-multi/lib/5.26.1
    .