HTML-Shakan v2.10 Perl 5 v5.30.2 amd64-openbsd

Status
Pass
From
Alceu Rodrigues de Freitas Junior
Dist
HTML-Shakan v2.10
Platform
Perl 5 v5.30.2 amd64-openbsd
Date
2020-06-12 06:56:14
ID
ced7446c-ac79-11ea-9f39-874af5ffae69
This distribution has been tested as part of the CPAN Testers
project, supporting the Perl programming language.  See
http://wiki.cpantesters.org/ for more information or email
questions to cpan-testers-discuss@perl.org


--
Dear Masayuki Matsuki,

This is a computer-generated report for HTML-Shakan-2.10
on perl 5.30.2, created by CPAN-Reporter-1.2018.

Thank you for uploading your work to CPAN.  Congratulations!
All tests were successful.

Sections of this report:

    * Tester comments
    * Program output
    * Prerequisites
    * Environment and other context

------------------------------
TESTER COMMENTS
------------------------------

Additional comments from tester:

this report is from an automated smoke testing program
and was not reviewed by a human for accuracy

------------------------------
PROGRAM OUTPUT
------------------------------

Output from './Build test':

t/00_compile.t ............................. ok
t/010_core/001_render.t .................... ok
# FVL: 0.40
t/010_core/002_validator.t ................. ok
t/010_core/003_widgets.t ................... ok
t/010_core/004_filter.t .................... ok
t/010_core/005_bind_filter.t ............... ok
t/010_core/006_fillin_form.t ............... ok
t/010_core/007_fillin_date.t ............... ok
t/010_core/008_declare.t ................... ok
t/010_core/009_validator_message.t ......... ok
t/010_core/010_submitted.t ................. ok
t/010_core/011_custom_validation_form.t .... ok
t/010_core/012_custom_validation_field.t ... ok
t/010_core/013_render_field.t .............. ok
t/010_core/014_multi_value.t ............... ok
t/020_inflator/001_datetime.t .............. ok
t/020_inflator/002_dt_join.t ............... ok
# FVL: 0.40
t/030_field/001_file.t ..................... ok
# FVL: 0.40
t/030_field/002_image.t .................... ok
t/030_field/003_duplication.t .............. ok
t/040_model/001_datamodel.t ................ skipped: Test requires module 'Data::Model' but it's not found
t/040_model/002_skinny.t ................... skipped: Test requires module 'DBIx::Skinny' but it's not found
t/040_model/003_teng.t ..................... ok
t/999_regression/001_destructive_widget.t .. ok
t/upload_submitted.t ....................... ok
All tests successful.
Files=25, Tests=101, 12 wallclock secs ( 0.08 usr  0.20 sys +  7.62 cusr  3.25 csys = 11.15 CPU)
Result: PASS

------------------------------
PREREQUISITES
------------------------------

Prerequisite modules loaded:

requires:

    Module                       Need     Have    
    ---------------------------- -------- --------
    Email::Valid::Loose          0.05     0.05    
    FormValidator::Lite          0.24     0.40    
    Hash::MultiValue             0        0.16    
    HTML::Escape                 0        1.10    
    List::MoreUtils              0.22     0.428   
    List::Util                   1.32     1.55    
    Mouse                        0.9      v2.5.10 
    parent                       0        0.238   
    perl                         5.008001 5.030002
    Scalar::Util                 0        1.55    

build_requires:

    Module                       Need     Have    
    ---------------------------- -------- --------
    CGI                          0        4.49    
    Test::More                   0.98     1.302175
    Test::Requires               0.06     0.11    

configure_requires:

    Module                       Need     Have    
    ---------------------------- -------- --------
    Module::Build                0        0.4231  
    Module::Build::Tiny          0.035    0.039   

opt_requires:

    Module                       Need     Have    
    ---------------------------- -------- --------
    DateTime                     0        1.52    
    DateTime::Format::HTTP       0        0.42    
  ! HTML::Scrubber               0        n/a     
    Lingua::JA::Regular::Unicode 0        0.13    

opt_build_requires:

    Module                       Need     Have    
    ---------------------------- -------- --------
  ! DBIx::Skinny                 0        n/a     
  ! DBIx::Skinny::Row            0        n/a     
  ! DBIx::Skinny::Schema         0        n/a     
    Teng                         0        0.32    
    Teng::Row                    0        0       
    Teng::Schema::Declare        0        0       


------------------------------
ENVIRONMENT AND OTHER CONTEXT
------------------------------

Environment variables:

    AUTOMATED_TESTING = 1
    DBD_MYSQL_TESTDB = test
    DBD_MYSQL_TESTHOST = localhost
    DBD_MYSQL_TESTPASSWORD = 
    DBD_MYSQL_TESTPORT = 3306
    DBD_MYSQL_TESTUSER = goku
    EXTENDED_TESTING = 1
    PATH = /home/goku/perl5/perlbrew/bin:/home/goku/perl5/bin:/home/goku/bin:/usr/bin:/bin:/usr/sbin:/sbin:/usr/X11R6/bin:/usr/local/bin:/usr/local/sbin
    PERL5LIB = /home/goku/perl5/lib/perl5
    PERL5OPT = 
    PERL5_CPANPLUS_IS_RUNNING = 4319
    PERL5_CPAN_IS_RUNNING = 4319
    PERL5_CPAN_IS_RUNNING_IN_RECURSION = 86281,4319
    PERLBREW_HOME = /home/goku/.perlbrew
    PERLBREW_PATH = /home/goku/perl5/perlbrew/bin
    PERLBREW_ROOT = /home/goku/perl5/perlbrew
    PERLBREW_SHELLRC_VERSION = 0.88
    PERLBREW_VERSION = 0.88
    PERL_CR_SMOKER_CURRENT = Ark-1.22
    PERL_EXTUTILS_AUTOINSTALL = --defaultdeps
    PERL_LOCAL_LIB_ROOT = /home/goku/perl5
    PERL_MB_OPT = --install_base "/home/goku/perl5"
    PERL_MM_OPT = INSTALL_BASE=/home/goku/perl5
    PERL_MM_USE_DEFAULT = 1
    PERL_USE_UNSAFE_INC = 1
    SHELL = /usr/local/bin/bash
    TERM = xterm-256color

Perl special variables (and OS-specific diagnostics, for MSWin32):

    $^X = /usr/bin/perl
    $UID/$EUID = 1001 / 1001
    $GID = 999 999 1001
    $EGID = 999 999 1001

Perl module toolchain versions installed:

    Module              Have    
    ------------------- --------
    CPAN                2.28    
    CPAN::Meta          2.150010
    Cwd                 3.78    
    ExtUtils::CBuilder  0.280234
    ExtUtils::Command   7.45_01 
    ExtUtils::Install   2.14    
    ExtUtils::MakeMaker 7.45_01 
    ExtUtils::Manifest  1.72    
    ExtUtils::ParseXS   3.40    
    File::Spec          3.78    
    JSON                4.02    
    JSON::PP            4.04    
    Module::Build       0.4231  
    Module::Signature   0.83    
    Parse::CPAN::Meta   2.150010
    Test::Harness       3.43_02 
    Test::More          1.302175
    YAML                1.30    
    YAML::Syck          n/a     
    version             0.9924  


--

Summary of my perl5 (revision 5 version 30 subversion 2) configuration:
   
  Platform:
    osname=openbsd
    osvers=6.7
    archname=amd64-openbsd
    uname='openbsd'
    config_args='-dsE -Dopenbsd_distribution=defined -Dccflags=-DNO_LOCALE_NUMERIC -DNO_LOCALE_COLLATE -Dmksymlinks'
    hint=recommended
    useposix=true
    d_sigaction=define
    useithreads=undef
    usemultiplicity=undef
    use64bitint=define
    use64bitall=define
    uselongdouble=undef
    usemymalloc=n
    default_inc_excludes_dot=define
    bincompat5005=undef
  Compiler:
    cc='cc'
    ccflags ='-DNO_LOCALE_NUMERIC -DNO_LOCALE_COLLATE -fno-strict-aliasing -fno-delete-null-pointer-checks -pipe -fstack-protector-strong -D_FORTIFY_SOURCE=2 -I/usr/local/include'
    optimize='-O2'
    cppflags='-DNO_LOCALE_NUMERIC -DNO_LOCALE_COLLATE -fno-strict-aliasing -fno-delete-null-pointer-checks -pipe -fstack-protector-strong -I/usr/local/include'
    ccversion=''
    gccversion='4.2.1 Compatible OpenBSD Clang 8.0.1 (tags/RELEASE_801/final)'
    gccosandvers=''
    intsize=4
    longsize=8
    ptrsize=8
    doublesize=8
    byteorder=12345678
    doublekind=3
    d_longlong=define
    longlongsize=8
    d_longdbl=define
    longdblsize=16
    longdblkind=3
    ivtype='long'
    ivsize=8
    nvtype='double'
    nvsize=8
    Off_t='off_t'
    lseeksize=8
    alignbytes=8
    prototype=define
  Linker and Libraries:
    ld='cc'
    ldflags ='-Wl,-E  -fstack-protector-strong -L/usr/local/lib'
    libpth=/usr/lib /usr/lib
    libs=-lm -lc
    perllibs=-lm -lc
    libc=/usr/lib/libc.a
    so=so
    useshrplib=true
    libperl=libperl.so.20.0
    gnulibc_version=''
  Dynamic Linking:
    dlsrc=dl_dlopen.xs
    dlext=so
    d_dlsymun=undef
    ccdlflags='-Wl,-R/usr/libdata/perl5/amd64-openbsd/CORE'
    cccdlflags='-DPIC -fPIC '
    lddlflags='-shared -fPIC  -fstack-protector-strong -L/usr/local/lib'


Characteristics of this binary (from libperl): 
  Compile-time options:
    HAS_TIMES
    PERLIO_LAYERS
    PERL_COPY_ON_WRITE
    PERL_DONT_CREATE_GVSV
    PERL_MALLOC_WRAP
    PERL_OP_PARENT
    PERL_PRESERVE_IVUV
    USE_64_BIT_ALL
    USE_64_BIT_INT
    USE_LARGE_FILES
    USE_LOCALE
    USE_LOCALE_CTYPE
    USE_LOCALE_TIME
    USE_PERLIO
    USE_PERL_ATOF
  Built under openbsd
  %ENV:
    PERL5LIB="/home/goku/perl5/lib/perl5"
    PERL5OPT=""
    PERL5_CPANPLUS_IS_RUNNING="4319"
    PERL5_CPAN_IS_RUNNING="4319"
    PERL5_CPAN_IS_RUNNING_IN_RECURSION="86281,4319"
    PERLBREW_HOME="/home/goku/.perlbrew"
    PERLBREW_PATH="/home/goku/perl5/perlbrew/bin"
    PERLBREW_ROOT="/home/goku/perl5/perlbrew"
    PERLBREW_SHELLRC_VERSION="0.88"
    PERLBREW_VERSION="0.88"
    PERL_CR_SMOKER_CURRENT="Ark-1.22"
    PERL_EXTUTILS_AUTOINSTALL="--defaultdeps"
    PERL_LOCAL_LIB_ROOT="/home/goku/perl5"
    PERL_MB_OPT="--install_base "/home/goku/perl5""
    PERL_MM_OPT="INSTALL_BASE=/home/goku/perl5"
    PERL_MM_USE_DEFAULT="1"
    PERL_USE_UNSAFE_INC="1"
  @INC:
    /home/goku/perl5/lib/perl5/5.30.2/amd64-openbsd
    /home/goku/perl5/lib/perl5/5.30.2
    /home/goku/perl5/lib/perl5/amd64-openbsd
    /home/goku/perl5/lib/perl5
    /usr/local/libdata/perl5/site_perl/amd64-openbsd
    /usr/local/libdata/perl5/site_perl
    /usr/libdata/perl5/amd64-openbsd
    /usr/libdata/perl5
    .