Monkey-Patch-Action v0.061 Perl 5 v5.20.0 x86_64-linux

Status
Pass
From
Nigel Horne
Dist
Monkey-Patch-Action v0.061
Platform
Perl 5 v5.20.0 x86_64-linux
Date
2019-11-17 15:34:56
ID
cecd1294-094f-11ea-80e7-b93663a9c918
This distribution has been tested as part of the CPAN Testers
project, supporting the Perl programming language.  See
http://wiki.cpantesters.org/ for more information or email
questions to cpan-testers-discuss@perl.org


--
Dear perlancar,

This is a computer-generated report for Monkey-Patch-Action-0.061
on perl 5.20.0, created by CPAN-Reporter-1.2018.

Thank you for uploading your work to CPAN.  Congratulations!
All tests were successful.

Sections of this report:

    * Tester comments
    * Program output
    * Prerequisites
    * Environment and other context

------------------------------
TESTER COMMENTS
------------------------------

Additional comments from tester:

none provided

------------------------------
PROGRAM OUTPUT
------------------------------

Output from '/usr/bin/make test':

PERL_DL_NONLAZY=1 "/home/njh/perl5/perlbrew/perls/perl-5.20.0-clang/bin/perl5.20.0" "-MExtUtils::Command::MM" "-MTest::Harness" "-e" "undef *Test::Harness::Switches; test_harness(0, 'blib/lib', 'blib/arch')" t/*.t
t/00-compile.t ........... ok
t/author-critic.t ........ skipped: these tests are for testing by the author
t/author-pod-coverage.t .. skipped: these tests are for testing by the author
t/author-pod-syntax.t .... skipped: these tests are for testing by the author
t/patch_object.t ......... ok
Warning: unapplying patch to Foo::f1 (applied in t/patch_package.t:289) before a wrapping patch at /tmp/user/1000/build/Monkey-Patch-Action-0.061-pytvPM/blib/lib/Monkey/Patch/Action/Handle.pm line 88.
t/patch_package.t ........ ok
All tests successful.
Files=6, Tests=25,  0 wallclock secs ( 0.05 usr  0.00 sys +  0.21 cusr  0.01 csys =  0.27 CPU)
Result: PASS

------------------------------
PREREQUISITES
------------------------------

Prerequisite modules loaded:

requires:

    Module              Need     Have    
    ------------------- -------- --------
    Exporter            5.57     5.70    
    perl                5.010001 5.020000
    Scalar::Util        0        1.38    
    strict              0        1.08    
    Sub::Delete         0        1.00002 
    warnings            0        1.23    

build_requires:

    Module              Need     Have    
    ------------------- -------- --------
    ExtUtils::MakeMaker 0        7.38    
    File::Spec          0        3.47    
    IO::Handle          0        1.35    
    IPC::Open3          0        1.16    
    Test::More          0.98     1.302168

configure_requires:

    Module              Need     Have    
    ------------------- -------- --------
    ExtUtils::MakeMaker 0        7.38    


------------------------------
ENVIRONMENT AND OTHER CONTEXT
------------------------------

Environment variables:

    LANG = en_GB.UTF-8
    NONINTERACTIVE_TESTING = 1
    PATH = /home/njh/perl5/perlbrew/bin:/home/njh/perl5/perlbrew/perls/perl-5.20.0-clang/bin:/home/njh/perl5/perlbrew/bin:/usr/bin:/bin:/home/njh/src/njh/smoker/bin
    PERL5LIB = 
    PERL5OPT = 
    PERL5_CPANPLUS_IS_RUNNING = 144538
    PERL5_CPAN_IS_RUNNING = 144538
    PERL5_CPAN_IS_RUNNING_IN_RECURSION = 144536,144538
    PERLBREW_LIB = 
    PERLBREW_MANPATH = /home/njh/perl5/perlbrew/perls/perl-5.20.0-clang/man
    PERLBREW_PATH = /home/njh/perl5/perlbrew/bin:/home/njh/perl5/perlbrew/perls/perl-5.20.0-clang/bin
    PERLBREW_PERL = perl-5.20.0-clang
    PERLBREW_ROOT = /home/njh/perl5/perlbrew
    PERLBREW_SHELLRC_VERSION = 0.87
    PERLBREW_VERSION = 0.87
    PERL_LOCAL_LIB_ROOT = 
    PERL_MM_USE_DEFAULT = 1
    SHELL = /bin/sh
    TEMP = /tmp/user/1000
    TMPDIR = /tmp/user/1000

Perl special variables (and OS-specific diagnostics, for MSWin32):

    $^X = /home/njh/perl5/perlbrew/perls/perl-5.20.0-clang/bin/perl5.20.0
    $UID/$EUID = 1000 / 1000
    $GID = 1000 4 24 25 29 30 44 46 107 112 118 996 1000
    $EGID = 1000 4 24 25 29 30 44 46 107 112 118 996 1000

Perl module toolchain versions installed:

    Module              Have    
    ------------------- --------
    CPAN                2.05    
    CPAN::Meta          2.143240
    Cwd                 3.47    
    ExtUtils::CBuilder  0.280216
    ExtUtils::Command   7.38    
    ExtUtils::Install   2.06    
    ExtUtils::MakeMaker 7.38    
    ExtUtils::Manifest  1.70    
    ExtUtils::ParseXS   3.24    
    File::Spec          3.47    
    JSON                4.02    
    JSON::PP            2.27203 
    Module::Build       0.4229  
    Module::Signature   n/a     
    Parse::CPAN::Meta   1.4414  
    Test::Harness       3.42    
    Test::More          1.302168
    YAML                1.29    
    YAML::Syck          n/a     
    version             0.9908  


--

Summary of my perl5 (revision 5 version 20 subversion 0) configuration:
   
  Platform:
    osname=linux, osvers=5.2.0-3-amd64, archname=x86_64-linux
    uname='linux microcenter 5.2.0-3-amd64 #1 smp debian 5.2.17-1 (2019-09-26) x86_64 gnulinux '
    config_args='-de -Dprefix=/home/njh/perl5/perlbrew/perls/perl-5.20.0-clang -Dusedevel -Dcc=clang -Accflags= -Aeval:scriptdir=/home/njh/perl5/perlbrew/perls/perl-5.20.0-clang/bin'
    hint=recommended, useposix=true, d_sigaction=define
    useithreads=undef, usemultiplicity=undef
    use64bitint=define, use64bitall=define, uselongdouble=undef
    usemymalloc=n, bincompat5005=undef
  Compiler:
    cc='clang', ccflags ='-fno-strict-aliasing -pipe -fstack-protector -I/usr/local/include -D_LARGEFILE_SOURCE -D_FILE_OFFSET_BITS=64',
    optimize='-O2',
    cppflags='-fno-strict-aliasing -pipe -fstack-protector -I/usr/local/include'
    ccversion='', gccversion='4.2.1 Compatible Clang 8.0.1 (tags/RELEASE_801/final)', gccosandvers=''
    intsize=4, longsize=8, ptrsize=8, doublesize=8, byteorder=12345678
    d_longlong=define, longlongsize=8, d_longdbl=define, longdblsize=16
    ivtype='long', ivsize=8, nvtype='double', nvsize=8, Off_t='off_t', lseeksize=8
    alignbytes=8, prototype=define
  Linker and Libraries:
    ld='clang', ldflags =' -fstack-protector -L/usr/local/lib'
    libpth=/usr/local/lib /usr/lib/llvm-8/lib/clang/8.0.1/lib /usr/include/x86_64-linux-gnu /usr/lib /lib/x86_64-linux-gnu /lib/../lib /usr/lib/x86_64-linux-gnu /usr/lib/../lib /lib
    libs=-lnsl -lgdbm -ldb -ldl -lm -lcrypt -lutil -lc
    perllibs=-lnsl -ldl -lm -lcrypt -lutil -lc
    libc=libc-2.29.so, so=so, useshrplib=false, libperl=libperl.a
    gnulibc_version='2.29'
  Dynamic Linking:
    dlsrc=dl_dlopen.xs, dlext=so, d_dlsymun=undef, ccdlflags='-Wl,-E'
    cccdlflags='-fPIC', lddlflags='-shared -O2 -L/usr/local/lib -fstack-protector'


Characteristics of this binary (from libperl): 
  Compile-time options: HAS_TIMES PERLIO_LAYERS PERL_DONT_CREATE_GVSV
                        PERL_HASH_FUNC_ONE_AT_A_TIME_HARD PERL_MALLOC_WRAP
                        PERL_NEW_COPY_ON_WRITE PERL_PRESERVE_IVUV
                        PERL_USE_DEVEL USE_64_BIT_ALL USE_64_BIT_INT
                        USE_LARGE_FILES USE_LOCALE USE_LOCALE_COLLATE
                        USE_LOCALE_CTYPE USE_LOCALE_NUMERIC USE_PERLIO
                        USE_PERL_ATOF
  Built under linux
  Compiled at Nov  8 2019 01:19:55
  %ENV:
    PERL5LIB=""
    PERL5OPT=""
    PERL5_CPANPLUS_IS_RUNNING="144538"
    PERL5_CPAN_IS_RUNNING="144538"
    PERL5_CPAN_IS_RUNNING_IN_RECURSION="144536,144538"
    PERLBREW_LIB=""
    PERLBREW_MANPATH="/home/njh/perl5/perlbrew/perls/perl-5.20.0-clang/man"
    PERLBREW_PATH="/home/njh/perl5/perlbrew/bin:/home/njh/perl5/perlbrew/perls/perl-5.20.0-clang/bin"
    PERLBREW_PERL="perl-5.20.0-clang"
    PERLBREW_ROOT="/home/njh/perl5/perlbrew"
    PERLBREW_SHELLRC_VERSION="0.87"
    PERLBREW_VERSION="0.87"
    PERL_LOCAL_LIB_ROOT=""
    PERL_MM_USE_DEFAULT="1"
  @INC:
    /home/njh/perl5/perlbrew/perls/perl-5.20.0-clang/lib/site_perl/5.20.0/x86_64-linux
    /home/njh/perl5/perlbrew/perls/perl-5.20.0-clang/lib/site_perl/5.20.0
    /home/njh/perl5/perlbrew/perls/perl-5.20.0-clang/lib/5.20.0/x86_64-linux
    /home/njh/perl5/perlbrew/perls/perl-5.20.0-clang/lib/5.20.0
    .