LaTeXML v0.8.8 Perl 5 v5.40.2 MSWin32-x64-multi-thread

Status
Pass
From
LNATION
Dist
LaTeXML v0.8.8
Platform
Perl 5 v5.40.2 MSWin32-x64-multi-thread
Date
2025-05-25 13:48:41
ID
ceb1ef57-6e6b-1014-a469-87023dcb3f5f
This distribution has been tested as part of the CPAN Testers
project, supporting the Perl programming language.  See
http://wiki.cpantesters.org/ for more information or email
questions to cpan-testers-discuss@perl.org


--
Dear Bruce Miller,

This is a computer-generated report for LaTeXML-0.8.8
on perl 5.40.2, created by CPAN-Reporter-1.2020.

Thank you for uploading your work to CPAN.  Congratulations!
All tests were successful.

Sections of this report:

    * Tester comments
    * Program output
    * Prerequisites
    * Environment and other context

------------------------------
TESTER COMMENTS
------------------------------

Additional comments from tester:

this report is from an automated smoke testing program
and was not reviewed by a human for accuracy

------------------------------
PROGRAM OUTPUT
------------------------------

Output from 'C:\Strawberry\c\bin\gmake.EXE test':

"C:\Strawberry\perl\bin\perl.exe" "-MExtUtils::Command::MM" "-MTest::Harness" "-e" "undef *Test::Harness::Switches; test_harness(0, 'blib\lib', 'blib\arch')" t/*.t
# 
#   LaTeXML version 0.8.8
#   XML::LibXML 2.0210; libxml2 21210
#   XML::LibXSLT 2.003000; libxslt 10139
#   No TeX
t/000_test_context.t ...... ok
t/002_unit_findfile.t ..... ok
# Skip: This unit test only examines basic Image::Magick conversion, when installed.
t/003_unit_imagemagick.t .. ok
t/00_unittest.t ........... ok
t/05_tokenize.t ........... ok
# Skip: Missing requirement etoolbox.sty for t/expansion/etoolbox
# Skip: Missing requirement ifthen.sty for t/expansion/ifthen
# Skip: Missing requirement t1enc.def for t/expansion/meaning
# Skip: Missing requirement textcase.sty for t/expansion/textcase
t/10_expansion.t .......... ok
t/12_grouping.t ........... ok
t/170_grammar_coverage.t .. skipped: Only checked in continuous integration. (use make test CI=true)
t/20_digestion.t .......... ok
t/22_fonts.t .............. ok
# Skip: Missing requirement ansinew.def for t/encoding/ansinew
# Skip: Missing requirement applemac.def for t/encoding/applemac
# Skip: Missing requirement cp1250.def for t/encoding/cp1250
# Skip: Missing requirement cp1252.def for t/encoding/cp1252
# Skip: Missing requirement cp437.def for t/encoding/cp437
# Skip: Missing requirement cp437de.def for t/encoding/cp437de
# Skip: Missing requirement cp850.def for t/encoding/cp850
# Skip: Missing requirement cp852.def for t/encoding/cp852
# Skip: Missing requirement cp858.def for t/encoding/cp858
# Skip: Missing requirement cp865.def for t/encoding/cp865
# Skip: Missing requirement decmulti.def for t/encoding/decmulti
# Skip: Missing requirement latin1.def for t/encoding/latin1
# Skip: Missing requirement latin10.def for t/encoding/latin10
# Skip: Missing requirement latin2.def for t/encoding/latin2
# Skip: Missing requirement latin3.def for t/encoding/latin3
# Skip: Missing requirement latin4.def for t/encoding/latin4
# Skip: Missing requirement latin5.def for t/encoding/latin5
# Skip: Missing requirement latin9.def for t/encoding/latin9
# Skip: Missing requirement ly1enc.def for t/encoding/ly1
# Skip: Missing requirement ot1enc.def for t/encoding/ot1
# Skip: Missing requirement t1enc.def for t/encoding/t1
# Skip: Missing requirement t2aenc.def for t/encoding/t2a
# Skip: Missing requirement t2benc.def for t/encoding/t2b
# Skip: Missing requirement t2cenc.def for t/encoding/t2c
# Skip: Missing requirement ts1enc.def for t/encoding/ts1
t/30_encoding.t ........... ok
# Skip: Missing requirement xkvview.sty for t/keyval/xkeyvalview
t/32_keyval.t ............. ok
t/33_keyval_options.t ..... ok
t/40_math.t ............... ok
# Skip: Missing requirement amsart.cls for t/structure/amsarticle
# Skip: Missing requirement csquotes.sty for t/structure/csquotes
# Skip: Missing requirement graphicx.sty for t/structure/figure_grids
# Skip: Missing requirement glossaries.sty for t/structure/glossary
t/50_structure.t .......... ok
t/52_namespace.t .......... ok
# Skip: Missing requirement algorithm.sty for t/alignment/algx
# Skip: Missing requirement makecell.sty for t/alignment/cells
# Skip: Missing requirement listings.cfg for t/alignment/listing
t/53_alignment.t .......... ok
# Skip: Missing requirement ntheorem.std for t/theorem/ntheorem
t/55_theorem.t ............ ok
t/56_ams.t ................ ok
# Skip: Missing requirement dvipsnam.def for t/graphics/colors
# Skip: Missing requirement dvipsnam.def for t/graphics/xcolors
t/65_graphics.t ........... ok
t/70_parse.t .............. ok
# Skip: Missing requirement cleveref.sty for t/complex/cleveref_minimal
# Skip: Missing requirement graphicx.sty for t/complex/figure_dual_caption
# Skip: Missing requirement graphicx.sty for t/complex/figure_mixed_content
# Skip: Missing requirement siunitx.sty for t/complex/si
t/80_complex.t ............ ok
# Skip: Missing requirement babel.sty for t/babel/csquotes
# Skip: Missing requirement babel.sty for t/babel/french
# Skip: Missing requirement babel.sty for t/babel/german
# Skip: Missing requirement babel.sty for t/babel/greek
# Skip: Missing requirement babel.sty for t/babel/numprints
# Skip: Missing requirement babel.sty for t/babel/page545
t/81_babel.t .............. ok
t/82_moderncv.t ........... ok
# Skip: Missing requirement expl3.sty for t/expl3/tilde_tricks
# Skip: Missing requirement expl3.sty for t/expl3/xparse
t/83_expl3.t .............. ok
t/84_slides.t ............. ok
t/90_latexmlpost.t ........ ok
t/91_latexmlc_api.t ....... ok
# Skip: Missing requirement dvipsnam.def for t/daemon/profiles/fragment
# Skip: Missing requirement dvipsnam.def for t/daemon/profiles/math
t/92_profiles.t ........... ok
t/931_epub.t .............. ok
# Skip: Missing requirement amsart.cls for t/daemon/formats/jats
# Skip: Missing requirement amsart.cls for t/daemon/formats/tei
t/93_formats.t ............ ok
t/94_runtimes.t ........... ok
t/95_complex_config.t ..... ok
t/96_fatal.t .............. ok
t/97_manifest.t ........... skipped: Only checked in continuous integration. (use make test CI=true)
All tests successful.
Files=35, Tests=452, 429 wallclock secs ( 0.22 usr +  0.22 sys =  0.44 CPU)
Result: PASS

------------------------------
PREREQUISITES
------------------------------

Prerequisite modules loaded:

requires:

    Module               Need     Have    
    -------------------- -------- --------
    Archive::Zip         0        1.68    
    DB_File              0        1.859   
    File::Which          0        1.27    
    Getopt::Long         2.37     2.58    
    Image::Size          0        3.300   
    IO::Handle           0        1.55    
    IO::String           0        1.08    
    JSON::XS             0        4.03    
    LWP                  0        6.78    
    MIME::Base64         0        3.16_01 
    Parse::RecDescent    0        1.967015
    perl                 5.010001 5.040002
    Pod::Parser          0        1.65_01 
    Test::More           0        1.302214
    Text::Unidecode      0        1.30    
    Time::HiRes          0        1.9777  
    URI                  0        5.32    
    version              0        0.9933  
    Win32::Console       0        0.10    
    Win32::Console::ANSI 0        1.11_001
    Win32::ShellQuote    0        0.003001
    XML::LibXML          1.61     2.0210  
    XML::LibXSLT         1.58     2.003000

build_requires:

    Module               Need     Have    
    -------------------- -------- --------
    ExtUtils::MakeMaker  0        7.76    


------------------------------
ENVIRONMENT AND OTHER CONTEXT
------------------------------

Environment variables:

    AUTOMATED_TESTING = 1
    COMSPEC = C:\Windows\system32\cmd.exe
    NUMBER_OF_PROCESSORS = 2
    PATH = C:\Windows\system32;C:\Windows;C:\Windows\System32\Wbem;C:\Windows\System32\WindowsPowerShell\v1.0\;C:\Windows\System32\OpenSSH\;C:\Program Files\Amazon\cfn-bootstrap\;C:\Strawberry\c\bin;C:\Strawberry\perl\site\bin;C:\Strawberry\perl\bin;C:\Users\Administrator\AppData\Local\Microsoft\WindowsApps;C:\Users\Administrator\AppData\Local\Microsoft\WinGet\Links;
    PERL5LIB = 
    PERL5OPT = 
    PERL5_CPANPLUS_IS_RUNNING = 1972
    PERL5_CPAN_IS_RUNNING = 1972
    PERL5_CPAN_IS_RUNNING_IN_RECURSION = 3772,1972
    PERL_CR_SMOKER_CURRENT = LaTeXML-0.8.8
    PERL_EXTUTILS_AUTOINSTALL = --defaultdeps
    PERL_MM_USE_DEFAULT = 1
    PERL_USE_UNSAFE_INC = 1
    PROCESSOR_IDENTIFIER = Intel64 Family 6 Model 85 Stepping 7, GenuineIntel
    TEMP = C:\Users\ADMINI~1\AppData\Local\Temp\2

Perl special variables (and OS-specific diagnostics, for MSWin32):

    $^X = C:\Strawberry\perl\bin\perl.exe
    $UID/$EUID = 0 / 0
    $GID = 0
    $EGID = 0
    Win32::GetOSName = WinServer
    Win32::GetOSVersion = , 10, 0, 26100, 2, 0, 0, 400, 3
    Win32::FsType = NTFS
    Win32::IsAdminUser = 1

Perl module toolchain versions installed:

    Module              Have    
    ------------------- --------
    CPAN                2.38    
    CPAN::Meta          2.150010
    Cwd                 3.91    
    ExtUtils::CBuilder  0.280240
    ExtUtils::Command   7.76    
    ExtUtils::Install   2.22    
    ExtUtils::MakeMaker 7.76    
    ExtUtils::Manifest  1.75    
    ExtUtils::ParseXS   3.57    
    File::Spec          3.91    
    JSON                4.10    
    JSON::PP            4.16    
    Module::Build       0.4234  
    Module::Signature   n/a     
    Parse::CPAN::Meta   2.150010
    Test2               1.302214
    Test::Harness       3.52    
    Test::More          1.302214
    YAML                1.31    
    YAML::Syck          1.34    
    version             0.9933  


--

Summary of my perl5 (revision 5 version 40 subversion 2) configuration:
   
  Platform:
    osname=MSWin32
    osvers=10.0.22631.5189
    archname=MSWin32-x64-multi-thread
    uname='Win32 strawberry-perl 5.40.2.1 # 05:42:50 Sun May 11 2025 x64'
    config_args='undef'
    hint=recommended
    useposix=true
    d_sigaction=undef
    useithreads=define
    usemultiplicity=define
    use64bitint=define
    use64bitall=undef
    uselongdouble=undef
    usemymalloc=n
    default_inc_excludes_dot=define
  Compiler:
    cc='gcc'
    ccflags ='-std=c99 -DWIN32 -DWIN64 -DPERL_TEXTMODE_SCRIPTS -DMULTIPLICITY -DPERL_IMPLICIT_SYS -DUSE_PERLIO -D__USE_MINGW_ANSI_STDIO -fwrapv -fno-strict-aliasing -mms-bitfields'
    optimize='-O2'
    cppflags='-DWIN32'
    ccversion=''
    gccversion='13.2.0'
    gccosandvers=''
    intsize=4
    longsize=4
    ptrsize=8
    doublesize=8
    byteorder=12345678
    doublekind=3
    d_longlong=define
    longlongsize=8
    d_longdbl=define
    longdblsize=16
    longdblkind=3
    ivtype='long long'
    ivsize=8
    nvtype='double'
    nvsize=8
    Off_t='long long'
    lseeksize=8
    alignbytes=8
    prototype=define
  Linker and Libraries:
    ld='g++'
    ldflags ='-s -L"C:\STRAWB~1\perl\lib\CORE" -L"C:\STRAWB~1\c\lib" -L"C:\STRAWB~1\c\x86_64-w64-mingw32\lib" -L"C:\STRAWB~1\c\lib\gcc\x86_64-w64-mingw32\13.2.0"'
    libpth=C:\STRAWB~1\c\lib C:\STRAWB~1\c\x86_64-w64-mingw32\lib C:\STRAWB~1\c\lib\gcc\x86_64-w64-mingw32\13.2.0 C:\STRAWB~1\c\x86_64-w64-mingw32\lib C:\STRAWB~1\c\lib\gcc\x86_64-w64-mingw32\13.2.0
    libs= -lmoldname -lkernel32 -luser32 -lgdi32 -lwinspool -lcomdlg32 -ladvapi32 -lshell32 -lole32 -loleaut32 -lnetapi32 -luuid -lws2_32 -lmpr -lwinmm -lversion -lodbc32 -lodbccp32 -lcomctl32
    perllibs= -lmoldname -lkernel32 -luser32 -lgdi32 -lwinspool -lcomdlg32 -ladvapi32 -lshell32 -lole32 -loleaut32 -lnetapi32 -luuid -lws2_32 -lmpr -lwinmm -lversion -lodbc32 -lodbccp32 -lcomctl32
    libc=-lucrt
    so=dll
    useshrplib=true
    libperl=libperl540.a
    gnulibc_version=''
  Dynamic Linking:
    dlsrc=dl_win32.xs
    dlext=xs.dll
    d_dlsymun=undef
    ccdlflags=' '
    cccdlflags=' '
    lddlflags='-shared -s -L"C:\STRAWB~1\perl\lib\CORE" -L"C:\STRAWB~1\c\lib" -L"C:\STRAWB~1\c\x86_64-w64-mingw32\lib" -L"C:\STRAWB~1\c\lib\gcc\x86_64-w64-mingw32\13.2.0"'


Characteristics of this binary (from libperl): 
  Compile-time options:
    HAS_LONG_DOUBLE
    HAS_TIMES
    HAVE_INTERP_INTERN
    MULTIPLICITY
    PERLIO_LAYERS
    PERL_COPY_ON_WRITE
    PERL_DONT_CREATE_GVSV
    PERL_HASH_FUNC_SIPHASH13
    PERL_HASH_USE_SBOX32
    PERL_IMPLICIT_SYS
    PERL_MALLOC_WRAP
    PERL_OP_PARENT
    PERL_PRESERVE_IVUV
    PERL_USE_SAFE_PUTENV
    USE_64_BIT_INT
    USE_ITHREADS
    USE_LARGE_FILES
    USE_LOCALE
    USE_LOCALE_COLLATE
    USE_LOCALE_CTYPE
    USE_LOCALE_NUMERIC
    USE_LOCALE_TIME
    USE_PERLIO
    USE_PERL_ATOF
    USE_THREAD_SAFE_LOCALE
  Built under MSWin32
  Compiled at May 11 2025 15:48:20
  %ENV:
    PERL5_CPANPLUS_IS_RUNNING="1972"
    PERL5_CPAN_IS_RUNNING="1972"
    PERL5_CPAN_IS_RUNNING_IN_RECURSION="3772,1972"
    PERL_CR_SMOKER_CURRENT="LaTeXML-0.8.8"
    PERL_EXTUTILS_AUTOINSTALL="--defaultdeps"
    PERL_MM_USE_DEFAULT="1"
    PERL_USE_UNSAFE_INC="1"
  @INC:
    C:/Strawberry/perl/site/lib
    C:/Strawberry/perl/vendor/lib
    C:/Strawberry/perl/lib
    .