Report for Software-License-Apathyware-0.0.3

Back
From: metabase:user:d4d7c3de-2458-11e2-906a-e1860846da88
Subject: PASS Software-License-Apathyware-0.0.3 v5.14.3 GNU/Linux
Date: 2013-05-18T21:20:46Z

This distribution has been tested as part of the CPAN Testers
project, supporting the Perl programming language.  See
http://wiki.cpantesters.org/ for more information or email
questions to cpan-testers-discuss@perl.org


--
Dear Marc Kandel,

This is a computer-generated report for Software-License-Apathyware-0.0.3
on perl 5.14.3, created by CPAN-Reporter-1.2009.

Thank you for uploading your work to CPAN.  Congratulations!
All tests were successful.

Sections of this report:

    * Tester comments
    * Program output
    * Prerequisites
    * Environment and other context

------------------------------
TESTER COMMENTS
------------------------------

Additional comments from tester:

this report is from an automated smoke testing program
and was not reviewed by a human for accuracy

------------------------------
PROGRAM OUTPUT
------------------------------

Output from '/usr/bin/make test':

PERL_DL_NONLAZY=1 /users/cpanbuilder/localperl/5.14/bin/perl5.14.3 "-MExtUtils::Command::MM" "-e" "test_harness(0, 'blib/lib', 'blib/arch')" t/*.t
t/00-compile.t ................ ok
# 
# 
# Generated by Dist::Zilla::Plugin::ReportVersions::Tiny v1.08
# perl: 5.014003 (wanted any version) on linux from /users/cpanbuilder/localperl/5.14/bin/perl5.14.3
# 
# Data::Dumper                                  => 2.130_02   (want any version)
# ExtUtils::MakeMaker                           => 6.64       (want 6.30)   
# File::Find                                    => 1.19       (want any version)
# File::Temp                                    => 0.22       (want any version)
# Software::License                             => 0.103005   (want any version)
# Test::More                                    => 0.98       (want 0.96)   
# Test::Pod                                     => module not found. (want 1.41)   
# base                                          => 2.16       (want any version)
# strict                                        => 1.04       (want any version)
# version                                       => 0.9902     (want 0.9901) 
# warnings                                      => 1.12       (want any version)
# 
# Thanks for using my code.  I hope it works for you.
# If not, please try and include this output in the bug report.
# That will help me reproduce the issue and solve your problem.
# 
t/000-report-versions-tiny.t .. ok
t/00_use.t .................... ok
t/01_basic.t .................. ok
All tests successful.
Files=4, Tests=4,  0 wallclock secs ( 0.02 usr  0.01 sys +  0.29 cusr  0.04 csys =  0.36 CPU)
Result: PASS

------------------------------
PREREQUISITES
------------------------------

Prerequisite modules loaded:

requires:

    Module              Need Have    
    ------------------- ---- --------
    base                0    2.16    
    Software::License   0    0.103005
    strict              0    1.04    
    warnings            0    1.12    

build_requires:

    Module              Need Have    
    ------------------- ---- --------
    Data::Dumper        0    2.130_02
    File::Find          0    1.19    
    File::Temp          0    0.22    
    Test::More          0.96 0.98    

configure_requires:

    Module              Need Have    
    ------------------- ---- --------
    ExtUtils::MakeMaker 6.30 6.64    


------------------------------
ENVIRONMENT AND OTHER CONTEXT
------------------------------

Environment variables:

    AUTOMATED_TESTING = 1
    LANG = en_GB.UTF-8
    LANGUAGE = en_GB:en
    PATH = /usr/local/bin:/usr/bin:/bin:/usr/local/games:/usr/games
    PERL5LIB = /home/cpanbuilder/.cpan/build/Software-License-0.103005-jNGpum/blib/arch:/home/cpanbuilder/.cpan/build/Software-License-0.103005-jNGpum/blib/lib:/home/cpanbuilder/.cpan/build/Text-Template-1.46-wbQudx/blib/arch:/home/cpanbuilder/.cpan/build/Text-Template-1.46-wbQudx/blib/lib:/home/cpanbuilder/.cpan/build/Data-Section-0.101621-JBWt84/blib/arch:/home/cpanbuilder/.cpan/build/Data-Section-0.101621-JBWt84/blib/lib:/home/cpanbuilder/.cpan/build/MRO-Compat-0.12-pxgDeN/blib/arch:/home/cpanbuilder/.cpan/build/MRO-Compat-0.12-pxgDeN/blib/lib
    PERL5OPT = 
    PERL5_CPANPLUS_IS_RUNNING = 7417
    PERL5_CPAN_IS_RUNNING = 7417
    PERL5_MINISMOKEBOX = 0.54
    PERL_EXTUTILS_AUTOINSTALL = --defaultdeps
    PERL_MM_USE_DEFAULT = 1
    SHELL = /bin/bash
    TERM = screen

Perl special variables (and OS-specific diagnostics, for MSWin32):

    $^X = /users/cpanbuilder/localperl/5.14/bin/perl5.14.3
    $UID/$EUID = 1001 / 1001
    $GID = 1001 1001
    $EGID = 1001 1001

Perl module toolchain versions installed:

    Module              Have     
    ------------------- ---------
    CPAN                1.9600_01
    CPAN::Meta          2.130880 
    Cwd                 3.40     
    ExtUtils::CBuilder  0.280203 
    ExtUtils::Command   1.17     
    ExtUtils::Install   1.56     
    ExtUtils::MakeMaker 6.64     
    ExtUtils::Manifest  1.60     
    ExtUtils::ParseXS   2.2210   
    File::Spec          3.40     
    JSON                2.53     
    JSON::PP            2.27200  
    Module::Build       0.3800   
    Module::Signature   n/a      
    Parse::CPAN::Meta   1.4404   
    Test::Harness       3.26     
    Test::More          0.98     
    YAML                0.84     
    YAML::Syck          n/a      
    version             0.9902   


--

Summary of my perl5 (revision 5 version 14 subversion 3) configuration:
   
  Platform:
    osname=linux, osvers=2.6.32-5-686-bigmem, archname=i686-linux-thread-multi
    uname='linux s1 2.6.32-5-686-bigmem #1 smp mon mar 26 06:12:49 utc 2012 i686 gnulinux '
    config_args=''
    hint=recommended, useposix=true, d_sigaction=define
    useithreads=define, usemultiplicity=define
    useperlio=define, d_sfio=undef, uselargefiles=define, usesocks=undef
    use64bitint=undef, use64bitall=undef, uselongdouble=undef
    usemymalloc=n, bincompat5005=undef
  Compiler:
    cc='cc', ccflags ='-D_REENTRANT -D_GNU_SOURCE -fno-strict-aliasing -pipe -fstack-protector -I/usr/local/include -D_LARGEFILE_SOURCE -D_FILE_OFFSET_BITS=64',
    optimize='-O2',
    cppflags='-D_REENTRANT -D_GNU_SOURCE -fno-strict-aliasing -pipe -fstack-protector -I/usr/local/include'
    ccversion='', gccversion='4.4.5', gccosandvers=''
    intsize=4, longsize=4, ptrsize=4, doublesize=8, byteorder=1234
    d_longlong=define, longlongsize=8, d_longdbl=define, longdblsize=12
    ivtype='long', ivsize=4, nvtype='double', nvsize=8, Off_t='off_t', lseeksize=8
    alignbytes=4, prototype=define
  Linker and Libraries:
    ld='cc', ldflags =' -fstack-protector -L/usr/local/lib'
    libpth=/usr/local/lib /lib/../lib /usr/lib/../lib /lib /usr/lib
    libs=-lnsl -ldl -lm -lcrypt -lutil -lpthread -lc
    perllibs=-lnsl -ldl -lm -lcrypt -lutil -lpthread -lc
    libc=/lib/libc-2.11.3.so, so=so, useshrplib=false, libperl=libperl.a
    gnulibc_version='2.11.3'
  Dynamic Linking:
    dlsrc=dl_dlopen.xs, dlext=so, d_dlsymun=undef, ccdlflags='-Wl,-E'
    cccdlflags='-fPIC', lddlflags='-shared -O2 -L/usr/local/lib -fstack-protector'


Characteristics of this binary (from libperl): 
  Compile-time options: MULTIPLICITY PERL_DONT_CREATE_GVSV
                        PERL_IMPLICIT_CONTEXT PERL_MALLOC_WRAP
                        PERL_PRESERVE_IVUV USE_ITHREADS USE_LARGE_FILES
                        USE_PERLIO USE_PERL_ATOF USE_REENTRANT_API
  Built under linux
  Compiled at Dec 28 2012 20:59:25
  %ENV:
    PERL5LIB="/home/cpanbuilder/.cpan/build/Software-License-0.103005-jNGpum/blib/arch:/home/cpanbuilder/.cpan/build/Software-License-0.103005-jNGpum/blib/lib:/home/cpanbuilder/.cpan/build/Text-Template-1.46-wbQudx/blib/arch:/home/cpanbuilder/.cpan/build/Text-Template-1.46-wbQudx/blib/lib:/home/cpanbuilder/.cpan/build/Data-Section-0.101621-JBWt84/blib/arch:/home/cpanbuilder/.cpan/build/Data-Section-0.101621-JBWt84/blib/lib:/home/cpanbuilder/.cpan/build/MRO-Compat-0.12-pxgDeN/blib/arch:/home/cpanbuilder/.cpan/build/MRO-Compat-0.12-pxgDeN/blib/lib"
    PERL5OPT=""
    PERL5_CPANPLUS_IS_RUNNING="7417"
    PERL5_CPAN_IS_RUNNING="7417"
    PERL5_MINISMOKEBOX="0.54"
    PERL_EXTUTILS_AUTOINSTALL="--defaultdeps"
    PERL_MM_USE_DEFAULT="1"
  @INC:
    /home/cpanbuilder/.cpan/build/Software-License-0.103005-jNGpum/blib/arch
    /home/cpanbuilder/.cpan/build/Software-License-0.103005-jNGpum/blib/lib
    /home/cpanbuilder/.cpan/build/Text-Template-1.46-wbQudx/blib/arch
    /home/cpanbuilder/.cpan/build/Text-Template-1.46-wbQudx/blib/lib
    /home/cpanbuilder/.cpan/build/Data-Section-0.101621-JBWt84/blib/arch
    /home/cpanbuilder/.cpan/build/Data-Section-0.101621-JBWt84/blib/lib
    /home/cpanbuilder/.cpan/build/MRO-Compat-0.12-pxgDeN/blib/arch
    /home/cpanbuilder/.cpan/build/MRO-Compat-0.12-pxgDeN/blib/lib
    /home/cpanbuilder/localperl/5.14/lib/site_perl/5.14.3/i686-linux-thread-multi
    /home/cpanbuilder/localperl/5.14/lib/site_perl/5.14.3
    /home/cpanbuilder/localperl/5.14/lib/5.14.3/i686-linux-thread-multi
    /home/cpanbuilder/localperl/5.14/lib/5.14.3
    .