Test-Moose-More v0.050 Perl 5 v5.34.1 aix

Status
Pass
From
David Cantrell (DCANTRELL)
Dist
Test-Moose-More v0.050
Platform
Perl 5 v5.34.1 aix
Date
2022-06-15 04:01:16
ID
ce0319c6-ec5f-11ec-ac57-da37a5f90b88
This distribution has been tested as part of the CPAN Testers
project, supporting the Perl programming language.  See
http://wiki.cpantesters.org/ for more information or email
questions to cpan-testers-discuss@perl.org


--
Dear Chris Weyl,

This is a computer-generated report for Test-Moose-More-0.050
on perl 5.34.1, created by CPAN-Reporter-1.2018.

Thank you for uploading your work to CPAN.  Congratulations!
All tests were successful.

Sections of this report:

    * Tester comments
    * Program output
    * Prerequisites
    * Environment and other context

------------------------------
TESTER COMMENTS
------------------------------

Additional comments from tester:

this report is from an automated smoke testing program
and was not reviewed by a human for accuracy

------------------------------
PROGRAM OUTPUT
------------------------------

Output from '/usr/bin/make test':

	PERL_DL_NONLAZY=1 "/perl/usr/david/cpantesting/perl-5.34.1/bin/perl" "-MExtUtils::Command::MM" "-MTest::Harness" "-e" "undef *Test::Harness::Switches; test_harness(0, 'blib/lib', 'blib/arch')" t/*.t t/attribute_options_ok/*.t t/is_class_ok/*.t t/validate_attribute/*.t t/validate_class/*.t t/validate_role/*.t t/validate_thing/*.t t/wrapped/*.t
t/00-check-deps.t ...................................... ok
t/00-compile.t ......................................... ok
# 
# Versions for all modules listed in MYMETA.json (including optional ones):
# 
# === Configure Requires ===
# 
#     Module              Want Have
#     ------------------- ---- ----
#     ExtUtils::MakeMaker  any 7.62
# 
# === Build Requires ===
# 
#     Module              Want Have
#     ------------------- ---- ----
#     ExtUtils::MakeMaker  any 7.62
# 
# === Test Requires ===
# 
#     Module                  Want     Have
#     ---------------------- ----- --------
#     ExtUtils::MakeMaker      any     7.62
#     File::Spec               any     3.80
#     IO::Handle               any     1.46
#     IPC::Open3               any     1.21
#     List::Util              1.45     1.62
#     Moose                    any   2.2201
#     Moose::Meta::Attribute   any   2.2201
#     Moose::Role              any   2.2201
#     Moose::Util::MetaRole    any   2.2201
#     TAP::SimpleOutput      0.009    0.009
#     Test::Builder::Tester    any 1.302190
#     Test::CheckDeps        0.010    0.010
#     Test::More              0.94 1.302190
#     namespace::autoclean     any     0.29
# 
# === Test Recommends ===
# 
#     Module         Want     Have
#     ---------- -------- --------
#     CPAN::Meta 2.120900 2.150010
# 
# === Runtime Requires ===
# 
#     Module                       Want     Have
#     ---------------------------- ---- --------
#     Carp                          any     1.52
#     Data::OptList                 any    0.112
#     List::MoreUtils               any    0.430
#     List::Util                   1.45     1.62
#     Moose::Util                   any   2.2201
#     Moose::Util::TypeConstraints  any   2.2201
#     Scalar::Util                  any     1.62
#     Sub::Exporter::Progressive    any 0.001013
#     Syntax::Keyword::Junction     any 0.003008
#     Test::Builder                 any 1.302190
#     Test::Moose                   any   2.2201
#     Test::More                   0.94 1.302190
#     strict                        any     1.12
#     warnings                      any     1.51
# 
t/00-report-prereqs.t .................................. ok
t/attribute_options_ok/basic.t ......................... ok
t/attribute_options_ok/subtest-wrapper.t ............... ok
t/check_sugar.t ........................................ ok
t/definition_context.t ................................. ok
t/does_metaroles_ok.t .................................. ok
t/does_not_metaroles_ok.t .............................. ok
t/does_not_ok.t ........................................ ok
t/does_ok.t ............................................ ok
t/has_attribute_ok.t ................................... ok
t/is_anon_ok.t ......................................... ok
t/is_class_ok/basic.t .................................. ok
t/is_class_ok/moose-meta-attribute-should-be-moosey.t .. ok
t/is_immutable_ok.t .................................... ok
t/is_not_anon_ok.t ..................................... ok
t/is_role_ok.t ......................................... ok
t/meta_ok.t ............................................ ok
t/method_from_pkg_ok.t ................................. ok
t/method_is_accessor_ok.t .............................. ok
t/method_is_not_accessor_ok.t .......................... ok
t/method_not_from_pkg_ok.t ............................. ok
t/method_ok.t .......................................... ok
t/no_meta_ok.t ......................................... ok
t/pristine_ok.t ........................................ ok
t/requires_method_ok.t ................................. ok
t/subtest-1.t .......................................... ok
t/validate_attribute/basic.t ........................... ok
t/validate_attribute/coerce.t .......................... ok
t/validate_attribute/in_roles.t ........................ ok
t/validate_attribute/lazy.t ............................ ok
t/validate_attribute/required.t ........................ ok
t/validate_class/basic.t ............................... ok
t/validate_class/metaclasses.t ......................... ok
t/validate_class/metaroles.t ........................... ok
t/validate_class/methods.t ............................. ok
t/validate_role/basic.t ................................ ok
t/validate_role/compose.t .............................. ok
t/validate_role/metaclasses.t .......................... ok
t/validate_role/metaroles.t ............................ ok
t/validate_thing/metaclasses.t ......................... ok
t/validate_thing/methods.t ............................. ok
t/validate_thing/sugar.t ............................... ok
t/wrapped/in_roles.t ................................... ok
All tests successful.

Test Summary Report
-------------------
t/00-check-deps.t                                    (Wstat: 0 Tests: 32 Failed: 0)
  TODO passed:   32
Files=45, Tests=235, 32 wallclock secs ( 0.32 usr  0.09 sys + 28.61 cusr  2.02 csys = 31.04 CPU)
Result: PASS

------------------------------
PREREQUISITES
------------------------------

Prerequisite modules loaded:

requires:

    Module                       Need     Have    
    ---------------------------- -------- --------
    Carp                         0        1.52    
    Data::OptList                0        0.112   
    List::MoreUtils              0        0.430   
    List::Util                   1.45     1.62    
    Moose::Util                  0        2.2201  
    Moose::Util::TypeConstraints 0        2.2201  
    perl                         5.006    5.034001
    Scalar::Util                 0        1.62    
    strict                       0        1.12    
    Sub::Exporter::Progressive   0        0.001013
    Syntax::Keyword::Junction    0        0.003008
    Test::Builder                0        1.302190
    Test::Moose                  0        2.2201  
    Test::More                   0.94     1.302190
    warnings                     0        1.51    

build_requires:

    Module                       Need     Have    
    ---------------------------- -------- --------
    ExtUtils::MakeMaker          0        7.62    
    File::Spec                   0        3.80    
    IO::Handle                   0        1.46    
    IPC::Open3                   0        1.21    
    List::Util                   1.45     1.62    
    Moose                        0        2.2201  
    Moose::Meta::Attribute       0        2.2201  
    Moose::Role                  0        2.2201  
    Moose::Util::MetaRole        0        2.2201  
    namespace::autoclean         0        0.29    
    TAP::SimpleOutput            0.009    0.009   
    Test::Builder::Tester        0        1.302190
    Test::CheckDeps              0.010    0.010   
    Test::More                   0.94     1.302190

configure_requires:

    Module                       Need     Have    
    ---------------------------- -------- --------
    ExtUtils::MakeMaker          0        7.62    
    perl                         5.006    5.034001

opt_build_requires:

    Module                       Need     Have    
    ---------------------------- -------- --------
    CPAN::Meta                   2.120900 2.150010


------------------------------
ENVIRONMENT AND OTHER CONTEXT
------------------------------

Environment variables:

    AUTOMATED_TESTING = 1
    LANG = en_US
    LC__FASTMSG = true
    NONINTERACTIVE_TESTING = 1
    PATH = /perl/usr/david/bin:/perl/usr/david/perl-5.34.1/bin:/pro/bin:/perl/usr/david/bin:/perl/usr/david/perl-5.34.1/bin:/pro/bin:/perl/usr/david/bin:/perl/usr/david/perl-5.34.1/bin:/pro/bin:/usr/bin:/etc:/usr/sbin:/pro/local/bin:/pro/bin:/usr/local/bin:/usr/vac/bin:/usr/local/sbin:/usr/ucb:/usr/bin/X11:/sbin:/usr/java14/jre/bin:/usr/java14/bin
    PERL = 5.34.1
    PERL5LIB = 
    PERL5OPT = 
    PERL5_CPANPLUS_IS_RUNNING = 852170
    PERL5_CPAN_IS_RUNNING = 852170
    PERLVER = 5.34.1
    PERL_INLINE_DIRECTORY = /perl/usr/david/.Inline-5.34.1
    PERL_MM_USE_DEFAULT = 1
    PERL_USE_UNSAFE_INC = 0
    SHELL = /pro/local/bin/bash
    TERM = vt100

Perl special variables (and OS-specific diagnostics, for MSWin32):

    $^X = /perl/usr/david/cpantesting/perl-5.34.1/bin/perl
    $UID/$EUID = 5022 / 5022
    $GID = 500 500
    $EGID = 500 500

Perl module toolchain versions installed:

    Module              Have    
    ------------------- --------
    CPAN                2.28    
    CPAN::Meta          2.150010
    Cwd                 3.80    
    ExtUtils::CBuilder  0.280236
    ExtUtils::Command   7.62    
    ExtUtils::Install   2.20    
    ExtUtils::MakeMaker 7.62    
    ExtUtils::Manifest  1.73    
    ExtUtils::ParseXS   3.43    
    File::Spec          3.80    
    JSON                n/a     
    JSON::PP            4.08    
    Module::Build       0.4231  
    Module::Signature   n/a     
    Parse::CPAN::Meta   2.150010
    Test::Harness       3.43    
    Test::More          1.302190
    YAML                1.30    
    YAML::Syck          n/a     
    version             0.9928  


--

Summary of my perl5 (revision 5 version 34 subversion 1) configuration:
   
  Platform:
    osname=aix
    osvers=5.3.0.0
    archname=aix
    uname='aix i3 3 5 0004898ad300 '
    config_args='-de -Dprefix=/perl/usr/david/cpantesting/perl-5.34.1'
    hint=recommended
    useposix=true
    d_sigaction=define
    useithreads=undef
    usemultiplicity=undef
    use64bitint=undef
    use64bitall=undef
    uselongdouble=undef
    usemymalloc=n
    default_inc_excludes_dot=define
  Compiler:
    cc='cc -q32'
    ccflags ='-D_ALL_SOURCE -D_ANSI_C_SOURCE -D_POSIX_SOURCE -qmaxmem=-1 -qnoansialias -qlanglvl=extc99 -DUSE_NATIVE_DLOPEN -I/usr/local/include -q32 -D_LARGE_FILES'
    optimize='-O'
    cppflags='-D_ALL_SOURCE -D_ANSI_C_SOURCE -D_POSIX_SOURCE -DUSE_NATIVE_DLOPEN -I/usr/local/include'
    ccversion='12.1.0.12'
    gccversion=''
    gccosandvers=''
    intsize=4
    longsize=4
    ptrsize=4
    doublesize=8
    byteorder=4321
    doublekind=4
    d_longlong=define
    longlongsize=8
    d_longdbl=define
    longdblsize=8
    longdblkind=0
    ivtype='long'
    ivsize=4
    nvtype='double'
    nvsize=8
    Off_t='off_t'
    lseeksize=8
    alignbytes=8
    prototype=define
  Linker and Libraries:
    ld='ld'
    ldflags =' -brtl -bdynamic -L/usr/local/lib -b32 -bmaxdata:0x80000000'
    libpth=/usr/local/lib /lib /usr/lib /usr/ccs/lib /usr/lib64
    libs=-lpthread -lbind -lnsl -ldbm -ldl -lld -lm -lcrypt -lc
    perllibs=-lpthread -lbind -lnsl -ldl -lld -lm -lcrypt -lc
    libc=/lib/libc.a
    so=a
    useshrplib=false
    libperl=libperl.a
    gnulibc_version=''
  Dynamic Linking:
    dlsrc=dl_aix.xs
    dlext=so
    d_dlsymun=undef
    ccdlflags='  -bE:/perl/usr/david/cpantesting/perl-5.34.1/lib/5.34.1/aix/CORE/perl.exp'
    cccdlflags=' '
    lddlflags=' -bhalt:4 -G -bI:$(PERL_INC)/perl.exp -bE:$(BASEEXT).exp -bnoentry -lc -lm -L/usr/local/lib'


Characteristics of this binary (from libperl): 
  Compile-time options:
    HAS_TIMES
    PERLIO_LAYERS
    PERL_COPY_ON_WRITE
    PERL_DONT_CREATE_GVSV
    PERL_MALLOC_WRAP
    PERL_OP_PARENT
    PERL_PRESERVE_IVUV
    USE_LARGE_FILES
    USE_LOCALE
    USE_LOCALE_COLLATE
    USE_LOCALE_CTYPE
    USE_LOCALE_NUMERIC
    USE_LOCALE_TIME
    USE_PERLIO
    USE_PERL_ATOF
  Built under aix
  Compiled at May 20 2022 17:57:12
  %ENV:
    PERL="5.34.1"
    PERL5LIB=""
    PERL5OPT=""
    PERL5_CPANPLUS_IS_RUNNING="852170"
    PERL5_CPAN_IS_RUNNING="852170"
    PERLVER="5.34.1"
    PERL_INLINE_DIRECTORY="/perl/usr/david/.Inline-5.34.1"
    PERL_MM_USE_DEFAULT="1"
    PERL_USE_UNSAFE_INC="0"
  @INC:
    /perl/usr/david/cpantesting/perl-5.34.1/lib/site_perl/5.34.1/aix
    /perl/usr/david/cpantesting/perl-5.34.1/lib/site_perl/5.34.1
    /perl/usr/david/cpantesting/perl-5.34.1/lib/5.34.1/aix
    /perl/usr/david/cpantesting/perl-5.34.1/lib/5.34.1