HTML-Inspect v1.00 Perl 5 v5.30.1 x86_64-linux

Status
Pass
From
Slaven Rezić
Dist
HTML-Inspect v1.00
Platform
Perl 5 v5.30.1 x86_64-linux
Date
2021-12-08T11:13:00
ID
cdce2752-5817-11ec-920a-224e1f24ea8f
This distribution has been tested as part of the CPAN Testers
project, supporting the Perl programming language.  See
http://wiki.cpantesters.org/ for more information or email
questions to cpan-testers-discuss@perl.org


--
Dear Mark Overmeer,

This is a computer-generated report for HTML-Inspect-1.00
on perl 5.30.1, created by CPAN-Reporter-1.2018.

Thank you for uploading your work to CPAN.  Congratulations!
All tests were successful.

Sections of this report:

    * Tester comments
    * Program output
    * Prerequisites
    * Environment and other context

------------------------------
TESTER COMMENTS
------------------------------

Additional comments from tester:

none provided

------------------------------
PROGRAM OUTPUT
------------------------------

Output from '/usr/bin/make test':

PERL_DL_NONLAZY=1 "/opt/perl-5.30.1/bin/perl" "-MExtUtils::Command::MM" "-MTest::Harness" "-e" "undef *Test::Harness::Switches; test_harness(0, 'blib/lib', 'blib/arch')" t/*.t
t/01_use.t ................ ok
t/10_basic.t .............. ok
t/11_collect_links.t ...... ok
t/12_collect_opengraph.t .. skipped: OpenGraph example data is not redistributed with this module.
t/13_collect_meta.t ....... ok
t/20norm.t ................ ok
Wide character in print at /opt/perl-5.30.1/lib/site_perl/5.30.1/Test2/Formatter/TAP.pm line 156, <$rules> line 66.
t/21norm-cc.t ............. ok
All tests successful.
Files=7, Tests=190,  2 wallclock secs ( 0.09 usr  0.02 sys +  2.10 cusr  0.59 csys =  2.80 CPU)
Result: PASS

------------------------------
PREREQUISITES
------------------------------

Prerequisite modules loaded:

requires:

    Module              Need     Have    
    ------------------- -------- --------
    Encode              0        3.16    
    File::Basename      0        2.85    
  ! File::Slurper       0.12     0.012   
    Inline::C           0        0.81    
    Log::Report         1.32     1.33    
    Net::LibIDN2        1.01     1.01    
    perl                5.014000 5.030001
    Scalar::Util        0        1.60    
    Test::More          0        1.302188
    URI                 5.09     5.09    
    XML::LibXML         2.0207   2.0207  

build_requires:

    Module              Need     Have    
    ------------------- -------- --------
    ExtUtils::MakeMaker 0        7.34    

configure_requires:

    Module              Need     Have    
    ------------------- -------- --------
    ExtUtils::MakeMaker 0        7.34    


------------------------------
ENVIRONMENT AND OTHER CONTEXT
------------------------------

Environment variables:

    LANG = en_US.UTF-8
    PATH = /usr/local/bin:/usr/bin:/bin:/usr/local/sbin:/usr/sbin:/sbin:/home/cpansand/bin/linux-gnu:/home/cpansand/bin/sh:/home/cpansand/bin:/usr/games:/home/cpansand/devel:/home/eserte/src/srezic-misc/scripts
    PERL5LIB = /home/cpansand/.cpan/build/2021120812/Net-LibIDN2-1.01-6/blib/arch:/home/cpansand/.cpan/build/2021120812/Net-LibIDN2-1.01-6/blib/lib:/home/cpansand/.cpan/build/2021120812/Log-Report-1.33-6/blib/arch:/home/cpansand/.cpan/build/2021120812/Log-Report-1.33-6/blib/lib:/home/cpansand/.cpan/build/2021120812/Log-Report-Optional-1.07-6/blib/arch:/home/cpansand/.cpan/build/2021120812/Log-Report-Optional-1.07-6/blib/lib:/home/cpansand/.cpan/build/2021120812/String-Print-0.94-5/blib/arch:/home/cpansand/.cpan/build/2021120812/String-Print-0.94-5/blib/lib
    PERL5OPT = 
    PERL5_CPANPLUS_IS_RUNNING = 772301
    PERL5_CPAN_IS_RUNNING = 772301
    PERL5_CPAN_IS_RUNNING_IN_RECURSION = 768226,772301
    PERLDOC = -MPod::Perldoc::ToTextOverstrike
    PERL_BATCH = yes
    PERL_CANARY_STABILITY_NOPROMPT = 1
    PERL_CPAN_REPORTER_CONFIG = /var/tmp/cpansmoker-1023/2021120812/cpanreporter_000_config.ini
    PERL_EXTUTILS_AUTOINSTALL = --defaultdeps
    PERL_USE_UNSAFE_INC = 1
    SHELL = /usr/bin/zsh
    TERM = screen
    TMPDIR = /var/tmp/cpansmoker-1023/2021120812

Perl special variables (and OS-specific diagnostics, for MSWin32):

    $^X = /opt/perl-5.30.1/bin/perl
    $UID/$EUID = 1023 / 1023
    $GID = 1023 1023
    $EGID = 1023 1023

Perl module toolchain versions installed:

    Module              Have    
    ------------------- --------
    CPAN                2.22    
    CPAN::Meta          2.150010
    Cwd                 3.78    
    ExtUtils::CBuilder  0.280231
    ExtUtils::Command   7.34    
    ExtUtils::Install   2.14    
    ExtUtils::MakeMaker 7.34    
    ExtUtils::Manifest  1.72    
    ExtUtils::ParseXS   3.40    
    File::Spec          3.78    
    JSON                4.03    
    JSON::PP            4.06    
    Module::Build       0.4229  
    Module::Signature   n/a     
    Parse::CPAN::Meta   2.150010
    Test::Harness       3.42    
    Test::More          1.302188
    YAML                1.30    
    YAML::Syck          1.31    
    version             0.9924  


--

Summary of my perl5 (revision 5 version 30 subversion 1) configuration:
   
  Platform:
    osname=linux
    osvers=5.0.16-100.fc28.x86_64
    archname=x86_64-linux
    uname='linux fedora-4gb-hel1-1 5.0.16-100.fc28.x86_64 #1 smp tue may 14 18:22:28 utc 2019 x86_64 x86_64 x86_64 gnulinux '
    config_args='-ds -e -Dprefix=/opt/perl-5.30.1 -Dcf_email=srezic@cpan.org'
    hint=recommended
    useposix=true
    d_sigaction=define
    useithreads=undef
    usemultiplicity=undef
    use64bitint=define
    use64bitall=define
    uselongdouble=undef
    usemymalloc=n
    default_inc_excludes_dot=define
    bincompat5005=undef
  Compiler:
    cc='cc'
    ccflags ='-fwrapv -fno-strict-aliasing -pipe -fstack-protector-strong -I/usr/local/include -D_LARGEFILE_SOURCE -D_FILE_OFFSET_BITS=64 -D_FORTIFY_SOURCE=2'
    optimize='-O2'
    cppflags='-fwrapv -fno-strict-aliasing -pipe -fstack-protector-strong -I/usr/local/include'
    ccversion=''
    gccversion='8.3.1 20190223 (Red Hat 8.3.1-2)'
    gccosandvers=''
    intsize=4
    longsize=8
    ptrsize=8
    doublesize=8
    byteorder=12345678
    doublekind=3
    d_longlong=define
    longlongsize=8
    d_longdbl=define
    longdblsize=16
    longdblkind=3
    ivtype='long'
    ivsize=8
    nvtype='double'
    nvsize=8
    Off_t='off_t'
    lseeksize=8
    alignbytes=8
    prototype=define
  Linker and Libraries:
    ld='cc'
    ldflags =' -fstack-protector-strong -L/usr/local/lib'
    libpth=/usr/local/lib /usr/lib /lib/../lib64 /usr/lib/../lib64 /lib /lib64 /usr/lib64 /usr/local/lib64
    libs=-lpthread -ldb -ldl -lm -lcrypt -lutil -lc
    perllibs=-lpthread -ldl -lm -lcrypt -lutil -lc
    libc=libc-2.27.so
    so=so
    useshrplib=false
    libperl=libperl.a
    gnulibc_version='2.27'
  Dynamic Linking:
    dlsrc=dl_dlopen.xs
    dlext=so
    d_dlsymun=undef
    ccdlflags='-Wl,-E'
    cccdlflags='-fPIC'
    lddlflags='-shared -O2 -L/usr/local/lib -fstack-protector-strong'


Characteristics of this binary (from libperl): 
  Compile-time options:
    HAS_TIMES
    PERLIO_LAYERS
    PERL_COPY_ON_WRITE
    PERL_DONT_CREATE_GVSV
    PERL_MALLOC_WRAP
    PERL_OP_PARENT
    PERL_PRESERVE_IVUV
    USE_64_BIT_ALL
    USE_64_BIT_INT
    USE_LARGE_FILES
    USE_LOCALE
    USE_LOCALE_COLLATE
    USE_LOCALE_CTYPE
    USE_LOCALE_NUMERIC
    USE_LOCALE_TIME
    USE_PERLIO
    USE_PERL_ATOF
  Built under linux
  Compiled at Nov 11 2019 21:35:28
  %ENV:
    PERL5LIB="/home/cpansand/.cpan/build/2021120812/Net-LibIDN2-1.01-6/blib/arch:/home/cpansand/.cpan/build/2021120812/Net-LibIDN2-1.01-6/blib/lib:/home/cpansand/.cpan/build/2021120812/Log-Report-1.33-6/blib/arch:/home/cpansand/.cpan/build/2021120812/Log-Report-1.33-6/blib/lib:/home/cpansand/.cpan/build/2021120812/Log-Report-Optional-1.07-6/blib/arch:/home/cpansand/.cpan/build/2021120812/Log-Report-Optional-1.07-6/blib/lib:/home/cpansand/.cpan/build/2021120812/String-Print-0.94-5/blib/arch:/home/cpansand/.cpan/build/2021120812/String-Print-0.94-5/blib/lib"
    PERL5OPT=""
    PERL5_CPANPLUS_IS_RUNNING="772301"
    PERL5_CPAN_IS_RUNNING="772301"
    PERL5_CPAN_IS_RUNNING_IN_RECURSION="768226,772301"
    PERLDOC="-MPod::Perldoc::ToTextOverstrike"
    PERL_BATCH="yes"
    PERL_CANARY_STABILITY_NOPROMPT="1"
    PERL_CPAN_REPORTER_CONFIG="/var/tmp/cpansmoker-1023/2021120812/cpanreporter_000_config.ini"
    PERL_EXTUTILS_AUTOINSTALL="--defaultdeps"
    PERL_USE_UNSAFE_INC="1"
  @INC:
    /home/cpansand/.cpan/build/2021120812/Net-LibIDN2-1.01-6/blib/arch
    /home/cpansand/.cpan/build/2021120812/Net-LibIDN2-1.01-6/blib/lib
    /home/cpansand/.cpan/build/2021120812/Log-Report-1.33-6/blib/arch
    /home/cpansand/.cpan/build/2021120812/Log-Report-1.33-6/blib/lib
    /home/cpansand/.cpan/build/2021120812/Log-Report-Optional-1.07-6/blib/arch
    /home/cpansand/.cpan/build/2021120812/Log-Report-Optional-1.07-6/blib/lib
    /home/cpansand/.cpan/build/2021120812/String-Print-0.94-5/blib/arch
    /home/cpansand/.cpan/build/2021120812/String-Print-0.94-5/blib/lib
    /opt/perl-5.30.1/lib/site_perl/5.30.1/x86_64-linux
    /opt/perl-5.30.1/lib/site_perl/5.30.1
    /opt/perl-5.30.1/lib/5.30.1/x86_64-linux
    /opt/perl-5.30.1/lib/5.30.1
    .