MouseX-NativeTraits v1.09 Perl 5 v5.39.7 x86_64-linux
        
            - Status
- Pass
- From
- Andreas J. König (ANDK)
- Dist
- 
                MouseX-NativeTraits v1.09
            
- Platform
- Perl 5 v5.39.7 x86_64-linux
- Date
- 2024-01-22 02:27:34
- ID
- cd3757f0-b8cd-11ee-9e23-42f05cafec44
This distribution has been tested as part of the CPAN Testers
project, supporting the Perl programming language.  See
http://wiki.cpantesters.org/ for more information or email
questions to cpan-testers-discuss@perl.org
--
Dear Goro Fuji,
This is a computer-generated report for MouseX-NativeTraits-1.09
on perl 5.39.7, created by CPAN-Reporter-1.2019.
Thank you for uploading your work to CPAN.  Congratulations!
All tests were successful.
Sections of this report:
    * Tester comments
    * Program output
    * Prerequisites
    * Environment and other context
------------------------------
TESTER COMMENTS
------------------------------
Additional comments from tester:
this report is from an automated smoke testing program
and was not reviewed by a human for accuracy
------------------------------
PROGRAM OUTPUT
------------------------------
Output from '/usr/bin/make test':
PERL_DL_NONLAZY=1 "/tmp/basesmoker-reloperl-macy/bin/perl" "-MExtUtils::Command::MM" "-MTest::Harness" "-e" "\$ENV{q{ANY_MOOSE}} = q{Mouse}; undef *Test::Harness::Switches; test_harness(0, 'inc', 'blib/lib', 'blib/arch'); " t/*.t t/070_native_traits/*.t
# Testing MouseX::NativeTraits/1.09
# Dependencies:
#     Mouse/v2.5.10
t/00_load.t ...................................... ok
Any::Moose is deprecated. Please use Moo instead at t/01_basic.t line 8.
t/01_basic.t ..................................... ok
Any::Moose is deprecated. Please use Moo instead at t/02_meta.t line 7.
t/02_meta.t ...................................... ok
t/03_extra.t ..................................... ok
t/04_counter.t ................................... ok
t/05_remain_tied.t ............................... ok
Any::Moose is deprecated. Please use Moo instead at t/070_native_traits/010_trait_array.t line 8.
t/070_native_traits/010_trait_array.t ............ ok
Any::Moose is deprecated. Please use Moo instead at t/070_native_traits/011_array_subtypes.t line 8.
t/070_native_traits/011_array_subtypes.t ......... ok
t/070_native_traits/012_array_trigger.t .......... ok
t/070_native_traits/013_array_coerce.t ........... skipped: Not supported by MouseX::NativeTraits
Any::Moose is deprecated. Please use Moo instead at t/070_native_traits/020_trait_bool.t line 8.
t/070_native_traits/020_trait_bool.t ............. ok
Any::Moose is deprecated. Please use Moo instead at t/070_native_traits/030_trait_code.t line 6.
t/070_native_traits/030_trait_code.t ............. ok
Any::Moose is deprecated. Please use Moo instead at t/070_native_traits/040_trait_counter.t line 8.
t/070_native_traits/040_trait_counter.t .......... ok
Any::Moose is deprecated. Please use Moo instead at t/070_native_traits/050_trait_hash.t line 8.
t/070_native_traits/050_trait_hash.t ............. ok
t/070_native_traits/051_hash_subtypes.t .......... ok
t/070_native_traits/052_hash_trigger.t ........... ok
t/070_native_traits/053_hash_coerce.t ............ skipped: Not supported by MouseX::NativeTraits
Any::Moose is deprecated. Please use Moo instead at t/070_native_traits/060_trait_number.t line 8.
t/070_native_traits/060_trait_number.t ........... ok
Any::Moose is deprecated. Please use Moo instead at t/070_native_traits/070_trait_string.t line 8.
t/070_native_traits/070_trait_string.t ........... ok
t/070_native_traits/100_array_from_role.t ........ ok
t/070_native_traits/101_remove_attribute.t ....... skipped: Not supported by MouseX::NativeTraits
t/070_native_traits/102_collection_with_roles.t .. ok
t/070_native_traits/103_custom_instance.t ........ skipped: not supproted by MouseX::NativeTraits
All tests successful.
Files=23, Tests=3482,  3 wallclock secs ( 0.30 usr  0.04 sys +  2.44 cusr  0.35 csys =  3.13 CPU)
Result: PASS
------------------------------
PREREQUISITES
------------------------------
Prerequisite modules loaded:
requires:
    Module              Need     Have    
    ------------------- -------- --------
    Mouse               0.82     v2.5.10 
    perl                5.006002 5.039007
build_requires:
    Module              Need     Have    
    ------------------- -------- --------
    Any::Moose          0.13     0.27    
    ExtUtils::MakeMaker 6.59     7.70    
    Test::Fatal         0.003    0.017   
    Test::More          0.88     1.302198
configure_requires:
    Module              Need     Have    
    ------------------- -------- --------
    ExtUtils::MakeMaker 6.59     7.70    
------------------------------
ENVIRONMENT AND OTHER CONTEXT
------------------------------
Environment variables:
    AUTOMATED_TESTING = 1
    LANG = en_US.UTF-8
    PATH = /home/sand/bin:/usr/local/bin:/usr/local/sbin:/usr/sbin:/usr/bin:/sbin:/bin:/usr/games:/usr/local/games:/snap/bin:/usr/local/perl/bin:/usr/X11/bin
    PERL = /tmp/basesmoker-reloperl-macy/bin/perl
    PERL5LIB = /tmp/loop_over_bdir-3551-l8emhy/Linux-InitFS-0.2-0/blib/arch:/tmp/loop_over_bdir-3551-l8emhy/Linux-InitFS-0.2-0/blib/lib:/tmp/loop_over_bdir-3551-l8emhy/Lingua-YaTeA-0.626-0/blib/arch:/tmp/loop_over_bdir-3551-l8emhy/Lingua-YaTeA-0.626-0/blib/lib:/tmp/loop_over_bdir-3551-l8emhy/Debian-Packages-0.03-0/blib/arch:/tmp/loop_over_bdir-3551-l8emhy/Debian-Packages-0.03-0/blib/lib
    PERL5OPT = 
    PERL5_CPANPLUS_IS_RUNNING = 3559
    PERL5_CPAN_IS_RUNNING = 3559
    PERL_CANARY_STABILITY_NOPROMPT = 1
    PERL_MM_USE_DEFAULT = 1
    PERL_USE_UNSAFE_INC = 1
    SHELL = /usr/bin/zsh
    TERM = screen
Perl special variables (and OS-specific diagnostics, for MSWin32):
    $^X = /tmp/basesmoker-reloperl-macy/bin/perl
    $UID/$EUID = 1005 / 1005
    $GID = 1005 1005
    $EGID = 1005 1005
Perl module toolchain versions installed:
    Module              Have    
    ------------------- --------
    CPAN                2.36    
    CPAN::Meta          2.150010
    Cwd                 3.90    
    ExtUtils::CBuilder  0.280240
    ExtUtils::Command   7.70    
    ExtUtils::Install   2.22    
    ExtUtils::MakeMaker 7.70    
    ExtUtils::Manifest  1.75    
    ExtUtils::ParseXS   3.51    
    File::Spec          3.90    
    JSON                4.10    
    JSON::PP            4.16    
    Module::Build       0.4234  
    Module::Signature   0.88    
    Parse::CPAN::Meta   2.150010
    Test2               1.302198
    Test::Harness       3.48    
    Test::More          1.302198
    YAML                1.31    
    YAML::Syck          1.34    
    version             0.9930  
--
Summary of my perl5 (revision 5 version 39 subversion 7) configuration:
  Commit id: 96559478fdc3f2fe9c51cad02ebbae0c950b7b68
  Platform:
    osname=linux
    osvers=5.4.0-169-generic
    archname=x86_64-linux
    uname='linux k93focal 5.4.0-169-generic #187-ubuntu smp thu nov 23 14:52:28 utc 2023 x86_64 x86_64 x86_64 gnulinux '
    config_args='-Dprefix=/home/sand/src/perl/repoperls/installed-perls/host/k93focal/v5.39.7/b254 -Dmyhostname=k93focal -Dinstallusrbinperl=n -Uversiononly -Dusedevel -des -Ui_db -Dlibswanted=cl pthread socket inet nsl gdbm dbm malloc dl ld sun m crypt sec util c cposix posix ucb BSD gdbm_compat -Uuseithreads -Uuselongdouble -DEBUGGING=both'
    hint=recommended
    useposix=true
    d_sigaction=define
    useithreads=undef
    usemultiplicity=undef
    use64bitint=define
    use64bitall=define
    uselongdouble=undef
    usemymalloc=n
    default_inc_excludes_dot=define
  Compiler:
    cc='cc'
    ccflags ='-fwrapv -DDEBUGGING -fno-strict-aliasing -pipe -fstack-protector-strong -I/usr/local/include -D_LARGEFILE_SOURCE -D_FILE_OFFSET_BITS=64'
    optimize='-O2 -g'
    cppflags='-fwrapv -DDEBUGGING -fno-strict-aliasing -pipe -fstack-protector-strong -I/usr/local/include'
    ccversion=''
    gccversion='9.4.0'
    gccosandvers=''
    intsize=4
    longsize=8
    ptrsize=8
    doublesize=8
    byteorder=12345678
    doublekind=3
    d_longlong=define
    longlongsize=8
    d_longdbl=define
    longdblsize=16
    longdblkind=3
    ivtype='long'
    ivsize=8
    nvtype='double'
    nvsize=8
    Off_t='off_t'
    lseeksize=8
    alignbytes=8
    prototype=define
  Linker and Libraries:
    ld='cc'
    ldflags =' -fstack-protector-strong -L/usr/local/lib'
    libpth=/usr/local/lib /usr/lib/x86_64-linux-gnu /usr/lib /usr/lib64
    libs=-lpthread -lnsl -ldl -lm -lcrypt -lutil -lc
    perllibs=-lpthread -lnsl -ldl -lm -lcrypt -lutil -lc
    libc=libc-2.31.so
    so=so
    useshrplib=false
    libperl=libperl.a
    gnulibc_version='2.31'
  Dynamic Linking:
    dlsrc=dl_dlopen.xs
    dlext=so
    d_dlsymun=undef
    ccdlflags='-Wl,-E'
    cccdlflags='-fPIC'
    lddlflags='-shared -O2 -g -L/usr/local/lib -fstack-protector-strong'
Characteristics of this binary (from libperl): 
  Compile-time options:
    DEBUGGING
    HAS_LONG_DOUBLE
    HAS_STRTOLD
    HAS_TIMES
    PERLIO_LAYERS
    PERL_COPY_ON_WRITE
    PERL_DONT_CREATE_GVSV
    PERL_HASH_FUNC_SIPHASH13
    PERL_HASH_USE_SBOX32
    PERL_MALLOC_WRAP
    PERL_OP_PARENT
    PERL_PRESERVE_IVUV
    PERL_USE_DEVEL
    PERL_USE_SAFE_PUTENV
    USE_64_BIT_ALL
    USE_64_BIT_INT
    USE_LARGE_FILES
    USE_LOCALE
    USE_LOCALE_COLLATE
    USE_LOCALE_CTYPE
    USE_LOCALE_NUMERIC
    USE_LOCALE_TIME
    USE_PERLIO
    USE_PERL_ATOF
  Built under linux
  Compiled at Jan 20 2024 13:20:44
  %ENV:
    PERL="/tmp/basesmoker-reloperl-macy/bin/perl"
    PERL5LIB="/tmp/loop_over_bdir-3551-l8emhy/Linux-InitFS-0.2-0/blib/arch:/tmp/loop_over_bdir-3551-l8emhy/Linux-InitFS-0.2-0/blib/lib:/tmp/loop_over_bdir-3551-l8emhy/Lingua-YaTeA-0.626-0/blib/arch:/tmp/loop_over_bdir-3551-l8emhy/Lingua-YaTeA-0.626-0/blib/lib:/tmp/loop_over_bdir-3551-l8emhy/Debian-Packages-0.03-0/blib/arch:/tmp/loop_over_bdir-3551-l8emhy/Debian-Packages-0.03-0/blib/lib"
    PERL5OPT=""
    PERL5_CPANPLUS_IS_RUNNING="3559"
    PERL5_CPAN_IS_RUNNING="3559"
    PERL_CANARY_STABILITY_NOPROMPT="1"
    PERL_MM_USE_DEFAULT="1"
    PERL_USE_UNSAFE_INC="1"
  @INC:
    /tmp/loop_over_bdir-3551-l8emhy/Linux-InitFS-0.2-0/blib/arch
    /tmp/loop_over_bdir-3551-l8emhy/Linux-InitFS-0.2-0/blib/lib
    /tmp/loop_over_bdir-3551-l8emhy/Lingua-YaTeA-0.626-0/blib/arch
    /tmp/loop_over_bdir-3551-l8emhy/Lingua-YaTeA-0.626-0/blib/lib
    /tmp/loop_over_bdir-3551-l8emhy/Debian-Packages-0.03-0/blib/arch
    /tmp/loop_over_bdir-3551-l8emhy/Debian-Packages-0.03-0/blib/lib
    /home/sand/src/perl/repoperls/installed-perls/host/k93focal/v5.39.7/b254/lib/site_perl/5.39.7/x86_64-linux
    /home/sand/src/perl/repoperls/installed-perls/host/k93focal/v5.39.7/b254/lib/site_perl/5.39.7
    /home/sand/src/perl/repoperls/installed-perls/host/k93focal/v5.39.7/b254/lib/5.39.7/x86_64-linux
    /home/sand/src/perl/repoperls/installed-perls/host/k93focal/v5.39.7/b254/lib/5.39.7
    .