Net-SIP v0.838 Perl 5 v5.41.3 x86_64-linux-thread-multi
- Status
- Pass
- From
- Andreas J. König (ANDK)
- Dist
-
Net-SIP v0.838
- Platform
- Perl 5 v5.41.3 x86_64-linux-thread-multi
- Date
- 2024-09-18 02:43:35
- ID
- cd29dac4-7567-11ef-9292-f4ab6e65d18e
This distribution has been tested as part of the CPAN Testers
project, supporting the Perl programming language. See
http://wiki.cpantesters.org/ for more information or email
questions to cpan-testers-discuss@perl.org
--
Dear Steffen Ullrich,
This is a computer-generated report for Net-SIP-0.838
on perl 5.41.3, created by CPAN-Reporter-1.2020.
Thank you for uploading your work to CPAN. Congratulations!
All tests were successful.
Sections of this report:
* Tester comments
* Program output
* Prerequisites
* Environment and other context
------------------------------
TESTER COMMENTS
------------------------------
Additional comments from tester:
this report is from an automated smoke testing program
and was not reviewed by a human for accuracy
------------------------------
PROGRAM OUTPUT
------------------------------
Output from '/usr/bin/make test':
PERL_DL_NONLAZY=1 "/tmp/basesmoker-reloperl-IIrw/bin/perl" "-MExtUtils::Command::MM" "-MTest::Harness" "-e" "undef *Test::Harness::Switches; test_harness(0, 'blib/lib', 'blib/arch')" t/*.t
t/01_load.t ............................. ok
# call created
# got ringing
# call established
# call cleaned up
# call created
# got ringing
# call established
# call cleaned up
# call created
# got ringing
# call established
# call cleaned up
# call created
# got ringing
# call established
# call cleaned up
# call created
# got ringing
# call established
# call cleaned up
# call created
# got ringing
# call established
# call cleaned up
t/02_listen_and_invite.t ................ ok
t/03_forward_stateless.t ................ ok
t/04_call_with_rtp.t .................... ok
t/05_call_with_stateless_proxy.t ........ ok
t/06_call_with_reinvite.t ............... ok
t/07_call_on_hold.t ..................... ok
t/08_register_with_auth.t ............... ok
t/09_fdleak.t ........................... ok
t/10_fdleak.t ........................... ok
t/11_invite_timeout.t ................... ok
# call established
# call cleaned up
# call established
# call cleaned up
# call established
# call cleaned up
# call established
# call cleaned up
# call established
# call cleaned up
# call established
# call cleaned up
t/12_maddr.t ............................ ok
t/13_maddr_proxy.t ...................... ok
# UAS on 127.0.0.1:5062
# UAC on 127.0.0.1:5060
# PROXY on 127.0.0.1:5063
t/14_bugfix_0.51.t ...................... ok
t/15_block_invite.t ..................... ok
t/16_drop_invite.t ...................... ok
t/17_call_with_reinvite_and_auth.t ...... ok
t/18_register_with_auth_step_by_step.t .. ok
# UAS on 127.0.0.1:43426
# UAC on 127.0.0.1:55138
# call created
# call established
# call cleaned up
# received=466 lost=0 expect ca. 467.5 packets, events='1 2 D # 3 4 B *'
# UAS on 127.0.0.1:56466
# UAC on 127.0.0.1:40073
# call created
# call established
# call cleaned up
# received=467 lost=0 expect ca. 467.5 packets, events='1 2 D # 3 4 B *'
# UAS on 127.0.0.1:52012
# UAC on 127.0.0.1:34665
# call created
# call established
# call cleaned up
# received=465 lost=0 expect ca. 467.5 packets, events='1 2 D # 3 4 B *'
# UAS on 127.0.0.1:53099
# UAC on 127.0.0.1:38645
# call created
# call established
# call cleaned up
# received=465 lost=0 expect ca. 467.5 packets, events='1 2 D # 3 4 B *'
# UAS on [::1]:42390
# UAC on [::1]:37344
# call created
# call established
# call cleaned up
# received=465 lost=0 expect ca. 467.5 packets, events='1 2 D # 3 4 B *'
# UAS on [::1]:57166
# UAC on [::1]:51993
# call created
# call established
# call cleaned up
# received=466 lost=0 expect ca. 467.5 packets, events='1 2 D # 3 4 B *'
# UAS on [::1]:49488
# UAC on [::1]:38914
# call created
# call established
# call cleaned up
# received=466 lost=0 expect ca. 467.5 packets, events='1 2 D # 3 4 B *'
# UAS on [::1]:58394
# UAC on [::1]:49923
# call created
# call established
# call cleaned up
# received=465 lost=0 expect ca. 467.5 packets, events='1 2 D # 3 4 B *'
# UAS on 127.0.0.1:45709
# UAC on 127.0.0.1:53947
# call created
# call established
# call cleaned up
# received=466 lost=0 expect ca. 467.5 packets, events='1 2 D # 3 4 B *'
# UAS on 127.0.0.1:43015
# UAC on 127.0.0.1:57145
# call created
# call established
# call cleaned up
# received=466 lost=0 expect ca. 467.5 packets, events='1 2 D # 3 4 B *'
# UAS on 127.0.0.1:46661
# UAC on 127.0.0.1:35755
# call created
# call established
# call cleaned up
# received=465 lost=0 expect ca. 467.5 packets, events='1 2 D # 3 4 B *'
# UAS on 127.0.0.1:38629
# UAC on 127.0.0.1:45731
# call created
# call established
# call cleaned up
# received=466 lost=0 expect ca. 467.5 packets, events='1 2 D # 3 4 B *'
# UAS on [::1]:42667
# UAC on [::1]:37467
# call created
# call established
# call cleaned up
# received=465 lost=0 expect ca. 467.5 packets, events='1 2 D # 3 4 B *'
# UAS on [::1]:59393
# UAC on [::1]:35509
# call created
# call established
# call cleaned up
# received=467 lost=0 expect ca. 467.5 packets, events='1 2 D # 3 4 B *'
# UAS on [::1]:33683
# UAC on [::1]:60463
# call created
# call established
# call cleaned up
# received=466 lost=0 expect ca. 467.5 packets, events='1 2 D # 3 4 B *'
# UAS on [::1]:49013
# UAC on [::1]:58785
# call created
# call established
# call cleaned up
# received=465 lost=0 expect ca. 467.5 packets, events='1 2 D # 3 4 B *'
# UAS on 127.0.0.1:34715
# UAC on 127.0.0.1:40099
# call created
# call established
# call cleaned up
# received=465 lost=0 expect ca. 467.5 packets, events='1 2 D # 3 4 B *'
# UAS on 127.0.0.1:56511
# UAC on 127.0.0.1:43121
# call created
# call established
# call cleaned up
# received=465 lost=0 expect ca. 467.5 packets, events='1 2 D # 3 4 B *'
# UAS on 127.0.0.1:60347
# UAC on 127.0.0.1:41465
# call created
# call established
# call cleaned up
# received=466 lost=0 expect ca. 467.5 packets, events='1 2 D # 3 4 B *'
# UAS on 127.0.0.1:55205
# UAC on 127.0.0.1:52519
# call created
# call established
# call cleaned up
# received=466 lost=0 expect ca. 467.5 packets, events='1 2 D # 3 4 B *'
# UAS on [::1]:54589
# UAC on [::1]:53897
# call created
# call established
# call cleaned up
# received=466 lost=0 expect ca. 467.5 packets, events='1 2 D # 3 4 B *'
# UAS on [::1]:43807
# UAC on [::1]:51275
# call created
# call established
# call cleaned up
# received=465 lost=0 expect ca. 467.5 packets, events='1 2 D # 3 4 B *'
# UAS on [::1]:38953
# UAC on [::1]:55773
# call created
# call established
# call cleaned up
# received=466 lost=0 expect ca. 467.5 packets, events='1 2 D # 3 4 B *'
# UAS on [::1]:48219
# UAC on [::1]:51003
# call created
# call established
# call cleaned up
# received=466 lost=0 expect ca. 467.5 packets, events='1 2 D # 3 4 B *'
t/19_call_with_dtmf.t ................... ok
t/20_channel_on_hold.t .................. ok
t/21_channel_on_hold_stateless_proxy.t .. ok
t/22_stateless_proxy_ack_on_error.t ..... ok
t/23_valid_message.t .................... ok
t/24_dtmf_audio.t ....................... ok
t/25_register_tcp_timeout.t ............. ok
t/26_request_ack.t ...................... ok
All tests successful.
Files=26, Tests=2000, 402 wallclock secs ( 0.50 usr 0.10 sys + 45.72 cusr 9.67 csys = 55.99 CPU)
Result: PASS
------------------------------
PREREQUISITES
------------------------------
Prerequisite modules loaded:
requires:
Module Need Have
------------------- ---- -----
Socket 1.95 2.038
build_requires:
Module Need Have
------------------- ---- -----
ExtUtils::MakeMaker 0 7.70
configure_requires:
Module Need Have
------------------- ---- -----
ExtUtils::MakeMaker 0 7.70
------------------------------
ENVIRONMENT AND OTHER CONTEXT
------------------------------
Environment variables:
AUTOMATED_TESTING = 1
LANG = en_US.UTF-8
PATH = /home/sand/bin:/usr/local/bin:/usr/local/sbin:/usr/sbin:/usr/bin:/sbin:/bin:/usr/games:/usr/local/games:/snap/bin:/usr/local/perl/bin:/usr/X11/bin
PERL = /tmp/basesmoker-reloperl-IIrw/bin/perl
PERL5LIB = /tmp/loop_over_bdir-3247146-5YbB1Z/makepp-1.19-0/blib/arch:/tmp/loop_over_bdir-3247146-5YbB1Z/makepp-1.19-0/blib/lib:/tmp/loop_over_bdir-3247146-5YbB1Z/Sysync-0.38-0/blib/arch:/tmp/loop_over_bdir-3247146-5YbB1Z/Sysync-0.38-0/blib/lib:/tmp/loop_over_bdir-3247146-5YbB1Z/dta-tokwrap-0.98-0/blib/arch:/tmp/loop_over_bdir-3247146-5YbB1Z/dta-tokwrap-0.98-0/blib/lib:/tmp/loop_over_bdir-3247146-5YbB1Z/shishi-0.0.1-0/blib/arch:/tmp/loop_over_bdir-3247146-5YbB1Z/shishi-0.0.1-0/blib/lib:/tmp/loop_over_bdir-3247146-5YbB1Z/Devel-Required-0.16-0/blib/arch:/tmp/loop_over_bdir-3247146-5YbB1Z/Devel-Required-0.16-0/blib/lib:/tmp/loop_over_bdir-3247146-5YbB1Z/DBIx-Migration-Directories-0.12-0/blib/arch:/tmp/loop_over_bdir-3247146-5YbB1Z/DBIx-Migration-Directories-0.12-0/blib/lib:/tmp/loop_over_bdir-3247146-5YbB1Z/CORBA-Python-2.66-0/blib/arch:/tmp/loop_over_bdir-3247146-5YbB1Z/CORBA-Python-2.66-0/blib/lib:/tmp/loop_over_bdir-3247146-5YbB1Z/Business-Shipping-DataFiles-1.02-0/blib/arch:/tmp/loop_over_bdir-3247146-5YbB1Z/Business-Shipping-DataFiles-1.02-0/blib/lib:/tmp/loop_over_bdir-3247146-5YbB1Z/Lingua-YaTeA-0.626-0/blib/arch:/tmp/loop_over_bdir-3247146-5YbB1Z/Lingua-YaTeA-0.626-0/blib/lib
PERL5OPT =
PERL5_CPANPLUS_IS_RUNNING = 3247154
PERL5_CPAN_IS_RUNNING = 3247154
PERL_CANARY_STABILITY_NOPROMPT = 1
PERL_MM_USE_DEFAULT = 1
PERL_USE_UNSAFE_INC = 1
SHELL = /usr/bin/zsh
TERM = screen
Perl special variables (and OS-specific diagnostics, for MSWin32):
$^X = /tmp/basesmoker-reloperl-IIrw/bin/perl
$UID/$EUID = 1005 / 1005
$GID = 1005 1005
$EGID = 1005 1005
Perl module toolchain versions installed:
Module Have
------------------- --------
CPAN 2.37
CPAN::Meta 2.150010
Cwd 3.92
ExtUtils::CBuilder 0.280240
ExtUtils::Command 7.70
ExtUtils::Install 2.22
ExtUtils::MakeMaker 7.70
ExtUtils::Manifest 1.75
ExtUtils::ParseXS 3.53
File::Spec 3.92
JSON 4.10
JSON::PP 4.16
Module::Build 0.4234
Module::Signature 0.88
Parse::CPAN::Meta 2.150010
Test2 1.302203
Test::Harness 3.50
Test::More 1.302203
YAML 1.31
YAML::Syck 1.34
version 0.9933
--
Summary of my perl5 (revision 5 version 41 subversion 3) configuration:
Commit id: 7561aa27084e94eb0f399e9e8ee576069d40a706
Platform:
osname=linux
osvers=5.4.0-189-generic
archname=x86_64-linux-thread-multi
uname='linux k93focal 5.4.0-189-generic #209-ubuntu smp fri jun 7 14:05:13 utc 2024 x86_64 x86_64 x86_64 gnulinux '
config_args='-Dprefix=/home/sand/src/perl/repoperls/installed-perls/host/k93focal/v5.41.3/d119 -Dmyhostname=k93focal -Dinstallusrbinperl=n -Uversiononly -Dusedevel -des -Ui_db -Dlibswanted=cl pthread socket inet nsl gdbm dbm malloc dl ld sun m crypt sec util c cposix posix ucb BSD gdbm_compat -Duseithreads -Uuselongdouble -DEBUGGING=both'
hint=recommended
useposix=true
d_sigaction=define
useithreads=define
usemultiplicity=define
use64bitint=define
use64bitall=define
uselongdouble=undef
usemymalloc=n
default_inc_excludes_dot=define
Compiler:
cc='cc'
ccflags ='-D_REENTRANT -D_GNU_SOURCE -fwrapv -DDEBUGGING -fno-strict-aliasing -pipe -fstack-protector-strong -I/usr/local/include -D_LARGEFILE_SOURCE -D_FILE_OFFSET_BITS=64'
optimize='-O2 -g'
cppflags='-D_REENTRANT -D_GNU_SOURCE -fwrapv -DDEBUGGING -fno-strict-aliasing -pipe -fstack-protector-strong -I/usr/local/include'
ccversion=''
gccversion='9.4.0'
gccosandvers=''
intsize=4
longsize=8
ptrsize=8
doublesize=8
byteorder=12345678
doublekind=3
d_longlong=define
longlongsize=8
d_longdbl=define
longdblsize=16
longdblkind=3
ivtype='long'
ivsize=8
nvtype='double'
nvsize=8
Off_t='off_t'
lseeksize=8
alignbytes=8
prototype=define
Linker and Libraries:
ld='cc'
ldflags =' -fstack-protector-strong -L/usr/local/lib'
libpth=/usr/local/lib /usr/lib/x86_64-linux-gnu /usr/lib /usr/lib64
libs=-lpthread -lnsl -ldl -lm -lcrypt -lutil -lc
perllibs=-lpthread -lnsl -ldl -lm -lcrypt -lutil -lc
libc=libc-2.31.so
so=so
useshrplib=false
libperl=libperl.a
gnulibc_version='2.31'
Dynamic Linking:
dlsrc=dl_dlopen.xs
dlext=so
d_dlsymun=undef
ccdlflags='-Wl,-E'
cccdlflags='-fPIC'
lddlflags='-shared -O2 -g -L/usr/local/lib -fstack-protector-strong'
Characteristics of this binary (from libperl):
Compile-time options:
DEBUGGING
HAS_LONG_DOUBLE
HAS_STRTOLD
HAS_TIMES
MULTIPLICITY
PERLIO_LAYERS
PERL_COPY_ON_WRITE
PERL_DONT_CREATE_GVSV
PERL_HASH_FUNC_SIPHASH13
PERL_HASH_USE_SBOX32
PERL_MALLOC_WRAP
PERL_OP_PARENT
PERL_PRESERVE_IVUV
PERL_TRACK_MEMPOOL
PERL_USE_DEVEL
PERL_USE_SAFE_PUTENV
USE_64_BIT_ALL
USE_64_BIT_INT
USE_ITHREADS
USE_LARGE_FILES
USE_LOCALE
USE_LOCALE_COLLATE
USE_LOCALE_CTYPE
USE_LOCALE_NUMERIC
USE_LOCALE_TIME
USE_PERLIO
USE_PERL_ATOF
USE_REENTRANT_API
USE_THREAD_SAFE_LOCALE
Built under linux
Compiled at Sep 4 2024 04:04:46
%ENV:
PERL="/tmp/basesmoker-reloperl-IIrw/bin/perl"
PERL5LIB="/tmp/loop_over_bdir-3247146-5YbB1Z/makepp-1.19-0/blib/arch:/tmp/loop_over_bdir-3247146-5YbB1Z/makepp-1.19-0/blib/lib:/tmp/loop_over_bdir-3247146-5YbB1Z/Sysync-0.38-0/blib/arch:/tmp/loop_over_bdir-3247146-5YbB1Z/Sysync-0.38-0/blib/lib:/tmp/loop_over_bdir-3247146-5YbB1Z/dta-tokwrap-0.98-0/blib/arch:/tmp/loop_over_bdir-3247146-5YbB1Z/dta-tokwrap-0.98-0/blib/lib:/tmp/loop_over_bdir-3247146-5YbB1Z/shishi-0.0.1-0/blib/arch:/tmp/loop_over_bdir-3247146-5YbB1Z/shishi-0.0.1-0/blib/lib:/tmp/loop_over_bdir-3247146-5YbB1Z/Devel-Required-0.16-0/blib/arch:/tmp/loop_over_bdir-3247146-5YbB1Z/Devel-Required-0.16-0/blib/lib:/tmp/loop_over_bdir-3247146-5YbB1Z/DBIx-Migration-Directories-0.12-0/blib/arch:/tmp/loop_over_bdir-3247146-5YbB1Z/DBIx-Migration-Directories-0.12-0/blib/lib:/tmp/loop_over_bdir-3247146-5YbB1Z/CORBA-Python-2.66-0/blib/arch:/tmp/loop_over_bdir-3247146-5YbB1Z/CORBA-Python-2.66-0/blib/lib:/tmp/loop_over_bdir-3247146-5YbB1Z/Business-Shipping-DataFiles-1.02-0/blib/arch:/tmp/loop_over_bdir-3247146-5YbB1Z/Business-Shipping-DataFiles-1.02-0/blib/lib:/tmp/loop_over_bdir-3247146-5YbB1Z/Lingua-YaTeA-0.626-0/blib/arch:/tmp/loop_over_bdir-3247146-5YbB1Z/Lingua-YaTeA-0.626-0/blib/lib"
PERL5OPT=""
PERL5_CPANPLUS_IS_RUNNING="3247154"
PERL5_CPAN_IS_RUNNING="3247154"
PERL_CANARY_STABILITY_NOPROMPT="1"
PERL_MM_USE_DEFAULT="1"
PERL_USE_UNSAFE_INC="1"
@INC:
/tmp/loop_over_bdir-3247146-5YbB1Z/makepp-1.19-0/blib/arch
/tmp/loop_over_bdir-3247146-5YbB1Z/makepp-1.19-0/blib/lib
/tmp/loop_over_bdir-3247146-5YbB1Z/Sysync-0.38-0/blib/arch
/tmp/loop_over_bdir-3247146-5YbB1Z/Sysync-0.38-0/blib/lib
/tmp/loop_over_bdir-3247146-5YbB1Z/dta-tokwrap-0.98-0/blib/arch
/tmp/loop_over_bdir-3247146-5YbB1Z/dta-tokwrap-0.98-0/blib/lib
/tmp/loop_over_bdir-3247146-5YbB1Z/shishi-0.0.1-0/blib/arch
/tmp/loop_over_bdir-3247146-5YbB1Z/shishi-0.0.1-0/blib/lib
/tmp/loop_over_bdir-3247146-5YbB1Z/Devel-Required-0.16-0/blib/arch
/tmp/loop_over_bdir-3247146-5YbB1Z/Devel-Required-0.16-0/blib/lib
/tmp/loop_over_bdir-3247146-5YbB1Z/DBIx-Migration-Directories-0.12-0/blib/arch
/tmp/loop_over_bdir-3247146-5YbB1Z/DBIx-Migration-Directories-0.12-0/blib/lib
/tmp/loop_over_bdir-3247146-5YbB1Z/CORBA-Python-2.66-0/blib/arch
/tmp/loop_over_bdir-3247146-5YbB1Z/CORBA-Python-2.66-0/blib/lib
/tmp/loop_over_bdir-3247146-5YbB1Z/Business-Shipping-DataFiles-1.02-0/blib/arch
/tmp/loop_over_bdir-3247146-5YbB1Z/Business-Shipping-DataFiles-1.02-0/blib/lib
/tmp/loop_over_bdir-3247146-5YbB1Z/Lingua-YaTeA-0.626-0/blib/arch
/tmp/loop_over_bdir-3247146-5YbB1Z/Lingua-YaTeA-0.626-0/blib/lib
/home/sand/src/perl/repoperls/installed-perls/host/k93focal/v5.41.3/d119/lib/site_perl/5.41.3/x86_64-linux-thread-multi
/home/sand/src/perl/repoperls/installed-perls/host/k93focal/v5.41.3/d119/lib/site_perl/5.41.3
/home/sand/src/perl/repoperls/installed-perls/host/k93focal/v5.41.3/d119/lib/5.41.3/x86_64-linux-thread-multi
/home/sand/src/perl/repoperls/installed-perls/host/k93focal/v5.41.3/d119/lib/5.41.3
.