Report for Dist-Zilla-Plugin-CheckExtraTests-0.025

Back
From: metabase:user:e9d4a868-a1b6-1014-8cbd-09dd8d67b9ce
Subject: PASS Dist-Zilla-Plugin-CheckExtraTests-0.025 v5.18.2 GNU/Linux
Date: 2014-12-09T15:48:20Z

This distribution has been tested as part of the CPAN Testers
project, supporting the Perl programming language.  See
http://wiki.cpantesters.org/ for more information or email
questions to cpan-testers-discuss@perl.org


--
Dear David Golden,

This is a computer-generated report for Dist-Zilla-Plugin-CheckExtraTests-0.025
on perl 5.18.2, created by CPAN-Reporter-1.2011.

Thank you for uploading your work to CPAN.  Congratulations!
All tests were successful.

Sections of this report:

    * Tester comments
    * Program output
    * Prerequisites
    * Environment and other context

------------------------------
TESTER COMMENTS
------------------------------

Additional comments from tester:

none provided

------------------------------
PROGRAM OUTPUT
------------------------------

Output from '/usr/bin/make test':

PERL_DL_NONLAZY=1 /home/omengue/.plenv/versions/5.18.2/bin/perl5.18.2 "-MExtUtils::Command::MM" "-MTest::Harness" "-e" "undef *Test::Harness::Switches; test_harness(0, 'blib/lib', 'blib/arch')" t/*.t
# 
# Versions for all modules listed in MYMETA.json (including optional ones):
# 
# === Configure Requires ===
# 
#     Module              Want Have
#     ------------------- ---- ----
#     ExtUtils::MakeMaker 6.17 6.96
# 
# === Build Requires ===
# 
#     Module              Want Have
#     ------------------- ---- ----
#     ExtUtils::MakeMaker  any 6.96
# 
# === Test Requires ===
# 
#     Module                   Want     Have
#     ------------------------ ---- --------
#     Capture::Tiny             any     0.24
#     Dist::Zilla::App::Tester  any    5.027
#     Dist::Zilla::Tester       any    5.027
#     ExtUtils::MakeMaker       any     6.96
#     File::Spec                any     3.40
#     Params::Util              any     1.07
#     Sub::Exporter             any    0.987
#     Test::More               0.88 1.001003
#     Test::Requires            any     0.07
#     Try::Tiny                 any     0.20
#     lib                       any     0.63
# 
# === Test Recommends ===
# 
#     Module         Want     Have
#     ---------- -------- --------
#     CPAN::Meta 2.120900 2.143240
# 
# === Runtime Requires ===
# 
#     Module                            Want   Have
#     -------------------------------- ----- ------
#     App::Prove                        3.00   3.30
#     Archive::Tar                       any   1.96
#     Dist::Zilla                        4.3  5.027
#     Dist::Zilla::App                   any  5.027
#     Dist::Zilla::Role::BeforeRelease   any  5.027
#     Dist::Zilla::Role::TestRunner      any  5.027
#     File::pushd                        any  1.006
#     Moose                                2 2.1204
#     Path::Iterator::Rule               any  1.008
#     Path::Tiny                       0.013  0.052
#     namespace::autoclean              0.09   0.15
#     strict                             any   1.07
#     warnings                           any   1.18
# 
t/00-report-prereqs.t .. ok
t/checkxt.t ............ ok
t/runxt.t .............. ok
t/withblib.t ........... ok
All tests successful.
Files=4, Tests=16, 23 wallclock secs ( 0.09 usr  0.07 sys + 12.56 cusr  6.53 csys = 19.25 CPU)
Result: PASS

------------------------------
PREREQUISITES
------------------------------

Prerequisite modules loaded:

requires:

    Module                           Need  Have    
    -------------------------------- ----- --------
    App::Prove                       3.00  3.30    
    Archive::Tar                     0     1.96    
    Dist::Zilla                      4.3   5.027   
    Dist::Zilla::App                 0     5.027   
    Dist::Zilla::Role::BeforeRelease 0     5.027   
    Dist::Zilla::Role::TestRunner    0     5.027   
    File::pushd                      0     1.006   
    Moose                            2     2.1204  
    namespace::autoclean             0.09  0.15    
    Path::Iterator::Rule             0     1.008   
    Path::Tiny                       0.013 0.052   
    perl                             5.006 5.018002
    strict                           0     1.07    
    warnings                         0     1.18    

build_requires:

    Module                           Need  Have    
    -------------------------------- ----- --------
    Capture::Tiny                    0     0.24    
    Dist::Zilla::App::Tester         0     5.027   
    Dist::Zilla::Tester              0     5.027   
    ExtUtils::MakeMaker              0     6.96    
    File::Spec                       0     3.40    
    lib                              0     0.63    
    Params::Util                     0     1.07    
    Sub::Exporter                    0     0.987   
    Test::More                       0.88  1.001003
    Test::Requires                   0     0.07    
    Try::Tiny                        0     0.20    

configure_requires:

    Module                           Need  Have    
    -------------------------------- ----- --------
    ExtUtils::MakeMaker              6.17  6.96    
    perl                             5.006 5.018002


------------------------------
ENVIRONMENT AND OTHER CONTEXT
------------------------------

Environment variables:

    LANG = fr_FR.UTF-8
    LANGUAGE = fr_FR
    PATH = /home/omengue/.plenv/versions/5.18.2/bin:/home/omengue/.plenv/libexec:/home/omengue/.plenv/plugins/perl-build/bin:/home/omengue/.plenv/shims:/home/omengue/.plenv/bin:/home/omengue/bin:/usr/local/sbin:/usr/local/bin:/usr/sbin:/usr/bin:/sbin:/bin:/usr/games:/usr/local/games
    PERL5LIB = 
    PERL5OPT = 
    PERL5_CPANPLUS_IS_RUNNING = 18680
    PERL5_CPAN_IS_RUNNING = 18680
    PERL_CPANM_OPT = 
    PERL_MB_OPT = --install_path libdoc= --install_path libhtml= --install_path binhtml=
    PERL_MM_OPT = INSTALLMAN3DIR=none
    SHELL = /bin/bash
    TERM = xterm

Perl special variables (and OS-specific diagnostics, for MSWin32):

    $^X = /home/omengue/.plenv/versions/5.18.2/bin/perl5.18.2
    $UID/$EUID = 1024 / 1024
    $GID = 1024 4 24 25 46 104 110 119 122 499 500 1024
    $EGID = 1024 4 24 25 46 104 110 119 122 499 500 1024

Perl module toolchain versions installed:

    Module              Have    
    ------------------- --------
    CPAN                2.05    
    CPAN::Meta          2.143240
    Cwd                 3.40    
    ExtUtils::CBuilder  0.280210
    ExtUtils::Command   1.17    
    ExtUtils::Install   1.59    
    ExtUtils::MakeMaker 6.96    
    ExtUtils::Manifest  1.69    
    ExtUtils::ParseXS   3.24    
    File::Spec          3.40    
    JSON                2.90    
    JSON::PP            2.27203 
    Module::Build       0.4205  
    Module::Signature   n/a     
    Parse::CPAN::Meta   1.4414  
    Test::Harness       3.30    
    Test::More          1.001003
    YAML                0.90    
    YAML::Syck          n/a     
    version             0.9908  


--

Summary of my perl5 (revision 5 version 18 subversion 2) configuration:
   
  Platform:
    osname=linux, osvers=3.2.0-60-virtual, archname=x86_64-linux
    uname='linux omengue-uv 3.2.0-60-virtual #91-ubuntu smp wed feb 19 04:13:28 utc 2014 x86_64 x86_64 x86_64 gnulinux '
    config_args='-Dprefix=/home/omengue/.plenv/versions/5.18.2 -de -Dusedevel -A'eval:scriptdir=/home/omengue/.plenv/versions/5.18.2/bin''
    hint=recommended, useposix=true, d_sigaction=define
    useithreads=undef, usemultiplicity=undef
    useperlio=define, d_sfio=undef, uselargefiles=define, usesocks=undef
    use64bitint=define, use64bitall=define, uselongdouble=undef
    usemymalloc=n, bincompat5005=undef
  Compiler:
    cc='cc', ccflags ='-fno-strict-aliasing -pipe -fstack-protector -I/usr/local/include -D_LARGEFILE_SOURCE -D_FILE_OFFSET_BITS=64',
    optimize='-O2',
    cppflags='-fno-strict-aliasing -pipe -fstack-protector -I/usr/local/include'
    ccversion='', gccversion='4.6.3', gccosandvers=''
    intsize=4, longsize=8, ptrsize=8, doublesize=8, byteorder=12345678
    d_longlong=define, longlongsize=8, d_longdbl=define, longdblsize=16
    ivtype='long', ivsize=8, nvtype='double', nvsize=8, Off_t='off_t', lseeksize=8
    alignbytes=8, prototype=define
  Linker and Libraries:
    ld='cc', ldflags =' -fstack-protector -L/usr/local/lib'
    libpth=/usr/local/lib /lib/x86_64-linux-gnu /lib/../lib /usr/lib/x86_64-linux-gnu /usr/lib/../lib /lib /usr/lib
    libs=-lnsl -ldl -lm -lcrypt -lutil -lc
    perllibs=-lnsl -ldl -lm -lcrypt -lutil -lc
    libc=, so=so, useshrplib=false, libperl=libperl.a
    gnulibc_version='2.15'
  Dynamic Linking:
    dlsrc=dl_dlopen.xs, dlext=so, d_dlsymun=undef, ccdlflags='-Wl,-E'
    cccdlflags='-fPIC', lddlflags='-shared -O2 -L/usr/local/lib -fstack-protector'


Characteristics of this binary (from libperl): 
  Compile-time options: HAS_TIMES PERLIO_LAYERS PERL_DONT_CREATE_GVSV
                        PERL_HASH_FUNC_ONE_AT_A_TIME_HARD PERL_MALLOC_WRAP
                        PERL_PRESERVE_IVUV PERL_SAWAMPERSAND PERL_USE_DEVEL
                        USE_64_BIT_ALL USE_64_BIT_INT USE_LARGE_FILES
                        USE_LOCALE USE_LOCALE_COLLATE USE_LOCALE_CTYPE
                        USE_LOCALE_NUMERIC USE_PERLIO USE_PERL_ATOF
  Built under linux
  Compiled at Apr 15 2014 11:56:12
  %ENV:
    PERL5LIB=""
    PERL5OPT=""
    PERL5_CPANPLUS_IS_RUNNING="18680"
    PERL5_CPAN_IS_RUNNING="18680"
    PERL_CPANM_OPT=""
    PERL_MB_OPT="--install_path libdoc= --install_path libhtml= --install_path binhtml="
    PERL_MM_OPT="INSTALLMAN3DIR=none"
  @INC:
    /home/omengue/.plenv/versions/5.18.2/lib/perl5/site_perl/5.18.2/x86_64-linux
    /home/omengue/.plenv/versions/5.18.2/lib/perl5/site_perl/5.18.2
    /home/omengue/.plenv/versions/5.18.2/lib/perl5/5.18.2/x86_64-linux
    /home/omengue/.plenv/versions/5.18.2/lib/perl5/5.18.2
    .