Back
From: metabase:user:a0e144f2-373b-11e6-8edd-c6848980b093
Subject: PASS Test-LWP-Recorder-0.1.1 v5.25.1 GNU/Linux
Date: 2016-06-29T01:35:46Z
This distribution has been tested as part of the CPAN Testers
project, supporting the Perl programming language. See
http://wiki.cpantesters.org/ for more information or email
questions to cpan-testers-discuss@perl.org
--
Dear Edward J. Allen III,
This is a computer-generated report for Test-LWP-Recorder-0.1.1
on perl 5.25.1, created by CPAN-Reporter-1.2017.
Thank you for uploading your work to CPAN. Congratulations!
All tests were successful.
Sections of this report:
* Tester comments
* Program output
* Prerequisites
* Environment and other context
------------------------------
TESTER COMMENTS
------------------------------
Additional comments from tester:
none provided
------------------------------
PROGRAM OUTPUT
------------------------------
Output from '/usr/bin/make test':
PERL_DL_NONLAZY=1 "/usr/bin/perl5.25.1" "-MExtUtils::Command::MM" "-MTest::Harness" "-e" "undef *Test::Harness::Switches; test_harness(0, 'blib/lib', 'blib/arch')" t/*.t
t/00-compile.t ................ ok
#
# Pod::Coverage::TrustPod: Base class package "Pod::Coverage::CountParents" is empty.
# (Perhaps you need to 'use' the module which defines that package first,
# or make that module available in @INC (@INC contains: /home/dcollins/toolchain/.afl2/.cpan/build/Test-LWP-Recorder-0.1.1-fyAUDJ/blib/lib /home/dcollins/toolchain/.afl2/.cpan/build/Test-LWP-Recorder-0.1.1-fyAUDJ/blib/arch /home/dcollins/toolchain/.afl2/.cpan/build/libwww-perl-6.15-d91Wg_/blib/arch /home/dcollins/toolchain/.afl2/.cpan/build/libwww-perl-6.15-d91Wg_/blib/lib /home/dcollins/toolchain/.afl2/.cpan/build/Module-Build-0.4218-tY8XQl/blib/arch /home/dcollins/toolchain/.afl2/.cpan/build/Module-Build-0.4218-tY8XQl/blib/lib /home/dcollins/toolchain/.afl2/.cpan/build/libwww-perl-6.15-d91Wg_/blib/arch /home/dcollins/toolchain/.afl2/.cpan/build/libwww-perl-6.15-d91Wg_/blib/lib /home/dcollins/toolchain/.afl2/.cpan/build/Module-Build-0.4218-tY8XQl/blib/arch /home/dcollins/toolchain/.afl2/.cpan/build/Module-Build-0.4218-tY8XQl/blib/lib /home/dcollins/toolchain/local/lib/perl5/site_perl/5.25.1/x86_64-linux-ld /home/dcollins/toolchain/local/lib/perl5/site_perl/5.25.1 /usr/lib/perl5/5.25.1/x86_64-linux-ld /usr/lib/perl5/5.25.1 /home/dcollins/toolchain/local/lib/perl5/site_perl .).
# at /home/dcollins/toolchain/local/lib/perl5/site_perl/5.25.1/Pod/Coverage/TrustPod.pm line 7.
# BEGIN failed--compilation aborted at /home/dcollins/toolchain/local/lib/perl5/site_perl/5.25.1/Pod/Coverage/TrustPod.pm line 7.
# Compilation failed in require at (eval 36) line 1.
#
# perl: v5.25.1 (wanted 5.006) on linux from /usr/bin/perl5.25.1
#
# Carp => 1.41 (want any version)
# Digest::MD5 => 2.55 (want any version)
# File::Find => 1.34 (want any version)
# File::Slurp => 9999.19 (want any version)
# File::Spec => 3.63 (want any version)
# File::Temp => 0.2304 (want any version)
# HTTP::Response => 6.11 (want any version)
# HTTP::Status => 6.11 (want any version)
# LWP::UserAgent => 6.15 (want any version)
# LWPx::Record::DataSection => 0.01 (want any version)
# List::Util => 1.4502 (want any version)
# Module::Build => 0.4218 (want 0.3601)
# Pod::Coverage::TrustPod => died during require. (want any version)
# Test::More => 1.302030 (want 0.88)
# Test::Pod => 1.51 (want 1.41)
# Test::Pod::Coverage => module not found. (want 1.08)
# base => 2.23 (want any version)
# lib => 0.63 (want any version)
# strict => 1.11 (want any version)
# warnings => 1.36 (want any version)
#
# Thanks for using my code. I hope it works for you.
# If not, please try and include this output in the bug report.
# That will help me reproduce the issue and solve you problem.
#
t/000-report-versions-tiny.t .. ok
t/author-critic.t ............. skipped: these tests are for testing by the author
t/author-pod-spell.t .......... skipped: these tests are for testing by the author
t/lwpxtest.t .................. ok
t/lwpxtest_02.t ............... ok
t/release-pod-coverage.t ...... skipped: these tests are for release candidate testing
t/release-pod-linkcheck.t ..... skipped: these tests are for release candidate testing
t/release-pod-syntax.t ........ skipped: these tests are for release candidate testing
All tests successful.
Files=9, Tests=14, 0 wallclock secs ( 0.02 usr 0.01 sys + 0.54 cusr 0.06 csys = 0.63 CPU)
Result: PASS
------------------------------
PREREQUISITES
------------------------------
Prerequisite modules loaded:
requires:
Module Need Have
------------------------- ------ --------
base 0 2.23
Carp 0 1.41
Digest::MD5 0 2.55
File::Slurp 0 9999.19
File::Spec 0 3.63
HTTP::Response 0 6.11
HTTP::Status 0 6.11
List::Util 0 1.45_02
LWP::UserAgent 0 6.15
strict 0 1.11
warnings 0 1.36
build_requires:
Module Need Have
------------------------- ------ --------
File::Find 0 1.34
File::Temp 0 0.2304
lib 0 0.63
LWPx::Record::DataSection 0 0.01
Module::Build 0.3601 0.4218
Test::More 0.88 1.302030
configure_requires:
Module Need Have
------------------------- ------ --------
Module::Build 0.3601 0.4218
------------------------------
ENVIRONMENT AND OTHER CONTEXT
------------------------------
Environment variables:
LANG = en_US.UTF-8
PATH = /usr/local/bin:/usr/bin:/bin:/usr/local/games:/usr/games
PERL5LIB = /home/dcollins/toolchain/.afl2/.cpan/build/libwww-perl-6.15-d91Wg_/blib/arch:/home/dcollins/toolchain/.afl2/.cpan/build/libwww-perl-6.15-d91Wg_/blib/lib:/home/dcollins/toolchain/.afl2/.cpan/build/Module-Build-0.4218-tY8XQl/blib/arch:/home/dcollins/toolchain/.afl2/.cpan/build/Module-Build-0.4218-tY8XQl/blib/lib
PERL5OPT =
PERL5_CPANPLUS_IS_RUNNING = 62915
PERL5_CPAN_IS_RUNNING = 62915
SHELL = /bin/bash
TERM = xterm
Perl special variables (and OS-specific diagnostics, for MSWin32):
$^X = /usr/bin/perl5.25.1
$UID/$EUID = 1002 / 1002
$GID = 1005 1005
$EGID = 1005 1005
Perl module toolchain versions installed:
Module Have
------------------- --------
CPAN 2.11
CPAN::Meta 2.150005
Cwd 3.63
ExtUtils::CBuilder 0.280225
ExtUtils::Command 7.10
ExtUtils::Install 2.04
ExtUtils::MakeMaker 7.10_01
ExtUtils::Manifest 1.70
ExtUtils::ParseXS 3.31
File::Spec 3.63
JSON 2.90
JSON::PP 2.27300
Module::Build 0.4218
Module::Signature n/a
Parse::CPAN::Meta 1.4417
Test::Harness 3.36
Test::More 1.302030
YAML 1.15
YAML::Syck 1.29
version 0.9917
--
Summary of my perl5 (revision 5 version 25 subversion 1) configuration:
Commit id: 5b145eb412326b9b57276229cfde0ef09e7ca2bc
Platform:
osname=linux, osvers=4.6.0-1-amd64, archname=x86_64-linux-ld
uname='linux nightshade64 4.6.0-1-amd64 #1 smp debian 4.6.1-1 (2016-06-06) x86_64 gnulinux '
config_args='-Dusedevel -Dprefix=/usr -Dcc=ccache gcc-6 -Duselongdouble -Duse64bitall -Doptimize=-O3 -Dversiononly -Uman1dir -Uman3dir -Dsiteprefix=/home/dcollins/toolchain/local -DDEBUGGING -des'
hint=recommended, useposix=true, d_sigaction=define
useithreads=undef, usemultiplicity=undef
use64bitint=define, use64bitall=define, uselongdouble=define
usemymalloc=n, bincompat5005=undef
Compiler:
cc='ccache gcc-6', ccflags ='-fwrapv -DDEBUGGING -fno-strict-aliasing -pipe -fstack-protector-strong -I/usr/local/include -D_LARGEFILE_SOURCE -D_FILE_OFFSET_BITS=64',
optimize='-O3 -g',
cppflags='-fwrapv -DDEBUGGING -fno-strict-aliasing -pipe -fstack-protector-strong -I/usr/local/include'
ccversion='', gccversion='6.1.1 20160519', gccosandvers=''
intsize=4, longsize=8, ptrsize=8, doublesize=8, byteorder=12345678, doublekind=3
d_longlong=define, longlongsize=8, d_longdbl=define, longdblsize=16, longdblkind=3
ivtype='long', ivsize=8, nvtype='long double', nvsize=16, Off_t='off_t', lseeksize=8
alignbytes=16, prototype=define
Linker and Libraries:
ld='ccache gcc-6', ldflags =' -fstack-protector-strong -L/usr/local/lib'
libpth=/usr/local/lib /usr/lib/gcc/x86_64-linux-gnu/6/include-fixed /usr/include/x86_64-linux-gnu /usr/lib /lib/x86_64-linux-gnu /lib/../lib /usr/lib/x86_64-linux-gnu /usr/lib/../lib /lib
libs=-lpthread -lnsl -ldl -lm -lcrypt -lutil -lc
perllibs=-lpthread -lnsl -ldl -lm -lcrypt -lutil -lc
libc=libc-2.22.so, so=so, useshrplib=false, libperl=libperl.a
gnulibc_version='2.22'
Dynamic Linking:
dlsrc=dl_dlopen.xs, dlext=so, d_dlsymun=undef, ccdlflags='-Wl,-E'
cccdlflags='-fPIC', lddlflags='-shared -O3 -g -L/usr/local/lib -fstack-protector-strong'
Characteristics of this binary (from libperl):
Compile-time options: DEBUGGING HAS_TIMES PERLIO_LAYERS PERL_COPY_ON_WRITE
PERL_DONT_CREATE_GVSV
PERL_HASH_FUNC_ONE_AT_A_TIME_HARD PERL_MALLOC_WRAP
PERL_OP_PARENT PERL_PRESERVE_IVUV PERL_USE_DEVEL
USE_64_BIT_ALL USE_64_BIT_INT USE_LARGE_FILES
USE_LOCALE USE_LOCALE_COLLATE USE_LOCALE_CTYPE
USE_LOCALE_NUMERIC USE_LOCALE_TIME USE_LONG_DOUBLE
USE_PERLIO USE_PERL_ATOF
Built under linux
Compiled at Jan 1 1970 00:00:00
%ENV:
PERL5LIB="/home/dcollins/toolchain/.afl2/.cpan/build/libwww-perl-6.15-d91Wg_/blib/arch:/home/dcollins/toolchain/.afl2/.cpan/build/libwww-perl-6.15-d91Wg_/blib/lib:/home/dcollins/toolchain/.afl2/.cpan/build/Module-Build-0.4218-tY8XQl/blib/arch:/home/dcollins/toolchain/.afl2/.cpan/build/Module-Build-0.4218-tY8XQl/blib/lib"
PERL5OPT=""
PERL5_CPANPLUS_IS_RUNNING="62915"
PERL5_CPAN_IS_RUNNING="62915"
@INC:
/home/dcollins/toolchain/.afl2/.cpan/build/libwww-perl-6.15-d91Wg_/blib/arch
/home/dcollins/toolchain/.afl2/.cpan/build/libwww-perl-6.15-d91Wg_/blib/lib
/home/dcollins/toolchain/.afl2/.cpan/build/Module-Build-0.4218-tY8XQl/blib/arch
/home/dcollins/toolchain/.afl2/.cpan/build/Module-Build-0.4218-tY8XQl/blib/lib
/home/dcollins/toolchain/local/lib/perl5/site_perl/5.25.1/x86_64-linux-ld
/home/dcollins/toolchain/local/lib/perl5/site_perl/5.25.1
/usr/lib/perl5/5.25.1/x86_64-linux-ld
/usr/lib/perl5/5.25.1
/home/dcollins/toolchain/local/lib/perl5/site_perl
.