Text-Xslate vv3.5.9 Perl 5 v5.41.11 x86_64-linux

Status
Pass
From
John SJ Anderson
Dist
Text-Xslate vv3.5.9
Platform
Perl 5 v5.41.11 x86_64-linux
Date
2025-04-21 22:56:03
ID
ccf78b00-1f03-11f0-965c-82a181d468ce
This distribution has been tested as part of the CPAN Testers
project, supporting the Perl programming language.  See
http://wiki.cpantesters.org/ for more information or email
questions to cpan-testers-discuss@perl.org


--
Dear SKAJI,

This is a computer-generated report for Text-Xslate-v3.5.9
on perl 5.41.11, created by App::cpanminus::reporter 0.22 (1.7048).

Thank you for uploading your work to CPAN.  Congratulations!
All tests were successful.

Sections of this report:

    * Tester comments
    * Program output
    * Prerequisites
    * Environment and other context

------------------------------
TESTER COMMENTS
------------------------------

Additional comments from tester:

none provided

------------------------------
PROGRAM OUTPUT
------------------------------

Output from '':

Running Build.PL
Checking prerequisites...
  requires:
    !  Data::MessagePack is not installed
    !  Mouse is not installed

ERRORS/WARNINGS FOUND IN PREREQUISITES.  You may wish to install the versions
of the modules indicated above before proceeding with this installation

Created MYMETA.yml and MYMETA.json
Creating new 'Build' script for 'Text-Xslate' version 'v3.5.9'
-> OK
Checking dependencies from MYMETA.json ...
Checking if you have File::Copy::Recursive 0 ... Yes (0.45)
Checking if you have Test::More 0.98 ... Yes (1.302210)
Checking if you have ExtUtils::CBuilder 0 ... Yes (0.280240)
Checking if you have Storable 2.15 ... Yes (3.37)
Checking if you have File::Path 2.07 ... Yes (2.18)
Checking if you have Test::Requires 0 ... Yes (0.11)
Checking if you have Data::MessagePack 0.38 ... No
Checking if you have Encode 2.26 ... Yes (3.21)
Checking if you have Mouse v2.5.0 ... No
Checking if you have Scalar::Util 1.14 ... Yes (1.68_01)
Checking if you have parent 0.221 ... Yes (0.244)
==> Found dependencies: Data::MessagePack, Mouse
Searching Data::MessagePack (0.38) on cpanmetadb ...
--> Working on Data::MessagePack
Fetching http://www.cpan.org/authors/id/S/SY/SYOHEX/Data-MessagePack-1.02.tar.gz
-> OK
Unpacking Data-MessagePack-1.02.tar.gz
xs tests
# Testing Data::MessagePack/1.02 (XS)
# byteoder: 12345678, ivsize=8
t/00_compile.t .............. ok
t/01_pack.t ................. ok
t/02_unpack.t ............... ok
t/03_stream_unpack.t ........ ok
t/04_invert.t ............... ok
t/05_preferred_int.t ........ ok
t/06_stream_unpack2.t ....... ok
t/07_break.t ................ ok
t/08_cycle.t ................ ok
t/09_stddata.t .............. ok
t/10_splitted_bytes.t ....... ok
t/11_stream_unpack3.t ....... ok
t/12_stream_unpack4.t ....... ok
t/13_booleans.t ............. ok
t/14_invalid_data.t ......... ok
t/15_utf8.t ................. ok
t/16_unpacker_for_larges.t .. ok
t/17_canonical.t ............ ok
t/18_new_interface.t ........ ok
t/19_utf8_property.t ........ ok
t/20_de.t ................... ok
t/21_dirty_float.t .......... ok
t/22_pid_pack_unpack.t ...... ok
t/23-empty-key.t ............ ok
t/24_tied.t ................. ok
t/40_threads.t .............. skipped: no threads
t/50_leaktrace.t ............ ok
All tests successful.
Files=27, Tests=568,  2 wallclock secs ( 0.09 usr  0.04 sys +  1.07 cusr  0.26 csys =  1.46 CPU)
Result: PASS

------------------------------
PREREQUISITES
------------------------------

Prerequisite modules loaded:

runtime:

    Module                Need     Have    
    --------------------- -------- --------
    Data::MessagePack     0.38     1.02    
    Encode                2.26     3.21    
    Mouse                 v2.5.0   v2.5.11 
    parent                0.221    0.244   
    perl                  5.008001 5.041011
    Scalar::Util          1.14     1.68_01 
    Storable              2.15     3.37    

build:

    Module                Need     Have    
    --------------------- -------- --------
    ExtUtils::CBuilder    0        0.280240

configure:

    Module                Need     Have    
    --------------------- -------- --------
    Module::Build         0.4005   0.4234  
    Module::Build::XSUtil 0.19     0.19    


------------------------------
ENVIRONMENT AND OTHER CONTEXT
------------------------------

Environment variables:

    LANG = en_US.UTF-8
    LC_ALL = en_US.UTF-8
    LC_TERMINAL = iTerm2
    LC_TERMINAL_VERSION = 3.5.10
    PATH = /opt/plenv/versions/5.41.11/bin:/opt/plenv/libexec:/opt/plenv/plugins/perl-build/bin:/opt/local/bin:/home/genehack/bin:/opt/miniconda3/condabin:/opt/plenv/shims:/opt/plenv/bin:/opt/go/bin:/opt/git/bin:/opt/emacs/bin:/opt/local/bin:/usr/local/bin:/usr/bin:/bin:/usr/games:/opt/rust/cargo/bin
    PERL_CPANM_OPT = --skip-installed --prompt
    SHELL = /bin/zsh
    TERM = screen-256color

Perl special variables (and OS-specific diagnostics, for MSWin32):

    EGID = 1001 113 122 1001
    EUID = 1001
    EXECUTABLE_NAME = /opt/plenv/versions/5.41.11/bin/perl5.41.11
    GID = 1001 113 122 1001
    UID = 1001

Perl module toolchain versions installed:

    Module              Have    
    ------------------- --------
    CPAN                2.38    
    CPAN::Meta          2.150010
    Cwd                 3.94    
    ExtUtils::CBuilder  0.280240
    ExtUtils::Command   7.74    
    ExtUtils::Install   2.22    
    ExtUtils::MakeMaker 7.74    
    ExtUtils::Manifest  1.75    
    ExtUtils::ParseXS   3.57    
    File::Spec          3.94    
    JSON                4.10    
    JSON::PP            4.16    
    Module::Build       0.4234  
    Module::Signature   n/a     
    Parse::CPAN::Meta   2.150010
    Test::Harness       3.50    
    Test::More          1.302210
    YAML                1.31    
    YAML::Syck          n/a     
    version             0.9933  


--

Summary of my perl5 (revision 5 version 41 subversion 11) configuration:
   
  Platform:
    osname=linux
    osvers=5.10.0-20-amd64
    archname=x86_64-linux
    uname='linux doof 5.10.0-20-amd64 #1 smp debian 5.10.158-2 (2022-12-13) x86_64 gnulinux '
    config_args='-Dprefix=/opt/plenv/versions/5.41.11 -de -Dversiononly -Dusedevel -A'eval:scriptdir=/opt/plenv/versions/5.41.11/bin''
    hint=recommended
    useposix=true
    d_sigaction=define
    useithreads=undef
    usemultiplicity=undef
    use64bitint=define
    use64bitall=define
    uselongdouble=undef
    usemymalloc=n
    default_inc_excludes_dot=define
  Compiler:
    cc='cc'
    ccflags ='-fwrapv -fno-strict-aliasing -pipe -fstack-protector-strong -I/usr/local/include -D_LARGEFILE_SOURCE -D_FILE_OFFSET_BITS=64 -D_FORTIFY_SOURCE=2'
    optimize='-O2'
    cppflags='-fwrapv -fno-strict-aliasing -pipe -fstack-protector-strong -I/usr/local/include'
    ccversion=''
    gccversion='12.2.0'
    gccosandvers=''
    intsize=4
    longsize=8
    ptrsize=8
    doublesize=8
    byteorder=12345678
    doublekind=3
    d_longlong=define
    longlongsize=8
    d_longdbl=define
    longdblsize=16
    longdblkind=3
    ivtype='long'
    ivsize=8
    nvtype='double'
    nvsize=8
    Off_t='off_t'
    lseeksize=8
    alignbytes=8
    prototype=define
  Linker and Libraries:
    ld='cc'
    ldflags =' -fstack-protector-strong -L/usr/local/lib'
    libpth=/usr/local/lib /usr/lib/x86_64-linux-gnu /usr/lib /usr/lib64
    libs=-lpthread -lgdbm -ldl -lm -lcrypt -lutil -lc
    perllibs=-lpthread -ldl -lm -lcrypt -lutil -lc
    libc=/lib/x86_64-linux-gnu/libc.so.6
    so=so
    useshrplib=false
    libperl=libperl.a
    gnulibc_version='2.36'
  Dynamic Linking:
    dlsrc=dl_dlopen.xs
    dlext=so
    d_dlsymun=undef
    ccdlflags='-Wl,-E'
    cccdlflags='-fPIC'
    lddlflags='-shared -O2 -L/usr/local/lib -fstack-protector-strong'


Characteristics of this binary (from libperl): 
  Compile-time options:
    HAS_LONG_DOUBLE
    HAS_STRTOLD
    HAS_TIMES
    PERLIO_LAYERS
    PERL_COPY_ON_WRITE
    PERL_DONT_CREATE_GVSV
    PERL_HASH_FUNC_SIPHASH13
    PERL_HASH_USE_SBOX32
    PERL_MALLOC_WRAP
    PERL_OP_PARENT
    PERL_PRESERVE_IVUV
    PERL_USE_DEVEL
    PERL_USE_SAFE_PUTENV
    USE_64_BIT_ALL
    USE_64_BIT_INT
    USE_LARGE_FILES
    USE_LOCALE
    USE_LOCALE_COLLATE
    USE_LOCALE_CTYPE
    USE_LOCALE_NUMERIC
    USE_LOCALE_TIME
    USE_PERLIO
    USE_PERL_ATOF
  Built under linux
  Compiled at Apr 21 2025 12:43:00
  %ENV:
    PERL_CPANM_OPT="--skip-installed --prompt"
  @INC:
    /opt/plenv/versions/5.41.11/lib/perl5/site_perl/5.41.11/x86_64-linux
    /opt/plenv/versions/5.41.11/lib/perl5/site_perl/5.41.11
    /opt/plenv/versions/5.41.11/lib/perl5/5.41.11/x86_64-linux
    /opt/plenv/versions/5.41.11/lib/perl5/5.41.11