PayProp-API-Public-Client v0.04 Perl 5 v5.32.0 amd64-freebsd

Status
Pass
From
David Cantrell (DCANTRELL)
Dist
PayProp-API-Public-Client v0.04
Platform
Perl 5 v5.32.0 amd64-freebsd
Date
2023-12-09 02:51:06
ID
ccd3e074-963d-11ee-a0f8-9cdcf175d400
This distribution has been tested as part of the CPAN Testers
project, supporting the Perl programming language.  See
http://wiki.cpantesters.org/ for more information or email
questions to cpan-testers-discuss@perl.org


--
Dear Yanga Kandeni,

This is a computer-generated report for PayProp-API-Public-Client-0.04
on perl 5.32.0, created by CPAN-Reporter-1.2018.

Thank you for uploading your work to CPAN.  Congratulations!
All tests were successful.

Sections of this report:

    * Tester comments
    * Program output
    * Prerequisites
    * Environment and other context

------------------------------
TESTER COMMENTS
------------------------------

Additional comments from tester:

this report is from an automated smoke testing program
and was not reviewed by a human for accuracy

------------------------------
PROGRAM OUTPUT
------------------------------

Output from './Build test':

t/author-pod-syntax.t ............................................... skipped: these tests are for testing by the author
t/basic.t ........................................................... ok
t/payprop/api/public/client.t ....................................... ok
t/payprop/api/public/client/authorization/apikey.t .................. ok
t/payprop/api/public/client/authorization/base.t .................... ok
[2023-12-09 02:50:30.33857] [8997] [info] Listening at "http://*:6546"
t/payprop/api/public/client/authorization/clientcredentials.t ....... ok
t/payprop/api/public/client/authorization/storage/local.t ........... ok
Unhandled rejected promise: ping failed at t/payprop/api/public/client/authorization/storage/memcached.t line 68.
t/payprop/api/public/client/authorization/storage/memcached.t ....... ok
t/payprop/api/public/client/error/authorization.t ................... ok
t/payprop/api/public/client/error/response.t ........................ ok
t/payprop/api/public/client/exception/authorization.t ............... ok
t/payprop/api/public/client/exception/base.t ........................ ok
t/payprop/api/public/client/exception/connection.t .................. ok
t/payprop/api/public/client/exception/response.t .................... ok
t/payprop/api/public/client/exception/storage.t ..................... ok
t/payprop/api/public/client/request/entity.t ........................ ok
[2023-12-09 02:50:35.78222] [9009] [info] Listening at "http://*:6458"
[2023-12-09 02:50:36.79505] [9010] [info] Listening at "http://*:6458"
[2023-12-09 02:50:37.78892] [9011] [info] Listening at "http://*:6458"
t/payprop/api/public/client/request/entity/invoice.t ................ ok
[2023-12-09 02:50:39.57353] [9013] [info] Listening at "http://*:6462"
[2023-12-09 02:50:40.62136] [9014] [info] Listening at "http://*:6462"
[2023-12-09 02:50:41.73040] [9015] [info] Listening at "http://*:6462"
t/payprop/api/public/client/request/entity/payment.t ................ ok
t/payprop/api/public/client/request/export.t ........................ ok
[2023-12-09 02:50:44.13279] [9018] [info] Listening at "http://*:6467"
t/payprop/api/public/client/request/export/beneficiaries.t .......... ok
[2023-12-09 02:50:46.02467] [9020] [info] Listening at "http://*:6469"
t/payprop/api/public/client/request/export/tenants.t ................ ok
[2023-12-09 02:50:47.80769] [9022] [info] Listening at "http://*:6471"
[2023-12-09 02:50:48.86979] [9023] [info] Listening at "http://*:6471"
[2023-12-09 02:50:49.92004] [9024] [info] Listening at "http://*:6471"
[2023-12-09 02:50:50.93146] [9025] [info] Listening at "http://*:6471"
[2023-12-09 02:50:52.06617] [9026] [info] Listening at "http://*:6471"
[2023-12-09 02:50:53.08277] [9027] [info] Listening at "http://*:6471"
[2023-12-09 02:50:54.16926] [9028] [info] Listening at "http://*:6471"
t/payprop/api/public/client/request/tags.t .......................... ok
t/payprop/api/public/client/response/entity/invoice.t ............... ok
t/payprop/api/public/client/response/entity/payment.t ............... ok
t/payprop/api/public/client/response/export/beneficiary.t ........... ok
t/payprop/api/public/client/response/export/beneficiary/address.t ... ok
t/payprop/api/public/client/response/export/beneficiary/property.t .. ok
t/payprop/api/public/client/response/export/tenant.t ................ ok
t/payprop/api/public/client/response/export/tenant/address.t ........ ok
t/payprop/api/public/client/response/export/tenant/property.t ....... ok
t/payprop/api/public/client/response/tag.t .......................... ok
t/payprop/api/public/client/role/apirequest.t ....................... ok
t/payprop/api/public/client/role/attribute/apiversion.t ............. ok
t/payprop/api/public/client/role/attribute/authorization.t .......... ok
t/payprop/api/public/client/role/attribute/domain.t ................. ok
t/payprop/api/public/client/role/attribute/storage.t ................ ok
t/payprop/api/public/client/role/attribute/token.t .................. ok
t/payprop/api/public/client/role/attribute/ua.t ..................... ok
t/payprop/api/public/client/role/encrypt.t .......................... ok
t/payprop/api/public/client/role/json.t ............................. ok
t/payprop/api/public/client/role/request.t .......................... ok
t/payprop/api/public/client/role/storage.t .......................... ok
t/payprop/api/public/client/util/apirequest.t ....................... ok
t/payprop/api/public/client/util/request.t .......................... ok
All tests successful.
Files=44, Tests=147, 38 wallclock secs ( 0.20 usr  0.12 sys + 20.79 cusr  3.70 csys = 24.81 CPU)
Result: PASS

------------------------------
PREREQUISITES
------------------------------

Prerequisite modules loaded:

requires:

    Module                       Need  Have   
    ---------------------------- ----- -------
    Cache::Memcached             0     1.30   
    Crypt::CBC                   0     3.04   
    IO::Socket::INET             0     1.51   
    MIME::Base64                 0     3.16   
    Module::Load                 0     0.36   
    Mojo::Promise                0     0      
    Mojo::URL                    0     0      
    Mojo::UserAgent              0     0      
    Mojolicious                  0     9.32   
    Mouse                        0     v2.5.10
    Mouse::Role                  0     v2.5.10
    Mouse::Util::TypeConstraints 0     0      
    Parallel::ForkManager        0     2.02   
    parent                       0     0.241  
    POSIX                        0     1.94   
    strict                       0     1.11   
    Time::HiRes                  0     1.9764 
    warnings                     0     1.47   

build_requires:

    Module                       Need  Have   
    ---------------------------- ----- -------
    FindBin                      0     1.53   
    JSON::PP                     0     4.16   
    lib                          0     0.65   
    Test::Most                   0     0.38   

configure_requires:

    Module                       Need  Have   
    ---------------------------- ----- -------
    Module::Build::Tiny          0.034 0.046  


------------------------------
ENVIRONMENT AND OTHER CONTEXT
------------------------------

Environment variables:

    AUTOMATED_TESTING = 1
    LANG = en_GB.UTF-8
    NONINTERACTIVE_TESTING = 1
    PATH = /home/david/perl5/perlbrew/bin:/home/david/perl5/perlbrew/perls/perl-5.30.2/bin:/home/david/.cargo/bin:/sbin:/bin:/usr/sbin:/usr/bin:/usr/local/sbin:/usr/local/bin:/home/david/bin
    PERL = 5.32.0
    PERL5LIB = 
    PERL5OPT = 
    PERL5_CPANPLUS_IS_RUNNING = 7685
    PERL5_CPAN_IS_RUNNING = 7685
    PERLBREW_HOME = /home/david/.perlbrew
    PERLBREW_MANPATH = /home/david/perl5/perlbrew/perls/perl-5.30.2/man
    PERLBREW_PATH = /home/david/perl5/perlbrew/bin:/home/david/perl5/perlbrew/perls/perl-5.30.2/bin
    PERLBREW_PERL = perl-5.30.2
    PERLBREW_ROOT = /home/david/perl5/perlbrew
    PERLBREW_SHELLRC_VERSION = 0.89
    PERLBREW_VERSION = 0.89
    PERLVER = 5.32.0
    PERL_INLINE_DIRECTORY = /home/david/.Inline-5.32.0
    PERL_MM_USE_DEFAULT = 1
    PERL_USE_UNSAFE_INC = 0
    SHELL = /usr/local/bin/bash
    TERM = screen

Perl special variables (and OS-specific diagnostics, for MSWin32):

    $^X = /usr/home/david/cpantesting/perl-5.32.0/bin/perl
    $UID/$EUID = 1001 / 1001
    $GID = 1001 1001 0
    $EGID = 1001 1001 0

Perl module toolchain versions installed:

    Module              Have    
    ------------------- --------
    CPAN                2.27    
    CPAN::Meta          2.150010
    Cwd                 3.75    
    ExtUtils::CBuilder  0.280236
    ExtUtils::Command   7.70    
    ExtUtils::Install   2.22    
    ExtUtils::MakeMaker 7.70    
    ExtUtils::Manifest  1.75    
    ExtUtils::ParseXS   3.44    
    File::Spec          3.75    
    JSON                4.10    
    JSON::PP            4.16    
    Module::Build       0.4234  
    Module::Signature   n/a     
    Parse::CPAN::Meta   2.150010
    Test::Harness       3.44    
    Test::More          1.302195
    YAML                1.30    
    YAML::Syck          n/a     
    version             0.9929  


--

Summary of my perl5 (revision 5 version 32 subversion 0) configuration:
   
  Platform:
    osname=freebsd
    osvers=13.0-release-p7
    archname=amd64-freebsd
    uname='freebsd cpantesting-freebsd-utm.local 13.0-release-p7 freebsd 13.0-release-p7 #0: mon jan 31 18:24:03 utc 2022 root@amd64-builder.daemonology.net:usrobjusrsrcamd64.amd64sysgeneric amd64 '
    config_args='-de -Dprefix=/home/david/cpantesting/perl-5.32.0'
    hint=recommended
    useposix=true
    d_sigaction=define
    useithreads=undef
    usemultiplicity=undef
    use64bitint=define
    use64bitall=define
    uselongdouble=undef
    usemymalloc=n
    default_inc_excludes_dot=define
    bincompat5005=undef
  Compiler:
    cc='cc'
    ccflags ='-DHAS_FPSETMASK -DHAS_FLOATINGPOINT_H -fno-strict-aliasing -pipe -fstack-protector-strong -I/usr/local/include'
    optimize='-O2'
    cppflags='-DHAS_FPSETMASK -DHAS_FLOATINGPOINT_H -fno-strict-aliasing -pipe -fstack-protector-strong -I/usr/local/include'
    ccversion=''
    gccversion='FreeBSD Clang 11.0.1 (git@github.com:llvm/llvm-project.git llvmorg-11.0.1-0-g43ff75f2c3fe)'
    gccosandvers=''
    intsize=4
    longsize=8
    ptrsize=8
    doublesize=8
    byteorder=12345678
    doublekind=3
    d_longlong=define
    longlongsize=8
    d_longdbl=define
    longdblsize=16
    longdblkind=3
    ivtype='long'
    ivsize=8
    nvtype='double'
    nvsize=8
    Off_t='off_t'
    lseeksize=8
    alignbytes=8
    prototype=define
  Linker and Libraries:
    ld='cc'
    ldflags ='-Wl,-E  -fstack-protector-strong -L/usr/local/lib'
    libpth=/usr/lib /usr/local/lib /usr/lib/clang/11.0.1/lib /usr/lib
    libs=-lpthread -lgdbm -ldl -lm -lcrypt -lutil -lc
    perllibs=-lpthread -ldl -lm -lcrypt -lutil -lc
    libc=
    so=so
    useshrplib=false
    libperl=libperl.a
    gnulibc_version=''
  Dynamic Linking:
    dlsrc=dl_dlopen.xs
    dlext=so
    d_dlsymun=undef
    ccdlflags=' '
    cccdlflags='-DPIC -fPIC'
    lddlflags='-shared  -L/usr/local/lib -fstack-protector-strong'


Characteristics of this binary (from libperl): 
  Compile-time options:
    HAS_TIMES
    PERLIO_LAYERS
    PERL_COPY_ON_WRITE
    PERL_DONT_CREATE_GVSV
    PERL_MALLOC_WRAP
    PERL_OP_PARENT
    PERL_PRESERVE_IVUV
    USE_64_BIT_ALL
    USE_64_BIT_INT
    USE_LARGE_FILES
    USE_LOCALE
    USE_LOCALE_COLLATE
    USE_LOCALE_CTYPE
    USE_LOCALE_NUMERIC
    USE_LOCALE_TIME
    USE_PERLIO
    USE_PERL_ATOF
  Locally applied patches:
    Devel::PatchPerl 2.08
  Built under freebsd
  Compiled at Feb  3 2022 13:37:09
  %ENV:
    PERL="5.32.0"
    PERL5LIB=""
    PERL5OPT=""
    PERL5_CPANPLUS_IS_RUNNING="7685"
    PERL5_CPAN_IS_RUNNING="7685"
    PERLBREW_HOME="/home/david/.perlbrew"
    PERLBREW_MANPATH="/home/david/perl5/perlbrew/perls/perl-5.30.2/man"
    PERLBREW_PATH="/home/david/perl5/perlbrew/bin:/home/david/perl5/perlbrew/perls/perl-5.30.2/bin"
    PERLBREW_PERL="perl-5.30.2"
    PERLBREW_ROOT="/home/david/perl5/perlbrew"
    PERLBREW_SHELLRC_VERSION="0.89"
    PERLBREW_VERSION="0.89"
    PERLVER="5.32.0"
    PERL_INLINE_DIRECTORY="/home/david/.Inline-5.32.0"
    PERL_MM_USE_DEFAULT="1"
    PERL_USE_UNSAFE_INC="0"
  @INC:
    /home/david/cpantesting/perl-5.32.0/lib/site_perl/5.32.0/amd64-freebsd
    /home/david/cpantesting/perl-5.32.0/lib/site_perl/5.32.0
    /home/david/cpantesting/perl-5.32.0/lib/5.32.0/amd64-freebsd
    /home/david/cpantesting/perl-5.32.0/lib/5.32.0