Moo v2.005005 Perl 5 v5.28.1 x86_64-linux
- Status
- Pass
- From
- Nigel Horne
- Dist
-
Moo v2.005005
- Platform
- Perl 5 v5.28.1 x86_64-linux
- Date
- 2025-10-13 20:47:14
- ID
- cc829876-a875-11f0-b552-ab86c689be80
This distribution has been tested as part of the CPAN Testers
project, supporting the Perl programming language. See
http://wiki.cpantesters.org/ for more information or email
questions to cpan-testers-discuss@perl.org
--
Dear Graham Knop,
This is a computer-generated report for Moo-2.005005
on perl 5.28.1, created by CPAN-Reporter-1.2020.
Thank you for uploading your work to CPAN. Congratulations!
All tests were successful.
Sections of this report:
* Tester comments
* Program output
* Prerequisites
* Environment and other context
------------------------------
TESTER COMMENTS
------------------------------
Additional comments from tester:
this report is from an automated smoke testing program
and was not reviewed by a human for accuracy
------------------------------
PROGRAM OUTPUT
------------------------------
Output from '/usr/bin/make test':
PERL_DL_NONLAZY=1 "/home/njh/perl5/perlbrew/perls/perl-5.28.1/bin/perl5.28.1" -It/lib "-MTestEnv=" "-MExtUtils::Command::MM" "-MTest::Harness" "-e" "undef *Test::Harness::Switches; test_harness(0, 'blib/lib', 'blib/arch')" t/*.t
t/accessor-default.t ............... ok
t/accessor-coerce.t ................ ok
t/accessor-handles.t ............... ok
t/accessor-generator-extension.t ... ok
t/accessor-mixed.t ................. ok
t/accessor-isa.t ................... ok
t/accessor-reader-writer.t ......... ok
t/accessor-pred-clear.t ............ ok
t/accessor-shortcuts.t ............. ok
t/accessor-roles.t ................. ok
t/accessor-trigger.t ............... ok
t/buildall-subconstructor.t ........ ok
t/accessor-weaken.t ................ ok
t/accessor-weaken-pre-5_8_3.t ...... ok
t/buildargs-error.t ................ ok
t/buildall.t ....................... ok
t/buildargs.t ...................... ok
t/coerce-1.t ....................... ok
t/compose-non-role.t ............... ok
t/compose-conflicts.t .............. ok
t/compose-roles.t .................. ok
t/constructor-modify.t ............. ok
t/croak-locations.t ................ ok
t/demolish-basics.t ................ ok
t/demolish-throw.t ................. ok
t/demolish-bugs-eats_mini.t ........ ok
t/demolish-bugs-eats_exceptions.t .. ok
t/demolish-global_destruction.t .... ok
t/does.t ........................... ok
t/extends-role.t ................... ok
t/extend-constructor.t ............. ok
t/extends-non-moo.t ................ ok
t/foreignbuildargs.t ............... ok
t/global_underscore.t .............. ok
t/has-plus.t ....................... ok
t/init-arg.t ....................... ok
t/has-array.t ...................... ok
t/has-before-extends.t ............. ok
t/load_module_error.t .............. ok
t/lazy_isa.t ....................... ok
t/load_module.t .................... ok
t/isa-interfere.t .................. ok
t/load_module_role_tiny.t .......... ok
t/long-package-name.t .............. ok
t/modifiers.t ...................... ok
t/method-generate-constructor.t .... ok
t/method-generate-accessor.t ....... ok
t/modify_lazy_handlers.t ........... ok
t/moo-accessors.t .................. ok
t/moo-object.t ..................... ok
t/moo-c3.t ......................... ok
t/moo-utils-_name_coderef.t ........ ok
t/moo-utils-_subname-Sub-Name.t .... ok
t/moo-utils.t ...................... ok
t/moo-utils-_subname.t ............. ok
t/moo.t ............................ ok
t/mutual-requires.t ................ ok
t/no-build.t ....................... ok
t/non-moo-extends-c3.t ............. ok
t/no-moo.t ......................... ok
t/non-moo-extends.t ................ ok
t/not-both.t ....................... ok
t/not-methods.t .................... ok
t/role-conflicts-moox.t ............ ok
t/overridden-core-funcs.t .......... ok
t/sub-and-handles.t ................ ok
t/overloaded-coderefs.t ............ ok
t/subconstructor.t ................. ok
t/undef-bug.t ...................... ok
t/use-after-no.t ................... ok
t/zzz-check-breaks.t ............... ok
All tests successful.
Files=71, Tests=841, 1 wallclock secs ( 0.19 usr 0.09 sys + 4.16 cusr 1.47 csys = 5.91 CPU)
Result: PASS
------------------------------
PREREQUISITES
------------------------------
Prerequisite modules loaded:
requires:
Module Need Have
------------------------ -------- --------
Carp 0 1.50
Class::Method::Modifiers 1.10 2.12
Exporter 0 5.73
perl 5.006 5.028001
Role::Tiny 2.002003 2.002004
Scalar::Util 1.00 1.70
Sub::Defer 2.006006 2.006006
Sub::Quote 2.006006 2.006006
build_requires:
Module Need Have
------------------------ -------- --------
Test::More 0.94 1.302186
configure_requires:
Module Need Have
------------------------ -------- --------
ExtUtils::MakeMaker 0 7.62
------------------------------
ENVIRONMENT AND OTHER CONTEXT
------------------------------
Environment variables:
AUTOMATED_TESTING = 1
HARNESS_OPTIONS = j4
LANG = en_US.UTF-8
PATH = /home/njh/perl5/perlbrew/bin:/home/njh/perl5/perlbrew/perls/perl-5.28.1/bin:/home/njh/perl5/perlbrew/bin:/home/njh/src/njh/smoker/bin:/usr/bin:/bin
PERL5LIB = /tmp/user/1000/build/Role-Tiny-2.002004-0/blib/arch:/tmp/user/1000/build/Role-Tiny-2.002004-0/blib/lib:/tmp/user/1000/build/Mojolicious-9.42-0/blib/arch:/tmp/user/1000/build/Mojolicious-9.42-0/blib/lib:/tmp/user/1000/build/Scalar-List-Utils-1.70-0/blib/arch:/tmp/user/1000/build/Scalar-List-Utils-1.70-0/blib/lib:/tmp/user/1000/build/JSON-PP-4.16-0/blib/arch:/tmp/user/1000/build/JSON-PP-4.16-0/blib/lib:/tmp/user/1000/build/Getopt-Long-Descriptive-0.116-0/blib/arch:/tmp/user/1000/build/Getopt-Long-Descriptive-0.116-0/blib/lib:/tmp/user/1000/build/Getopt-Long-2.58-0/blib/arch:/tmp/user/1000/build/Getopt-Long-2.58-0/blib/lib:/tmp/user/1000/build/Cpanel-JSON-XS-4.40-0/blib/arch:/tmp/user/1000/build/Cpanel-JSON-XS-4.40-0/blib/lib:/tmp/user/1000/build/Feature-Compat-Try-0.05-0/blib/arch:/tmp/user/1000/build/Feature-Compat-Try-0.05-0/blib/lib:/tmp/user/1000/build/Syntax-Keyword-Try-0.31-0/blib/arch:/tmp/user/1000/build/Syntax-Keyword-Try-0.31-0/blib/lib:/tmp/user/1000/build/XS-Parse-Keyword-0.49-0/blib/arch:/tmp/user/1000/build/XS-Parse-Keyword-0.49-0/blib/lib:/tmp/user/1000/build/ExtUtils-CChecker-0.12-0/blib/arch:/tmp/user/1000/build/ExtUtils-CChecker-0.12-0/blib/lib
PERL5OPT =
PERL5_CPANPLUS_IS_RUNNING = 4048698
PERL5_CPAN_IS_RUNNING = 4048698
PERL5_CPAN_IS_RUNNING_IN_RECURSION = 4046714,4048698
PERLBREW_LIB =
PERLBREW_MANPATH = /home/njh/perl5/perlbrew/perls/perl-5.28.1/man
PERLBREW_PATH = /home/njh/perl5/perlbrew/bin:/home/njh/perl5/perlbrew/perls/perl-5.28.1/bin
PERLBREW_PERL = perl-5.28.1
PERLBREW_ROOT = /home/njh/perl5/perlbrew
PERLBREW_SHELLRC_VERSION = 0.91
PERLBREW_VERSION = 0.91
PERL_LOCAL_LIB_ROOT =
PERL_MM_USE_DEFAULT = 1
PERL_USE_UNSAFE_INC = 1
SHELL = /bin/sh
TEMP = /tmp/user/1000
TMPDIR = /tmp/user/1000/testwrapper.4048691
Perl special variables (and OS-specific diagnostics, for MSWin32):
$^X = /home/njh/perl5/perlbrew/perls/perl-5.28.1/bin/perl5.28.1
$UID/$EUID = 1000 / 1000
$GID = 1000 4 24 25 29 30 44 46 103 108 115 123 996 1000
$EGID = 1000 4 24 25 29 30 44 46 103 108 115 123 996 1000
Perl module toolchain versions installed:
Module Have
------------------- --------
CPAN 2.28
CPAN::Meta 2.150010
Cwd 3.75
ExtUtils::CBuilder 0.280230
ExtUtils::Command 7.62
ExtUtils::Install 2.14
ExtUtils::MakeMaker 7.62
ExtUtils::Manifest 1.71
ExtUtils::ParseXS 3.39
File::Spec 3.75
JSON 4.02
JSON::PP 4.16
Module::Build 0.4224
Module::Signature n/a
Parse::CPAN::Meta 2.150010
Test2 1.302186
Test::Harness 3.42
Test::More 1.302186
YAML 1.31
YAML::Syck 1.34
version 0.9924
--
Summary of my perl5 (revision 5 version 28 subversion 1) configuration:
Platform:
osname=linux
osvers=4.16.0-2-amd64
archname=x86_64-linux
uname='linux amelia 4.16.0-2-amd64 #1 smp debian 4.16.16-2 (2018-06-22) x86_64 gnulinux '
config_args='-de -Dprefix=/home/njh/perl5/perlbrew/perls/perl-5.28.1 -Dusedevel -Accflags= -Aeval:scriptdir=/home/njh/perl5/perlbrew/perls/perl-5.28.1/bin'
hint=recommended
useposix=true
d_sigaction=define
useithreads=undef
usemultiplicity=undef
use64bitint=define
use64bitall=define
uselongdouble=undef
usemymalloc=n
default_inc_excludes_dot=define
bincompat5005=undef
Compiler:
cc='cc'
ccflags ='-fwrapv -fno-strict-aliasing -pipe -fstack-protector-strong -I/usr/local/include -D_LARGEFILE_SOURCE -D_FILE_OFFSET_BITS=64'
optimize='-O2'
cppflags='-fwrapv -fno-strict-aliasing -pipe -fstack-protector-strong -I/usr/local/include'
ccversion=''
gccversion='8.2.0'
gccosandvers=''
intsize=4
longsize=8
ptrsize=8
doublesize=8
byteorder=12345678
doublekind=3
d_longlong=define
longlongsize=8
d_longdbl=define
longdblsize=16
longdblkind=3
ivtype='long'
ivsize=8
nvtype='double'
nvsize=8
Off_t='off_t'
lseeksize=8
alignbytes=8
prototype=define
Linker and Libraries:
ld='cc'
ldflags =' -fstack-protector-strong -L/usr/local/lib'
libpth=/usr/local/lib /usr/lib/gcc/x86_64-linux-gnu/8/include-fixed /usr/include/x86_64-linux-gnu /usr/lib /lib/x86_64-linux-gnu /lib/../lib /usr/lib/x86_64-linux-gnu /usr/lib/../lib /lib /lib64 /usr/lib64
libs=-lpthread -lnsl -lgdbm -ldb -ldl -lm -lcrypt -lutil -lc
perllibs=-lpthread -lnsl -ldl -lm -lcrypt -lutil -lc
libc=libc-2.27.so
so=so
useshrplib=false
libperl=libperl.a
gnulibc_version='2.27'
Dynamic Linking:
dlsrc=dl_dlopen.xs
dlext=so
d_dlsymun=undef
ccdlflags='-Wl,-E'
cccdlflags='-fPIC'
lddlflags='-shared -O2 -L/usr/local/lib -fstack-protector-strong'
Characteristics of this binary (from libperl):
Compile-time options:
HAS_TIMES
PERLIO_LAYERS
PERL_COPY_ON_WRITE
PERL_DONT_CREATE_GVSV
PERL_MALLOC_WRAP
PERL_OP_PARENT
PERL_PRESERVE_IVUV
PERL_USE_DEVEL
USE_64_BIT_ALL
USE_64_BIT_INT
USE_LARGE_FILES
USE_LOCALE
USE_LOCALE_COLLATE
USE_LOCALE_CTYPE
USE_LOCALE_NUMERIC
USE_LOCALE_TIME
USE_PERLIO
USE_PERL_ATOF
Locally applied patches:
Devel::PatchPerl 1.48
Built under linux
Compiled at Dec 5 2018 00:33:59
%ENV:
PERL5LIB="/tmp/user/1000/build/Role-Tiny-2.002004-0/blib/arch:/tmp/user/1000/build/Role-Tiny-2.002004-0/blib/lib:/tmp/user/1000/build/Mojolicious-9.42-0/blib/arch:/tmp/user/1000/build/Mojolicious-9.42-0/blib/lib:/tmp/user/1000/build/Scalar-List-Utils-1.70-0/blib/arch:/tmp/user/1000/build/Scalar-List-Utils-1.70-0/blib/lib:/tmp/user/1000/build/JSON-PP-4.16-0/blib/arch:/tmp/user/1000/build/JSON-PP-4.16-0/blib/lib:/tmp/user/1000/build/Getopt-Long-Descriptive-0.116-0/blib/arch:/tmp/user/1000/build/Getopt-Long-Descriptive-0.116-0/blib/lib:/tmp/user/1000/build/Getopt-Long-2.58-0/blib/arch:/tmp/user/1000/build/Getopt-Long-2.58-0/blib/lib:/tmp/user/1000/build/Cpanel-JSON-XS-4.40-0/blib/arch:/tmp/user/1000/build/Cpanel-JSON-XS-4.40-0/blib/lib:/tmp/user/1000/build/Feature-Compat-Try-0.05-0/blib/arch:/tmp/user/1000/build/Feature-Compat-Try-0.05-0/blib/lib:/tmp/user/1000/build/Syntax-Keyword-Try-0.31-0/blib/arch:/tmp/user/1000/build/Syntax-Keyword-Try-0.31-0/blib/lib:/tmp/user/1000/build/XS-Parse-Keyword-0.49-0/blib/arch:/tmp/user/1000/build/XS-Parse-Keyword-0.49-0/blib/lib:/tmp/user/1000/build/ExtUtils-CChecker-0.12-0/blib/arch:/tmp/user/1000/build/ExtUtils-CChecker-0.12-0/blib/lib"
PERL5OPT=""
PERL5_CPANPLUS_IS_RUNNING="4048698"
PERL5_CPAN_IS_RUNNING="4048698"
PERL5_CPAN_IS_RUNNING_IN_RECURSION="4046714,4048698"
PERLBREW_LIB=""
PERLBREW_MANPATH="/home/njh/perl5/perlbrew/perls/perl-5.28.1/man"
PERLBREW_PATH="/home/njh/perl5/perlbrew/bin:/home/njh/perl5/perlbrew/perls/perl-5.28.1/bin"
PERLBREW_PERL="perl-5.28.1"
PERLBREW_ROOT="/home/njh/perl5/perlbrew"
PERLBREW_SHELLRC_VERSION="0.91"
PERLBREW_VERSION="0.91"
PERL_LOCAL_LIB_ROOT=""
PERL_MM_USE_DEFAULT="1"
PERL_USE_UNSAFE_INC="1"
@INC:
/tmp/user/1000/build/Role-Tiny-2.002004-0/blib/arch
/tmp/user/1000/build/Role-Tiny-2.002004-0/blib/lib
/tmp/user/1000/build/Mojolicious-9.42-0/blib/arch
/tmp/user/1000/build/Mojolicious-9.42-0/blib/lib
/tmp/user/1000/build/Scalar-List-Utils-1.70-0/blib/arch
/tmp/user/1000/build/Scalar-List-Utils-1.70-0/blib/lib
/tmp/user/1000/build/JSON-PP-4.16-0/blib/arch
/tmp/user/1000/build/JSON-PP-4.16-0/blib/lib
/tmp/user/1000/build/Getopt-Long-Descriptive-0.116-0/blib/arch
/tmp/user/1000/build/Getopt-Long-Descriptive-0.116-0/blib/lib
/tmp/user/1000/build/Getopt-Long-2.58-0/blib/arch
/tmp/user/1000/build/Getopt-Long-2.58-0/blib/lib
/tmp/user/1000/build/Cpanel-JSON-XS-4.40-0/blib/arch
/tmp/user/1000/build/Cpanel-JSON-XS-4.40-0/blib/lib
/tmp/user/1000/build/Feature-Compat-Try-0.05-0/blib/arch
/tmp/user/1000/build/Feature-Compat-Try-0.05-0/blib/lib
/tmp/user/1000/build/Syntax-Keyword-Try-0.31-0/blib/arch
/tmp/user/1000/build/Syntax-Keyword-Try-0.31-0/blib/lib
/tmp/user/1000/build/XS-Parse-Keyword-0.49-0/blib/arch
/tmp/user/1000/build/XS-Parse-Keyword-0.49-0/blib/lib
/tmp/user/1000/build/ExtUtils-CChecker-0.12-0/blib/arch
/tmp/user/1000/build/ExtUtils-CChecker-0.12-0/blib/lib
/home/njh/perl5/perlbrew/perls/perl-5.28.1/lib/site_perl/5.28.1/x86_64-linux
/home/njh/perl5/perlbrew/perls/perl-5.28.1/lib/site_perl/5.28.1
/home/njh/perl5/perlbrew/perls/perl-5.28.1/lib/5.28.1/x86_64-linux
/home/njh/perl5/perlbrew/perls/perl-5.28.1/lib/5.28.1
.