YAML v1.28_001 Perl 5 v5.29.10 amd64-freebsd
- Status
- Pass
- From
- Slaven Rezić (SREZIC)
- Dist
-
YAML v1.28_001
- Platform
- Perl 5 v5.29.10 amd64-freebsd
- Date
- 2019-05-05 13:50:52
- ID
- cc2035c4-6f3c-11e9-8193-1c8b1f24ea8f
This distribution has been tested as part of the CPAN Testers
project, supporting the Perl programming language. See
http://wiki.cpantesters.org/ for more information or email
questions to cpan-testers-discuss@perl.org
--
Dear Tina Muller,
This is a computer-generated report for YAML-1.28_001
on perl 5.29.10, created by CPAN-Reporter-1.2018.
Thank you for uploading your work to CPAN. Congratulations!
All tests were successful.
Sections of this report:
* Tester comments
* Program output
* Prerequisites
* Environment and other context
------------------------------
TESTER COMMENTS
------------------------------
Additional comments from tester:
none provided
------------------------------
PROGRAM OUTPUT
------------------------------
Output from '/usr/bin/make test':
PERL_DL_NONLAZY=1 "/usr/perl5.29.10p/bin/perl5.29.10" "-MExtUtils::Command::MM" "-MTest::Harness" "-e" "undef *Test::Harness::Switches; test_harness(0, 'blib/lib', 'blib/arch')" t/*.t
t/000-compile-modules.t ............ ok
t/2-scalars.t ...................... ok
t/author-pod-syntax.t .............. skipped: these tests are for testing by the author
t/basic-tests.t .................... ok
t/bugs-emailed.t ................... ok
t/bugs-rt.t ........................ ok
t/changes.t ........................ ok
t/dump-basics.t .................... ok
t/dump-blessed-glob.t .............. ok
t/dump-blessed.t ................... ok
t/dump-code.t ...................... ok
t/dump-file-utf8.t ................. ok
t/dump-file.t ...................... ok
t/dump-nested.t .................... ok
t/dump-opts.t ...................... ok
t/dump-perl-types-512.t ............ skipped: test only for perls before v5.13.5-11-gfb85c04
t/dump-perl-types-514.t ............ ok
t/dump-perl-types.t ................ ok
t/dump-stringify.t ................. ok
t/dump-stringy-numbers.t ........... ok
t/dump-synopsis.t .................. ok
t/dump-tests-512.t ................. skipped: test only for perls before v5.13.5-11-gfb85c04
t/dump-tests-514.t ................. ok
t/dump-tests.t ..................... ok
t/dump-works.t ..................... ok
t/errors.t ......................... ok
t/export.t ......................... ok
t/freeze-thaw.t .................... ok
t/global-api.t ..................... ok
t/inbox.t .......................... ok
t/io-handle.t ...................... ok
t/issue-149.t ...................... ok
t/issue-69.t ....................... ok
t/load-code.t ...................... ok
t/load-fails.t ..................... ok
t/load-passes.t .................... ok
t/load-slides.t .................... ok
t/load-spec.t ...................... ok
t/load-tests.t ..................... ok
t/load-works.t ..................... ok
t/marshall.t ....................... ok
t/no-load-blessed.t ................ ok
t/node-info.t ...................... ok
t/numify.t ......................... ok
t/preserve.t ....................... ok
t/pugs-objects.t ................... ok
t/references.t ..................... ok
t/regexp.t ......................... ok
t/roundtrip.t ...................... ok
t/rt-90593.t ....................... ok
t/svk.t ............................ ok
t/test.t ........................... ok
t/trailing-comments-content.t ...... ok
t/trailing-comments-non-content.t .. ok
All tests successful.
Files=54, Tests=541, 14 wallclock secs ( 0.21 usr 0.09 sys + 12.23 cusr 1.30 csys = 13.84 CPU)
Result: PASS
------------------------------
PREREQUISITES
------------------------------
Prerequisite modules loaded:
requires:
Module Need Have
------------------- -------- --------
perl 5.008001 5.029010
build_requires:
Module Need Have
------------------- -------- --------
Encode 0 3.01
ExtUtils::MakeMaker 0 7.34
Test::Deep 0 1.128
Test::More 0.88 1.302162
Test::YAML 1.05 1.07
configure_requires:
Module Need Have
------------------- -------- --------
ExtUtils::MakeMaker 0 7.34
------------------------------
ENVIRONMENT AND OTHER CONTEXT
------------------------------
Environment variables:
PATH = /usr/local/bin:/usr/bin:/bin:/usr/local/sbin:/usr/sbin:/sbin:/home/cpansand/bin/sh:/home/cpansand/bin:/usr/games:/home/cpansand/devel:/home/eserte/src/srezic-misc/scripts
PERL5LIB = /home/cpansand/.cpan/build/2019050520/App-Spec-0.006-3/blib/arch:/home/cpansand/.cpan/build/2019050520/App-Spec-0.006-3/blib/lib
PERL5OPT =
PERL5_CPANPLUS_IS_RUNNING = 80588
PERL5_CPAN_IS_RUNNING = 80588
PERL5_CPAN_IS_RUNNING_IN_RECURSION = 79032,80588
PERL_BATCH = yes
PERL_CANARY_STABILITY_NOPROMPT = 1
PERL_CPAN_REPORTER_CONFIG = /var/tmp/cpansmoker-1023/2019050520/cpanreporter_000_config.ini
PERL_EXTUTILS_AUTOINSTALL = --defaultdeps
PERL_USE_UNSAFE_INC = 1
SHELL = /bin/sh
TMPDIR = /var/tmp/cpansmoker-1023/2019050520
Perl special variables (and OS-specific diagnostics, for MSWin32):
$^X = /usr/perl5.29.10p/bin/perl5.29.10
$UID/$EUID = 1023 / 1023
$GID = 1023 1023
$EGID = 1023 1023
Perl module toolchain versions installed:
Module Have
------------------- --------
CPAN 2.22
CPAN::Meta 2.150010
Cwd 3.78
ExtUtils::CBuilder 0.280231
ExtUtils::Command 7.34
ExtUtils::Install 2.14
ExtUtils::MakeMaker 7.34
ExtUtils::Manifest 1.72
ExtUtils::ParseXS 3.40
File::Spec 3.78
JSON 4.02
JSON::PP 4.02
Module::Build 0.4229
Module::Signature n/a
Parse::CPAN::Meta 2.150010
Test::Harness 3.42
Test::More 1.302162
YAML 1.27
YAML::Syck 1.31
version 0.9924
--
Summary of my perl5 (revision 5 version 29 subversion 10) configuration:
Platform:
osname=freebsd
osvers=11.2-stable
archname=amd64-freebsd
uname='freebsd ali3.bbbike.org 11.2-stable freebsd 11.2-stable #0 bd90ae1ec79(stable11): sat apr 20 02:41:38 pdt 2019 root@ali3.bbbike.org:usrobjhomeprojectsfreebsdsysgeneric amd64 '
config_args='-ds -e -Dprefix=/usr/perl5.29.10p -Dusedevel -Dusemallocwrap=no -Dcf_email=srezic@cpan.org -Doptimize=-O2 -pipe'
hint=recommended
useposix=true
d_sigaction=define
useithreads=undef
usemultiplicity=undef
use64bitint=define
use64bitall=define
uselongdouble=undef
usemymalloc=n
default_inc_excludes_dot=define
bincompat5005=undef
Compiler:
cc='cc'
ccflags ='-DHAS_FPSETMASK -DHAS_FLOATINGPOINT_H -fno-strict-aliasing -pipe -fstack-protector-strong -I/usr/local/include -D_FORTIFY_SOURCE=2'
optimize='-O2 -pipe'
cppflags='-DHAS_FPSETMASK -DHAS_FLOATINGPOINT_H -fno-strict-aliasing -pipe -fstack-protector-strong -I/usr/local/include'
ccversion=''
gccversion='4.2.1 Compatible FreeBSD Clang 8.0.0 (tags/RELEASE_800/final 356365)'
gccosandvers=''
intsize=4
longsize=8
ptrsize=8
doublesize=8
byteorder=12345678
doublekind=3
d_longlong=define
longlongsize=8
d_longdbl=define
longdblsize=16
longdblkind=3
ivtype='long'
ivsize=8
nvtype='double'
nvsize=8
Off_t='off_t'
lseeksize=8
alignbytes=8
prototype=define
Linker and Libraries:
ld='cc'
ldflags ='-pthread -Wl,-E -fstack-protector-strong -L/usr/local/lib'
libpth=/usr/lib /usr/local/lib /usr/lib/clang/8.0.0/lib /usr/lib
libs=-lpthread -lgdbm -ldl -lm -lcrypt -lutil -lc
perllibs=-lpthread -ldl -lm -lcrypt -lutil -lc
libc=
so=so
useshrplib=false
libperl=libperl.a
gnulibc_version=''
Dynamic Linking:
dlsrc=dl_dlopen.xs
dlext=so
d_dlsymun=undef
ccdlflags=' '
cccdlflags='-DPIC -fPIC'
lddlflags='-shared -L/usr/local/lib -fstack-protector-strong'
Characteristics of this binary (from libperl):
Compile-time options:
HAS_TIMES
PERLIO_LAYERS
PERL_COPY_ON_WRITE
PERL_DONT_CREATE_GVSV
PERL_OP_PARENT
PERL_PRESERVE_IVUV
PERL_USE_DEVEL
USE_64_BIT_ALL
USE_64_BIT_INT
USE_LARGE_FILES
USE_LOCALE
USE_LOCALE_COLLATE
USE_LOCALE_CTYPE
USE_LOCALE_NUMERIC
USE_LOCALE_TIME
USE_PERLIO
USE_PERL_ATOF
Built under freebsd
Compiled at Apr 21 2019 17:48:45
%ENV:
PERL5LIB="/home/cpansand/.cpan/build/2019050520/App-Spec-0.006-3/blib/arch:/home/cpansand/.cpan/build/2019050520/App-Spec-0.006-3/blib/lib"
PERL5OPT=""
PERL5_CPANPLUS_IS_RUNNING="80588"
PERL5_CPAN_IS_RUNNING="80588"
PERL5_CPAN_IS_RUNNING_IN_RECURSION="79032,80588"
PERL_BATCH="yes"
PERL_CANARY_STABILITY_NOPROMPT="1"
PERL_CPAN_REPORTER_CONFIG="/var/tmp/cpansmoker-1023/2019050520/cpanreporter_000_config.ini"
PERL_EXTUTILS_AUTOINSTALL="--defaultdeps"
PERL_USE_UNSAFE_INC="1"
@INC:
/home/cpansand/.cpan/build/2019050520/App-Spec-0.006-3/blib/arch
/home/cpansand/.cpan/build/2019050520/App-Spec-0.006-3/blib/lib
/usr/perl5.29.10p/lib/site_perl/5.29.10/amd64-freebsd
/usr/perl5.29.10p/lib/site_perl/5.29.10
/usr/perl5.29.10p/lib/5.29.10/amd64-freebsd
/usr/perl5.29.10p/lib/5.29.10
.