RSH-Logging v0.4.3 Perl 5 v5.29.10 amd64-freebsd
- Status
- Pass
- From
- Slaven Rezić (SREZIC)
- Dist
-
RSH-Logging v0.4.3
- Platform
- Perl 5 v5.29.10 amd64-freebsd
- Date
- 2019-04-29 10:44:42
- ID
- cbf595ce-6a6b-11e9-a643-df191f24ea8f
This distribution has been tested as part of the CPAN Testers
project, supporting the Perl programming language. See
http://wiki.cpantesters.org/ for more information or email
questions to cpan-testers-discuss@perl.org
--
Dear Matt Luker,
This is a computer-generated report for RSH-Logging-0.4.3
on perl 5.29.10, created by CPAN-Reporter-1.2018.
Thank you for uploading your work to CPAN. Congratulations!
All tests were successful.
Sections of this report:
* Tester comments
* Program output
* Prerequisites
* Environment and other context
------------------------------
TESTER COMMENTS
------------------------------
Additional comments from tester:
none provided
------------------------------
PROGRAM OUTPUT
------------------------------
Output from '/usr/bin/make test':
PERL_DL_NONLAZY=1 "/usr/perl5.29.10p/bin/perl5.29.10" "-MExtUtils::Command::MM" "-MTest::Harness" "-e" "undef *Test::Harness::Switches; test_harness(0, 'inc', 'blib/lib', 'blib/arch')" t/000.load.t t/010.RSH-Logging.t t/011.RSH-Logging-chunking.t t/999.perlcritic.t t/999.pod-coverage.t t/999.pod.t
# Testing RSH::Logging 0.4.3
t/000.load.t .................. ok
TOTAL TIME 9e-05s (11111.111/s)
.----------------------------------------------------------------+-----------.
| Event | Time |
+----------------------------------------------------------------+-----------+
| + foo | 0.000090s |
'----------------------------------------------------------------+-----------'
TOTAL TIME 0.000728s (1373.626/s)
.----------------------------------------------------------------+-----------.
| Event | Time |
+----------------------------------------------------------------+-----------+
| + foo | 0.000728s |
| + sub1a | 0.000542s |
| + sub2a | 0.000090s |
| + sub2b | 0.000115s |
'----------------------------------------------------------------+-----------'
TOTAL TIME 0.000709s (1410.437/s)
.----------------------------------------------------------------+-----------.
| Event | Time |
+----------------------------------------------------------------+-----------+
| + main | 0.000709s |
| + main | 0.000526s |
| + main | 0.000138s |
| + main | 0.000086s |
'----------------------------------------------------------------+-----------'
DEBUG Logging.pm:407, RSH::Logging::__ANON__: TOTAL TIME 0.000722s (1385.042/s)
.----------------------------------------------------------------+-----------.
| Event | Time |
+----------------------------------------------------------------+-----------+
| + foo | 0.000722s |
| + sub1a | 0.000491s |
| + sub2a | 0.000091s |
| + sub2b | 0.000088s |
'----------------------------------------------------------------+-----------'
TOTAL TIME 0.001417s (705.716/s)
.----------------------------------------------------------------+-----------.
| Event | Time |
+----------------------------------------------------------------+-----------+
| + foo | 0.001417s |
| + sub1a | 0.001006s |
| + sub2a | 0.000275s |
| + sub2b | 0.000149s |
'----------------------------------------------------------------+-----------'
TOTAL TIME 0.001038s (963.391/s)
.----------------------------------------------------------------+-----------.
| Event | Time |
+----------------------------------------------------------------+-----------+
| + foo | 0.001038s |
| + sub1a (notation 1) | 0.000626s |
| + sub2a (notation 2) | 0.000123s |
| + sub2b (this is a very long note, which you shouldn't do- | 0.000116s |
| , but it can't be helped that people don't think things throu- | |
| gh from time to time.) | |
'----------------------------------------------------------------+-----------'
TOTAL TIME 0.001158s (863.558/s)
.----------------------------------------------------------------+-----------.
| Event | Time |
+----------------------------------------------------------------+-----------+
| + foo | 0.001158s |
| + sub1a | 0.000787s |
| + sub2a | 0.000163s |
| + sub2b | 0.000163s |
'----------------------------------------------------------------+-----------'
TOTAL TIME 0.001368s (730.994/s)
.----------------------------------------------------------------+-----------.
| Event | Time |
+----------------------------------------------------------------+-----------+
| + foo2 | 0.001368s |
| + sub1a | 0.000733s |
| + sub2a | 0.000125s |
| + sub2b | 0.000162s |
'----------------------------------------------------------------+-----------'
TOTAL TIME 0.003985s (250.941/s)
.----------------------------------------------------------------+-----------.
| Event | Time |
+----------------------------------------------------------------+-----------+
| + foo | 0.003985s |
| + sub1a | 0.003490s |
| + sub2a | 0.000318s |
| + sub2b | 0.002354s |
| + foo2 | 0.001772s |
| + sub1a | 0.001297s |
| + sub2a | 0.000321s |
| + sub2b | 0.000215s |
'----------------------------------------------------------------+-----------'
TOTAL TIME 0.000637s (1569.859/s)
.----------------------------------------------------------------+-----------.
| Event | Time |
+----------------------------------------------------------------+-----------+
| + foo | 0.000637s |
| + sub1a | 0.000459s |
| + sub2a | 0.000124s |
| + sub2b | 0.000112s |
'----------------------------------------------------------------+-----------'
t/010.RSH-Logging.t ........... ok
DEBUG Logging.pm:407, RSH::Logging::__ANON__: TOTAL TIME 0.000838s (1193.317/s)
Use of uninitialized value in repeat (x) at /usr/home/cpansand/.cpan/build/2019042910/RSH-Logging-0.4.3-0/blib/lib/RSH/Logging/TextTable.pm line 166.
Use of uninitialized value $Text::SimpleTable::TOP_LEFT in concatenation (.) or string at /usr/home/cpansand/.cpan/build/2019042910/RSH-Logging-0.4.3-0/blib/lib/RSH/Logging/TextTable.pm line 171.
Use of uninitialized value $Text::SimpleTable::TOP_SEPARATOR in concatenation (.) or string at /usr/home/cpansand/.cpan/build/2019042910/RSH-Logging-0.4.3-0/blib/lib/RSH/Logging/TextTable.pm line 171.
Use of uninitialized value in repeat (x) at /usr/home/cpansand/.cpan/build/2019042910/RSH-Logging-0.4.3-0/blib/lib/RSH/Logging/TextTable.pm line 166.
Use of uninitialized value $Text::SimpleTable::TOP_RIGHT in concatenation (.) or string at /usr/home/cpansand/.cpan/build/2019042910/RSH-Logging-0.4.3-0/blib/lib/RSH/Logging/TextTable.pm line 172.
DEBUG Logging.pm:407, RSH::Logging::__ANON__:
Use of uninitialized value $Text::SimpleTable::LEFT_BORDER in concatenation (.) or string at /usr/home/cpansand/.cpan/build/2019042910/RSH-Logging-0.4.3-0/blib/lib/RSH/Logging/TextTable.pm line 201.
Use of uninitialized value $Text::SimpleTable::SEPARATOR in concatenation (.) or string at /usr/home/cpansand/.cpan/build/2019042910/RSH-Logging-0.4.3-0/blib/lib/RSH/Logging/TextTable.pm line 201.
Use of uninitialized value $Text::SimpleTable::RIGHT_BORDER in concatenation (.) or string at /usr/home/cpansand/.cpan/build/2019042910/RSH-Logging-0.4.3-0/blib/lib/RSH/Logging/TextTable.pm line 202.
DEBUG Logging.pm:407, RSH::Logging::__ANON__: Event Time
DEBUG Logging.pm:407, RSH::Logging::__ANON__: +----------------------------------------------------------------+-----------+
Use of uninitialized value $Text::SimpleTable::LEFT_BORDER in concatenation (.) or string at /usr/home/cpansand/.cpan/build/2019042910/RSH-Logging-0.4.3-0/blib/lib/RSH/Logging/TextTable.pm line 240.
Use of uninitialized value $Text::SimpleTable::SEPARATOR in concatenation (.) or string at /usr/home/cpansand/.cpan/build/2019042910/RSH-Logging-0.4.3-0/blib/lib/RSH/Logging/TextTable.pm line 240.
Use of uninitialized value $Text::SimpleTable::RIGHT_BORDER in concatenation (.) or string at /usr/home/cpansand/.cpan/build/2019042910/RSH-Logging-0.4.3-0/blib/lib/RSH/Logging/TextTable.pm line 241.
DEBUG Logging.pm:407, RSH::Logging::__ANON__: + foo 0.000838s
Use of uninitialized value $Text::SimpleTable::LEFT_BORDER in concatenation (.) or string at /usr/home/cpansand/.cpan/build/2019042910/RSH-Logging-0.4.3-0/blib/lib/RSH/Logging/TextTable.pm line 240.
Use of uninitialized value $Text::SimpleTable::SEPARATOR in concatenation (.) or string at /usr/home/cpansand/.cpan/build/2019042910/RSH-Logging-0.4.3-0/blib/lib/RSH/Logging/TextTable.pm line 240.
Use of uninitialized value $Text::SimpleTable::RIGHT_BORDER in concatenation (.) or string at /usr/home/cpansand/.cpan/build/2019042910/RSH-Logging-0.4.3-0/blib/lib/RSH/Logging/TextTable.pm line 241.
DEBUG Logging.pm:407, RSH::Logging::__ANON__: + sub1a 0.000534s
Use of uninitialized value $Text::SimpleTable::LEFT_BORDER in concatenation (.) or string at /usr/home/cpansand/.cpan/build/2019042910/RSH-Logging-0.4.3-0/blib/lib/RSH/Logging/TextTable.pm line 240.
Use of uninitialized value $Text::SimpleTable::SEPARATOR in concatenation (.) or string at /usr/home/cpansand/.cpan/build/2019042910/RSH-Logging-0.4.3-0/blib/lib/RSH/Logging/TextTable.pm line 240.
Use of uninitialized value $Text::SimpleTable::RIGHT_BORDER in concatenation (.) or string at /usr/home/cpansand/.cpan/build/2019042910/RSH-Logging-0.4.3-0/blib/lib/RSH/Logging/TextTable.pm line 241.
DEBUG Logging.pm:407, RSH::Logging::__ANON__: + sub2a 0.000140s
Use of uninitialized value $Text::SimpleTable::LEFT_BORDER in concatenation (.) or string at /usr/home/cpansand/.cpan/build/2019042910/RSH-Logging-0.4.3-0/blib/lib/RSH/Logging/TextTable.pm line 240.
Use of uninitialized value $Text::SimpleTable::SEPARATOR in concatenation (.) or string at /usr/home/cpansand/.cpan/build/2019042910/RSH-Logging-0.4.3-0/blib/lib/RSH/Logging/TextTable.pm line 240.
Use of uninitialized value $Text::SimpleTable::RIGHT_BORDER in concatenation (.) or string at /usr/home/cpansand/.cpan/build/2019042910/RSH-Logging-0.4.3-0/blib/lib/RSH/Logging/TextTable.pm line 241.
DEBUG Logging.pm:407, RSH::Logging::__ANON__: + sub2b 0.000090s
Use of uninitialized value in repeat (x) at /usr/home/cpansand/.cpan/build/2019042910/RSH-Logging-0.4.3-0/blib/lib/RSH/Logging/TextTable.pm line 256.
Use of uninitialized value $Text::SimpleTable::BOTTOM_LEFT in concatenation (.) or string at /usr/home/cpansand/.cpan/build/2019042910/RSH-Logging-0.4.3-0/blib/lib/RSH/Logging/TextTable.pm line 261.
Use of uninitialized value $Text::SimpleTable::BOTTOM_SEPARATOR in concatenation (.) or string at /usr/home/cpansand/.cpan/build/2019042910/RSH-Logging-0.4.3-0/blib/lib/RSH/Logging/TextTable.pm line 261.
Use of uninitialized value in repeat (x) at /usr/home/cpansand/.cpan/build/2019042910/RSH-Logging-0.4.3-0/blib/lib/RSH/Logging/TextTable.pm line 256.
Use of uninitialized value $Text::SimpleTable::BOTTOM_RIGHT in concatenation (.) or string at /usr/home/cpansand/.cpan/build/2019042910/RSH-Logging-0.4.3-0/blib/lib/RSH/Logging/TextTable.pm line 262.
DEBUG Logging.pm:407, RSH::Logging::__ANON__:
DEBUG Logging.pm:407, RSH::Logging::__ANON__:
Use of uninitialized value in repeat (x) at /usr/home/cpansand/.cpan/build/2019042910/RSH-Logging-0.4.3-0/blib/lib/RSH/Logging/TextTable.pm line 166.
Use of uninitialized value $Text::SimpleTable::TOP_LEFT in concatenation (.) or string at /usr/home/cpansand/.cpan/build/2019042910/RSH-Logging-0.4.3-0/blib/lib/RSH/Logging/TextTable.pm line 171.
Use of uninitialized value $Text::SimpleTable::TOP_SEPARATOR in concatenation (.) or string at /usr/home/cpansand/.cpan/build/2019042910/RSH-Logging-0.4.3-0/blib/lib/RSH/Logging/TextTable.pm line 171.
Use of uninitialized value in repeat (x) at /usr/home/cpansand/.cpan/build/2019042910/RSH-Logging-0.4.3-0/blib/lib/RSH/Logging/TextTable.pm line 166.
Use of uninitialized value $Text::SimpleTable::TOP_RIGHT in concatenation (.) or string at /usr/home/cpansand/.cpan/build/2019042910/RSH-Logging-0.4.3-0/blib/lib/RSH/Logging/TextTable.pm line 172.
Use of uninitialized value $Text::SimpleTable::LEFT_BORDER in concatenation (.) or string at /usr/home/cpansand/.cpan/build/2019042910/RSH-Logging-0.4.3-0/blib/lib/RSH/Logging/TextTable.pm line 201.
Use of uninitialized value $Text::SimpleTable::SEPARATOR in concatenation (.) or string at /usr/home/cpansand/.cpan/build/2019042910/RSH-Logging-0.4.3-0/blib/lib/RSH/Logging/TextTable.pm line 201.
Use of uninitialized value $Text::SimpleTable::RIGHT_BORDER in concatenation (.) or string at /usr/home/cpansand/.cpan/build/2019042910/RSH-Logging-0.4.3-0/blib/lib/RSH/Logging/TextTable.pm line 202.
Use of uninitialized value $Text::SimpleTable::LEFT_BORDER in concatenation (.) or string at /usr/home/cpansand/.cpan/build/2019042910/RSH-Logging-0.4.3-0/blib/lib/RSH/Logging/TextTable.pm line 240.
Use of uninitialized value $Text::SimpleTable::SEPARATOR in concatenation (.) or string at /usr/home/cpansand/.cpan/build/2019042910/RSH-Logging-0.4.3-0/blib/lib/RSH/Logging/TextTable.pm line 240.
Use of uninitialized value $Text::SimpleTable::RIGHT_BORDER in concatenation (.) or string at /usr/home/cpansand/.cpan/build/2019042910/RSH-Logging-0.4.3-0/blib/lib/RSH/Logging/TextTable.pm line 241.
Use of uninitialized value $Text::SimpleTable::LEFT_BORDER in concatenation (.) or string at /usr/home/cpansand/.cpan/build/2019042910/RSH-Logging-0.4.3-0/blib/lib/RSH/Logging/TextTable.pm line 240.
Use of uninitialized value $Text::SimpleTable::SEPARATOR in concatenation (.) or string at /usr/home/cpansand/.cpan/build/2019042910/RSH-Logging-0.4.3-0/blib/lib/RSH/Logging/TextTable.pm line 240.
Use of uninitialized value $Text::SimpleTable::RIGHT_BORDER in concatenation (.) or string at /usr/home/cpansand/.cpan/build/2019042910/RSH-Logging-0.4.3-0/blib/lib/RSH/Logging/TextTable.pm line 241.
Use of uninitialized value $Text::SimpleTable::LEFT_BORDER in concatenation (.) or string at /usr/home/cpansand/.cpan/build/2019042910/RSH-Logging-0.4.3-0/blib/lib/RSH/Logging/TextTable.pm line 240.
Use of uninitialized value $Text::SimpleTable::SEPARATOR in concatenation (.) or string at /usr/home/cpansand/.cpan/build/2019042910/RSH-Logging-0.4.3-0/blib/lib/RSH/Logging/TextTable.pm line 240.
Use of uninitialized value $Text::SimpleTable::RIGHT_BORDER in concatenation (.) or string at /usr/home/cpansand/.cpan/build/2019042910/RSH-Logging-0.4.3-0/blib/lib/RSH/Logging/TextTable.pm line 241.
Use of uninitialized value $Text::SimpleTable::LEFT_BORDER in concatenation (.) or string at /usr/home/cpansand/.cpan/build/2019042910/RSH-Logging-0.4.3-0/blib/lib/RSH/Logging/TextTable.pm line 240.
Use of uninitialized value $Text::SimpleTable::SEPARATOR in concatenation (.) or string at /usr/home/cpansand/.cpan/build/2019042910/RSH-Logging-0.4.3-0/blib/lib/RSH/Logging/TextTable.pm line 240.
Use of uninitialized value $Text::SimpleTable::RIGHT_BORDER in concatenation (.) or string at /usr/home/cpansand/.cpan/build/2019042910/RSH-Logging-0.4.3-0/blib/lib/RSH/Logging/TextTable.pm line 241.
Use of uninitialized value in repeat (x) at /usr/home/cpansand/.cpan/build/2019042910/RSH-Logging-0.4.3-0/blib/lib/RSH/Logging/TextTable.pm line 256.
Use of uninitialized value $Text::SimpleTable::BOTTOM_LEFT in concatenation (.) or string at /usr/home/cpansand/.cpan/build/2019042910/RSH-Logging-0.4.3-0/blib/lib/RSH/Logging/TextTable.pm line 261.
Use of uninitialized value $Text::SimpleTable::BOTTOM_SEPARATOR in concatenation (.) or string at /usr/home/cpansand/.cpan/build/2019042910/RSH-Logging-0.4.3-0/blib/lib/RSH/Logging/TextTable.pm line 261.
Use of uninitialized value in repeat (x) at /usr/home/cpansand/.cpan/build/2019042910/RSH-Logging-0.4.3-0/blib/lib/RSH/Logging/TextTable.pm line 256.
Use of uninitialized value $Text::SimpleTable::BOTTOM_RIGHT in concatenation (.) or string at /usr/home/cpansand/.cpan/build/2019042910/RSH-Logging-0.4.3-0/blib/lib/RSH/Logging/TextTable.pm line 262.
Use of uninitialized value in repeat (x) at /usr/home/cpansand/.cpan/build/2019042910/RSH-Logging-0.4.3-0/blib/lib/RSH/Logging/TextTable.pm line 166.
Use of uninitialized value $Text::SimpleTable::TOP_LEFT in concatenation (.) or string at /usr/home/cpansand/.cpan/build/2019042910/RSH-Logging-0.4.3-0/blib/lib/RSH/Logging/TextTable.pm line 171.
Use of uninitialized value $Text::SimpleTable::TOP_SEPARATOR in concatenation (.) or string at /usr/home/cpansand/.cpan/build/2019042910/RSH-Logging-0.4.3-0/blib/lib/RSH/Logging/TextTable.pm line 171.
Use of uninitialized value in repeat (x) at /usr/home/cpansand/.cpan/build/2019042910/RSH-Logging-0.4.3-0/blib/lib/RSH/Logging/TextTable.pm line 166.
Use of uninitialized value $Text::SimpleTable::TOP_RIGHT in concatenation (.) or string at /usr/home/cpansand/.cpan/build/2019042910/RSH-Logging-0.4.3-0/blib/lib/RSH/Logging/TextTable.pm line 172.
Use of uninitialized value $Text::SimpleTable::LEFT_BORDER in concatenation (.) or string at /usr/home/cpansand/.cpan/build/2019042910/RSH-Logging-0.4.3-0/blib/lib/RSH/Logging/TextTable.pm line 201.
Use of uninitialized value $Text::SimpleTable::SEPARATOR in concatenation (.) or string at /usr/home/cpansand/.cpan/build/2019042910/RSH-Logging-0.4.3-0/blib/lib/RSH/Logging/TextTable.pm line 201.
Use of uninitialized value $Text::SimpleTable::RIGHT_BORDER in concatenation (.) or string at /usr/home/cpansand/.cpan/build/2019042910/RSH-Logging-0.4.3-0/blib/lib/RSH/Logging/TextTable.pm line 202.
Use of uninitialized value $Text::SimpleTable::LEFT_BORDER in concatenation (.) or string at /usr/home/cpansand/.cpan/build/2019042910/RSH-Logging-0.4.3-0/blib/lib/RSH/Logging/TextTable.pm line 240.
Use of uninitialized value $Text::SimpleTable::SEPARATOR in concatenation (.) or string at /usr/home/cpansand/.cpan/build/2019042910/RSH-Logging-0.4.3-0/blib/lib/RSH/Logging/TextTable.pm line 240.
Use of uninitialized value $Text::SimpleTable::RIGHT_BORDER in concatenation (.) or string at /usr/home/cpansand/.cpan/build/2019042910/RSH-Logging-0.4.3-0/blib/lib/RSH/Logging/TextTable.pm line 241.
Use of uninitialized value $Text::SimpleTable::LEFT_BORDER in concatenation (.) or string at /usr/home/cpansand/.cpan/build/2019042910/RSH-Logging-0.4.3-0/blib/lib/RSH/Logging/TextTable.pm line 240.
Use of uninitialized value $Text::SimpleTable::SEPARATOR in concatenation (.) or string at /usr/home/cpansand/.cpan/build/2019042910/RSH-Logging-0.4.3-0/blib/lib/RSH/Logging/TextTable.pm line 240.
Use of uninitialized value $Text::SimpleTable::RIGHT_BORDER in concatenation (.) or string at /usr/home/cpansand/.cpan/build/2019042910/RSH-Logging-0.4.3-0/blib/lib/RSH/Logging/TextTable.pm line 241.
Use of uninitialized value $Text::SimpleTable::LEFT_BORDER in concatenation (.) or string at /usr/home/cpansand/.cpan/build/2019042910/RSH-Logging-0.4.3-0/blib/lib/RSH/Logging/TextTable.pm line 240.
Use of uninitialized value $Text::SimpleTable::SEPARATOR in concatenation (.) or string at /usr/home/cpansand/.cpan/build/2019042910/RSH-Logging-0.4.3-0/blib/lib/RSH/Logging/TextTable.pm line 240.
Use of uninitialized value $Text::SimpleTable::RIGHT_BORDER in concatenation (.) or string at /usr/home/cpansand/.cpan/build/2019042910/RSH-Logging-0.4.3-0/blib/lib/RSH/Logging/TextTable.pm line 241.
Use of uninitialized value $Text::SimpleTable::LEFT_BORDER in concatenation (.) or string at /usr/home/cpansand/.cpan/build/2019042910/RSH-Logging-0.4.3-0/blib/lib/RSH/Logging/TextTable.pm line 240.
Use of uninitialized value $Text::SimpleTable::SEPARATOR in concatenation (.) or string at /usr/home/cpansand/.cpan/build/2019042910/RSH-Logging-0.4.3-0/blib/lib/RSH/Logging/TextTable.pm line 240.
Use of uninitialized value $Text::SimpleTable::RIGHT_BORDER in concatenation (.) or string at /usr/home/cpansand/.cpan/build/2019042910/RSH-Logging-0.4.3-0/blib/lib/RSH/Logging/TextTable.pm line 241.
Use of uninitialized value in repeat (x) at /usr/home/cpansand/.cpan/build/2019042910/RSH-Logging-0.4.3-0/blib/lib/RSH/Logging/TextTable.pm line 256.
Use of uninitialized value $Text::SimpleTable::BOTTOM_LEFT in concatenation (.) or string at /usr/home/cpansand/.cpan/build/2019042910/RSH-Logging-0.4.3-0/blib/lib/RSH/Logging/TextTable.pm line 261.
Use of uninitialized value $Text::SimpleTable::BOTTOM_SEPARATOR in concatenation (.) or string at /usr/home/cpansand/.cpan/build/2019042910/RSH-Logging-0.4.3-0/blib/lib/RSH/Logging/TextTable.pm line 261.
Use of uninitialized value in repeat (x) at /usr/home/cpansand/.cpan/build/2019042910/RSH-Logging-0.4.3-0/blib/lib/RSH/Logging/TextTable.pm line 256.
Use of uninitialized value $Text::SimpleTable::BOTTOM_RIGHT in concatenation (.) or string at /usr/home/cpansand/.cpan/build/2019042910/RSH-Logging-0.4.3-0/blib/lib/RSH/Logging/TextTable.pm line 262.
TOTAL TIME 0.000711s (1406.470/s)
Event Time
+----------------------------------------------------------------+-----------+
+ foo 0.000711s
+ sub1a 0.000520s
+ sub2a 0.000138s
+ sub2b 0.000104s
DEBUG Logging.pm:407, RSH::Logging::__ANON__: TOTAL TIME 0.00145s (689.655/s)
.----------------------------------------------------------------+-----------.
| Event | Time |
+----------------------------------------------------------------+-----------+
| + foo | 0.001450s |
| + sub1a | 0.000673s |
| + sub2a | 0.000112s |
| + sub2b | 0.000092s |
| + sub0 | 0.000015s |
| + sub1 | 0.000012s |
| + sub2 | 0.000012s |
| + sub3 | 0.000012s |
| + sub4 | 0.000012s |
'----------------------------------------------------------------+-----------'
DEBUG Logging.pm:407, RSH::Logging::__ANON__: TOTAL TIME 0.001426s (701.262/s)
Use of uninitialized value in repeat (x) at /usr/home/cpansand/.cpan/build/2019042910/RSH-Logging-0.4.3-0/blib/lib/RSH/Logging/TextTable.pm line 166.
Use of uninitialized value $Text::SimpleTable::TOP_LEFT in concatenation (.) or string at /usr/home/cpansand/.cpan/build/2019042910/RSH-Logging-0.4.3-0/blib/lib/RSH/Logging/TextTable.pm line 171.
Use of uninitialized value $Text::SimpleTable::TOP_SEPARATOR in concatenation (.) or string at /usr/home/cpansand/.cpan/build/2019042910/RSH-Logging-0.4.3-0/blib/lib/RSH/Logging/TextTable.pm line 171.
Use of uninitialized value in repeat (x) at /usr/home/cpansand/.cpan/build/2019042910/RSH-Logging-0.4.3-0/blib/lib/RSH/Logging/TextTable.pm line 166.
Use of uninitialized value $Text::SimpleTable::TOP_RIGHT in concatenation (.) or string at /usr/home/cpansand/.cpan/build/2019042910/RSH-Logging-0.4.3-0/blib/lib/RSH/Logging/TextTable.pm line 172.
DEBUG Logging.pm:407, RSH::Logging::__ANON__:
Use of uninitialized value $Text::SimpleTable::LEFT_BORDER in concatenation (.) or string at /usr/home/cpansand/.cpan/build/2019042910/RSH-Logging-0.4.3-0/blib/lib/RSH/Logging/TextTable.pm line 201.
Use of uninitialized value $Text::SimpleTable::SEPARATOR in concatenation (.) or string at /usr/home/cpansand/.cpan/build/2019042910/RSH-Logging-0.4.3-0/blib/lib/RSH/Logging/TextTable.pm line 201.
Use of uninitialized value $Text::SimpleTable::RIGHT_BORDER in concatenation (.) or string at /usr/home/cpansand/.cpan/build/2019042910/RSH-Logging-0.4.3-0/blib/lib/RSH/Logging/TextTable.pm line 202.
DEBUG Logging.pm:407, RSH::Logging::__ANON__: Event Time
DEBUG Logging.pm:407, RSH::Logging::__ANON__: +----------------------------------------------------------------+-----------+
Use of uninitialized value $Text::SimpleTable::LEFT_BORDER in concatenation (.) or string at /usr/home/cpansand/.cpan/build/2019042910/RSH-Logging-0.4.3-0/blib/lib/RSH/Logging/TextTable.pm line 240.
Use of uninitialized value $Text::SimpleTable::SEPARATOR in concatenation (.) or string at /usr/home/cpansand/.cpan/build/2019042910/RSH-Logging-0.4.3-0/blib/lib/RSH/Logging/TextTable.pm line 240.
Use of uninitialized value $Text::SimpleTable::RIGHT_BORDER in concatenation (.) or string at /usr/home/cpansand/.cpan/build/2019042910/RSH-Logging-0.4.3-0/blib/lib/RSH/Logging/TextTable.pm line 241.
DEBUG Logging.pm:407, RSH::Logging::__ANON__: + foo 0.001426s
Use of uninitialized value $Text::SimpleTable::LEFT_BORDER in concatenation (.) or string at /usr/home/cpansand/.cpan/build/2019042910/RSH-Logging-0.4.3-0/blib/lib/RSH/Logging/TextTable.pm line 240.
Use of uninitialized value $Text::SimpleTable::SEPARATOR in concatenation (.) or string at /usr/home/cpansand/.cpan/build/2019042910/RSH-Logging-0.4.3-0/blib/lib/RSH/Logging/TextTable.pm line 240.
Use of uninitialized value $Text::SimpleTable::RIGHT_BORDER in concatenation (.) or string at /usr/home/cpansand/.cpan/build/2019042910/RSH-Logging-0.4.3-0/blib/lib/RSH/Logging/TextTable.pm line 241.
DEBUG Logging.pm:407, RSH::Logging::__ANON__: + sub1a 0.000487s
Use of uninitialized value $Text::SimpleTable::LEFT_BORDER in concatenation (.) or string at /usr/home/cpansand/.cpan/build/2019042910/RSH-Logging-0.4.3-0/blib/lib/RSH/Logging/TextTable.pm line 240.
Use of uninitialized value $Text::SimpleTable::SEPARATOR in concatenation (.) or string at /usr/home/cpansand/.cpan/build/2019042910/RSH-Logging-0.4.3-0/blib/lib/RSH/Logging/TextTable.pm line 240.
Use of uninitialized value $Text::SimpleTable::RIGHT_BORDER in concatenation (.) or string at /usr/home/cpansand/.cpan/build/2019042910/RSH-Logging-0.4.3-0/blib/lib/RSH/Logging/TextTable.pm line 241.
DEBUG Logging.pm:407, RSH::Logging::__ANON__: + sub2a 0.000089s
Use of uninitialized value $Text::SimpleTable::LEFT_BORDER in concatenation (.) or string at /usr/home/cpansand/.cpan/build/2019042910/RSH-Logging-0.4.3-0/blib/lib/RSH/Logging/TextTable.pm line 240.
Use of uninitialized value $Text::SimpleTable::SEPARATOR in concatenation (.) or string at /usr/home/cpansand/.cpan/build/2019042910/RSH-Logging-0.4.3-0/blib/lib/RSH/Logging/TextTable.pm line 240.
Use of uninitialized value $Text::SimpleTable::RIGHT_BORDER in concatenation (.) or string at /usr/home/cpansand/.cpan/build/2019042910/RSH-Logging-0.4.3-0/blib/lib/RSH/Logging/TextTable.pm line 241.
DEBUG Logging.pm:407, RSH::Logging::__ANON__: + sub2b 0.000130s
Use of uninitialized value $Text::SimpleTable::LEFT_BORDER in concatenation (.) or string at /usr/home/cpansand/.cpan/build/2019042910/RSH-Logging-0.4.3-0/blib/lib/RSH/Logging/TextTable.pm line 240.
Use of uninitialized value $Text::SimpleTable::SEPARATOR in concatenation (.) or string at /usr/home/cpansand/.cpan/build/2019042910/RSH-Logging-0.4.3-0/blib/lib/RSH/Logging/TextTable.pm line 240.
Use of uninitialized value $Text::SimpleTable::RIGHT_BORDER in concatenation (.) or string at /usr/home/cpansand/.cpan/build/2019042910/RSH-Logging-0.4.3-0/blib/lib/RSH/Logging/TextTable.pm line 241.
DEBUG Logging.pm:407, RSH::Logging::__ANON__: + sub0 0.000011s
Use of uninitialized value $Text::SimpleTable::LEFT_BORDER in concatenation (.) or string at /usr/home/cpansand/.cpan/build/2019042910/RSH-Logging-0.4.3-0/blib/lib/RSH/Logging/TextTable.pm line 240.
Use of uninitialized value $Text::SimpleTable::SEPARATOR in concatenation (.) or string at /usr/home/cpansand/.cpan/build/2019042910/RSH-Logging-0.4.3-0/blib/lib/RSH/Logging/TextTable.pm line 240.
Use of uninitialized value $Text::SimpleTable::RIGHT_BORDER in concatenation (.) or string at /usr/home/cpansand/.cpan/build/2019042910/RSH-Logging-0.4.3-0/blib/lib/RSH/Logging/TextTable.pm line 241.
DEBUG Logging.pm:407, RSH::Logging::__ANON__: + sub1 0.000010s
Use of uninitialized value $Text::SimpleTable::LEFT_BORDER in concatenation (.) or string at /usr/home/cpansand/.cpan/build/2019042910/RSH-Logging-0.4.3-0/blib/lib/RSH/Logging/TextTable.pm line 240.
Use of uninitialized value $Text::SimpleTable::SEPARATOR in concatenation (.) or string at /usr/home/cpansand/.cpan/build/2019042910/RSH-Logging-0.4.3-0/blib/lib/RSH/Logging/TextTable.pm line 240.
Use of uninitialized value $Text::SimpleTable::RIGHT_BORDER in concatenation (.) or string at /usr/home/cpansand/.cpan/build/2019042910/RSH-Logging-0.4.3-0/blib/lib/RSH/Logging/TextTable.pm line 241.
DEBUG Logging.pm:407, RSH::Logging::__ANON__: + sub2 0.000009s
Use of uninitialized value $Text::SimpleTable::LEFT_BORDER in concatenation (.) or string at /usr/home/cpansand/.cpan/build/2019042910/RSH-Logging-0.4.3-0/blib/lib/RSH/Logging/TextTable.pm line 240.
Use of uninitialized value $Text::SimpleTable::SEPARATOR in concatenation (.) or string at /usr/home/cpansand/.cpan/build/2019042910/RSH-Logging-0.4.3-0/blib/lib/RSH/Logging/TextTable.pm line 240.
Use of uninitialized value $Text::SimpleTable::RIGHT_BORDER in concatenation (.) or string at /usr/home/cpansand/.cpan/build/2019042910/RSH-Logging-0.4.3-0/blib/lib/RSH/Logging/TextTable.pm line 241.
DEBUG Logging.pm:407, RSH::Logging::__ANON__: + sub3 0.000010s
Use of uninitialized value $Text::SimpleTable::LEFT_BORDER in concatenation (.) or string at /usr/home/cpansand/.cpan/build/2019042910/RSH-Logging-0.4.3-0/blib/lib/RSH/Logging/TextTable.pm line 240.
Use of uninitialized value $Text::SimpleTable::SEPARATOR in concatenation (.) or string at /usr/home/cpansand/.cpan/build/2019042910/RSH-Logging-0.4.3-0/blib/lib/RSH/Logging/TextTable.pm line 240.
Use of uninitialized value $Text::SimpleTable::RIGHT_BORDER in concatenation (.) or string at /usr/home/cpansand/.cpan/build/2019042910/RSH-Logging-0.4.3-0/blib/lib/RSH/Logging/TextTable.pm line 241.
DEBUG Logging.pm:407, RSH::Logging::__ANON__: + sub4 0.000010s
Use of uninitialized value $Text::SimpleTable::LEFT_BORDER in concatenation (.) or string at /usr/home/cpansand/.cpan/build/2019042910/RSH-Logging-0.4.3-0/blib/lib/RSH/Logging/TextTable.pm line 240.
Use of uninitialized value $Text::SimpleTable::SEPARATOR in concatenation (.) or string at /usr/home/cpansand/.cpan/build/2019042910/RSH-Logging-0.4.3-0/blib/lib/RSH/Logging/TextTable.pm line 240.
Use of uninitialized value $Text::SimpleTable::RIGHT_BORDER in concatenation (.) or string at /usr/home/cpansand/.cpan/build/2019042910/RSH-Logging-0.4.3-0/blib/lib/RSH/Logging/TextTable.pm line 241.
DEBUG Logging.pm:407, RSH::Logging::__ANON__: + sub5 0.000010s
Use of uninitialized value $Text::SimpleTable::LEFT_BORDER in concatenation (.) or string at /usr/home/cpansand/.cpan/build/2019042910/RSH-Logging-0.4.3-0/blib/lib/RSH/Logging/TextTable.pm line 240.
Use of uninitialized value $Text::SimpleTable::SEPARATOR in concatenation (.) or string at /usr/home/cpansand/.cpan/build/2019042910/RSH-Logging-0.4.3-0/blib/lib/RSH/Logging/TextTable.pm line 240.
Use of uninitialized value $Text::SimpleTable::RIGHT_BORDER in concatenation (.) or string at /usr/home/cpansand/.cpan/build/2019042910/RSH-Logging-0.4.3-0/blib/lib/RSH/Logging/TextTable.pm line 241.
DEBUG Logging.pm:407, RSH::Logging::__ANON__: + sub6 0.000013s
Use of uninitialized value $Text::SimpleTable::LEFT_BORDER in concatenation (.) or string at /usr/home/cpansand/.cpan/build/2019042910/RSH-Logging-0.4.3-0/blib/lib/RSH/Logging/TextTable.pm line 240.
Use of uninitialized value $Text::SimpleTable::SEPARATOR in concatenation (.) or string at /usr/home/cpansand/.cpan/build/2019042910/RSH-Logging-0.4.3-0/blib/lib/RSH/Logging/TextTable.pm line 240.
Use of uninitialized value $Text::SimpleTable::RIGHT_BORDER in concatenation (.) or string at /usr/home/cpansand/.cpan/build/2019042910/RSH-Logging-0.4.3-0/blib/lib/RSH/Logging/TextTable.pm line 241.
DEBUG Logging.pm:407, RSH::Logging::__ANON__: + sub7 0.000024s
Use of uninitialized value $Text::SimpleTable::LEFT_BORDER in concatenation (.) or string at /usr/home/cpansand/.cpan/build/2019042910/RSH-Logging-0.4.3-0/blib/lib/RSH/Logging/TextTable.pm line 240.
Use of uninitialized value $Text::SimpleTable::SEPARATOR in concatenation (.) or string at /usr/home/cpansand/.cpan/build/2019042910/RSH-Logging-0.4.3-0/blib/lib/RSH/Logging/TextTable.pm line 240.
Use of uninitialized value $Text::SimpleTable::RIGHT_BORDER in concatenation (.) or string at /usr/home/cpansand/.cpan/build/2019042910/RSH-Logging-0.4.3-0/blib/lib/RSH/Logging/TextTable.pm line 241.
DEBUG Logging.pm:407, RSH::Logging::__ANON__: + sub8 0.000015s
Use of uninitialized value $Text::SimpleTable::LEFT_BORDER in concatenation (.) or string at /usr/home/cpansand/.cpan/build/2019042910/RSH-Logging-0.4.3-0/blib/lib/RSH/Logging/TextTable.pm line 240.
Use of uninitialized value $Text::SimpleTable::SEPARATOR in concatenation (.) or string at /usr/home/cpansand/.cpan/build/2019042910/RSH-Logging-0.4.3-0/blib/lib/RSH/Logging/TextTable.pm line 240.
Use of uninitialized value $Text::SimpleTable::RIGHT_BORDER in concatenation (.) or string at /usr/home/cpansand/.cpan/build/2019042910/RSH-Logging-0.4.3-0/blib/lib/RSH/Logging/TextTable.pm line 241.
DEBUG Logging.pm:407, RSH::Logging::__ANON__: + sub9 0.000012s
Use of uninitialized value $Text::SimpleTable::LEFT_BORDER in concatenation (.) or string at /usr/home/cpansand/.cpan/build/2019042910/RSH-Logging-0.4.3-0/blib/lib/RSH/Logging/TextTable.pm line 240.
Use of uninitialized value $Text::SimpleTable::SEPARATOR in concatenation (.) or string at /usr/home/cpansand/.cpan/build/2019042910/RSH-Logging-0.4.3-0/blib/lib/RSH/Logging/TextTable.pm line 240.
Use of uninitialized value $Text::SimpleTable::RIGHT_BORDER in concatenation (.) or string at /usr/home/cpansand/.cpan/build/2019042910/RSH-Logging-0.4.3-0/blib/lib/RSH/Logging/TextTable.pm line 241.
DEBUG Logging.pm:407, RSH::Logging::__ANON__: + sub10 0.000009s
Use of uninitialized value $Text::SimpleTable::LEFT_BORDER in concatenation (.) or string at /usr/home/cpansand/.cpan/build/2019042910/RSH-Logging-0.4.3-0/blib/lib/RSH/Logging/TextTable.pm line 240.
Use of uninitialized value $Text::SimpleTable::SEPARATOR in concatenation (.) or string at /usr/home/cpansand/.cpan/build/2019042910/RSH-Logging-0.4.3-0/blib/lib/RSH/Logging/TextTable.pm line 240.
Use of uninitialized value $Text::SimpleTable::RIGHT_BORDER in concatenation (.) or string at /usr/home/cpansand/.cpan/build/2019042910/RSH-Logging-0.4.3-0/blib/lib/RSH/Logging/TextTable.pm line 241.
DEBUG Logging.pm:407, RSH::Logging::__ANON__: + sub11 0.000027s
Use of uninitialized value $Text::SimpleTable::LEFT_BORDER in concatenation (.) or string at /usr/home/cpansand/.cpan/build/2019042910/RSH-Logging-0.4.3-0/blib/lib/RSH/Logging/TextTable.pm line 240.
Use of uninitialized value $Text::SimpleTable::SEPARATOR in concatenation (.) or string at /usr/home/cpansand/.cpan/build/2019042910/RSH-Logging-0.4.3-0/blib/lib/RSH/Logging/TextTable.pm line 240.
Use of uninitialized value $Text::SimpleTable::RIGHT_BORDER in concatenation (.) or string at /usr/home/cpansand/.cpan/build/2019042910/RSH-Logging-0.4.3-0/blib/lib/RSH/Logging/TextTable.pm line 241.
DEBUG Logging.pm:407, RSH::Logging::__ANON__: + sub12 0.000014s
Use of uninitialized value $Text::SimpleTable::LEFT_BORDER in concatenation (.) or string at /usr/home/cpansand/.cpan/build/2019042910/RSH-Logging-0.4.3-0/blib/lib/RSH/Logging/TextTable.pm line 240.
Use of uninitialized value $Text::SimpleTable::SEPARATOR in concatenation (.) or string at /usr/home/cpansand/.cpan/build/2019042910/RSH-Logging-0.4.3-0/blib/lib/RSH/Logging/TextTable.pm line 240.
Use of uninitialized value $Text::SimpleTable::RIGHT_BORDER in concatenation (.) or string at /usr/home/cpansand/.cpan/build/2019042910/RSH-Logging-0.4.3-0/blib/lib/RSH/Logging/TextTable.pm line 241.
DEBUG Logging.pm:407, RSH::Logging::__ANON__: + sub13 0.000009s
Use of uninitialized value $Text::SimpleTable::LEFT_BORDER in concatenation (.) or string at /usr/home/cpansand/.cpan/build/2019042910/RSH-Logging-0.4.3-0/blib/lib/RSH/Logging/TextTable.pm line 240.
Use of uninitialized value $Text::SimpleTable::SEPARATOR in concatenation (.) or string at /usr/home/cpansand/.cpan/build/2019042910/RSH-Logging-0.4.3-0/blib/lib/RSH/Logging/TextTable.pm line 240.
Use of uninitialized value $Text::SimpleTable::RIGHT_BORDER in concatenation (.) or string at /usr/home/cpansand/.cpan/build/2019042910/RSH-Logging-0.4.3-0/blib/lib/RSH/Logging/TextTable.pm line 241.
DEBUG Logging.pm:407, RSH::Logging::__ANON__: + sub14 0.000021s
Use of uninitialized value $Text::SimpleTable::LEFT_BORDER in concatenation (.) or string at /usr/home/cpansand/.cpan/build/2019042910/RSH-Logging-0.4.3-0/blib/lib/RSH/Logging/TextTable.pm line 240.
Use of uninitialized value $Text::SimpleTable::SEPARATOR in concatenation (.) or string at /usr/home/cpansand/.cpan/build/2019042910/RSH-Logging-0.4.3-0/blib/lib/RSH/Logging/TextTable.pm line 240.
Use of uninitialized value $Text::SimpleTable::RIGHT_BORDER in concatenation (.) or string at /usr/home/cpansand/.cpan/build/2019042910/RSH-Logging-0.4.3-0/blib/lib/RSH/Logging/TextTable.pm line 241.
DEBUG Logging.pm:407, RSH::Logging::__ANON__: + sub15 0.000009s
Use of uninitialized value $Text::SimpleTable::LEFT_BORDER in concatenation (.) or string at /usr/home/cpansand/.cpan/build/2019042910/RSH-Logging-0.4.3-0/blib/lib/RSH/Logging/TextTable.pm line 240.
Use of uninitialized value $Text::SimpleTable::SEPARATOR in concatenation (.) or string at /usr/home/cpansand/.cpan/build/2019042910/RSH-Logging-0.4.3-0/blib/lib/RSH/Logging/TextTable.pm line 240.
Use of uninitialized value $Text::SimpleTable::RIGHT_BORDER in concatenation (.) or string at /usr/home/cpansand/.cpan/build/2019042910/RSH-Logging-0.4.3-0/blib/lib/RSH/Logging/TextTable.pm line 241.
DEBUG Logging.pm:407, RSH::Logging::__ANON__: + sub16 0.000009s
Use of uninitialized value $Text::SimpleTable::LEFT_BORDER in concatenation (.) or string at /usr/home/cpansand/.cpan/build/2019042910/RSH-Logging-0.4.3-0/blib/lib/RSH/Logging/TextTable.pm line 240.
Use of uninitialized value $Text::SimpleTable::SEPARATOR in concatenation (.) or string at /usr/home/cpansand/.cpan/build/2019042910/RSH-Logging-0.4.3-0/blib/lib/RSH/Logging/TextTable.pm line 240.
Use of uninitialized value $Text::SimpleTable::RIGHT_BORDER in concatenation (.) or string at /usr/home/cpansand/.cpan/build/2019042910/RSH-Logging-0.4.3-0/blib/lib/RSH/Logging/TextTable.pm line 241.
DEBUG Logging.pm:407, RSH::Logging::__ANON__: + sub17 0.000010s
Use of uninitialized value $Text::SimpleTable::LEFT_BORDER in concatenation (.) or string at /usr/home/cpansand/.cpan/build/2019042910/RSH-Logging-0.4.3-0/blib/lib/RSH/Logging/TextTable.pm line 240.
Use of uninitialized value $Text::SimpleTable::SEPARATOR in concatenation (.) or string at /usr/home/cpansand/.cpan/build/2019042910/RSH-Logging-0.4.3-0/blib/lib/RSH/Logging/TextTable.pm line 240.
Use of uninitialized value $Text::SimpleTable::RIGHT_BORDER in concatenation (.) or string at /usr/home/cpansand/.cpan/build/2019042910/RSH-Logging-0.4.3-0/blib/lib/RSH/Logging/TextTable.pm line 241.
DEBUG Logging.pm:407, RSH::Logging::__ANON__: + sub18 0.000010s
Use of uninitialized value $Text::SimpleTable::LEFT_BORDER in concatenation (.) or string at /usr/home/cpansand/.cpan/build/2019042910/RSH-Logging-0.4.3-0/blib/lib/RSH/Logging/TextTable.pm line 240.
Use of uninitialized value $Text::SimpleTable::SEPARATOR in concatenation (.) or string at /usr/home/cpansand/.cpan/build/2019042910/RSH-Logging-0.4.3-0/blib/lib/RSH/Logging/TextTable.pm line 240.
Use of uninitialized value $Text::SimpleTable::RIGHT_BORDER in concatenation (.) or string at /usr/home/cpansand/.cpan/build/2019042910/RSH-Logging-0.4.3-0/blib/lib/RSH/Logging/TextTable.pm line 241.
DEBUG Logging.pm:407, RSH::Logging::__ANON__: + sub19 0.000009s
Use of uninitialized value $Text::SimpleTable::LEFT_BORDER in concatenation (.) or string at /usr/home/cpansand/.cpan/build/2019042910/RSH-Logging-0.4.3-0/blib/lib/RSH/Logging/TextTable.pm line 240.
Use of uninitialized value $Text::SimpleTable::SEPARATOR in concatenation (.) or string at /usr/home/cpansand/.cpan/build/2019042910/RSH-Logging-0.4.3-0/blib/lib/RSH/Logging/TextTable.pm line 240.
Use of uninitialized value $Text::SimpleTable::RIGHT_BORDER in concatenation (.) or string at /usr/home/cpansand/.cpan/build/2019042910/RSH-Logging-0.4.3-0/blib/lib/RSH/Logging/TextTable.pm line 241.
DEBUG Logging.pm:407, RSH::Logging::__ANON__: + sub20 0.000009s
Use of uninitialized value $Text::SimpleTable::LEFT_BORDER in concatenation (.) or string at /usr/home/cpansand/.cpan/build/2019042910/RSH-Logging-0.4.3-0/blib/lib/RSH/Logging/TextTable.pm line 240.
Use of uninitialized value $Text::SimpleTable::SEPARATOR in concatenation (.) or string at /usr/home/cpansand/.cpan/build/2019042910/RSH-Logging-0.4.3-0/blib/lib/RSH/Logging/TextTable.pm line 240.
Use of uninitialized value $Text::SimpleTable::RIGHT_BORDER in concatenation (.) or string at /usr/home/cpansand/.cpan/build/2019042910/RSH-Logging-0.4.3-0/blib/lib/RSH/Logging/TextTable.pm line 241.
DEBUG Logging.pm:407, RSH::Logging::__ANON__: + sub21 0.000010s
Use of uninitialized value $Text::SimpleTable::LEFT_BORDER in concatenation (.) or string at /usr/home/cpansand/.cpan/build/2019042910/RSH-Logging-0.4.3-0/blib/lib/RSH/Logging/TextTable.pm line 240.
Use of uninitialized value $Text::SimpleTable::SEPARATOR in concatenation (.) or string at /usr/home/cpansand/.cpan/build/2019042910/RSH-Logging-0.4.3-0/blib/lib/RSH/Logging/TextTable.pm line 240.
Use of uninitialized value $Text::SimpleTable::RIGHT_BORDER in concatenation (.) or string at /usr/home/cpansand/.cpan/build/2019042910/RSH-Logging-0.4.3-0/blib/lib/RSH/Logging/TextTable.pm line 241.
DEBUG Logging.pm:407, RSH::Logging::__ANON__: + sub22 0.000089s
Use of uninitialized value $Text::SimpleTable::LEFT_BORDER in concatenation (.) or string at /usr/home/cpansand/.cpan/build/2019042910/RSH-Logging-0.4.3-0/blib/lib/RSH/Logging/TextTable.pm line 240.
Use of uninitialized value $Text::SimpleTable::SEPARATOR in concatenation (.) or string at /usr/home/cpansand/.cpan/build/2019042910/RSH-Logging-0.4.3-0/blib/lib/RSH/Logging/TextTable.pm line 240.
Use of uninitialized value $Text::SimpleTable::RIGHT_BORDER in concatenation (.) or string at /usr/home/cpansand/.cpan/build/2019042910/RSH-Logging-0.4.3-0/blib/lib/RSH/Logging/TextTable.pm line 241.
DEBUG Logging.pm:407, RSH::Logging::__ANON__: + sub23 0.000009s
Use of uninitialized value $Text::SimpleTable::LEFT_BORDER in concatenation (.) or string at /usr/home/cpansand/.cpan/build/2019042910/RSH-Logging-0.4.3-0/blib/lib/RSH/Logging/TextTable.pm line 240.
Use of uninitialized value $Text::SimpleTable::SEPARATOR in concatenation (.) or string at /usr/home/cpansand/.cpan/build/2019042910/RSH-Logging-0.4.3-0/blib/lib/RSH/Logging/TextTable.pm line 240.
Use of uninitialized value $Text::SimpleTable::RIGHT_BORDER in concatenation (.) or string at /usr/home/cpansand/.cpan/build/2019042910/RSH-Logging-0.4.3-0/blib/lib/RSH/Logging/TextTable.pm line 241.
DEBUG Logging.pm:407, RSH::Logging::__ANON__: + sub24 0.000009s
Use of uninitialized value in repeat (x) at /usr/home/cpansand/.cpan/build/2019042910/RSH-Logging-0.4.3-0/blib/lib/RSH/Logging/TextTable.pm line 256.
Use of uninitialized value $Text::SimpleTable::BOTTOM_LEFT in concatenation (.) or string at /usr/home/cpansand/.cpan/build/2019042910/RSH-Logging-0.4.3-0/blib/lib/RSH/Logging/TextTable.pm line 261.
Use of uninitialized value $Text::SimpleTable::BOTTOM_SEPARATOR in concatenation (.) or string at /usr/home/cpansand/.cpan/build/2019042910/RSH-Logging-0.4.3-0/blib/lib/RSH/Logging/TextTable.pm line 261.
Use of uninitialized value in repeat (x) at /usr/home/cpansand/.cpan/build/2019042910/RSH-Logging-0.4.3-0/blib/lib/RSH/Logging/TextTable.pm line 256.
Use of uninitialized value $Text::SimpleTable::BOTTOM_RIGHT in concatenation (.) or string at /usr/home/cpansand/.cpan/build/2019042910/RSH-Logging-0.4.3-0/blib/lib/RSH/Logging/TextTable.pm line 262.
DEBUG Logging.pm:407, RSH::Logging::__ANON__:
DEBUG Logging.pm:407, RSH::Logging::__ANON__:
t/011.RSH-Logging-chunking.t .. ok
t/999.perlcritic.t ............ skipped: Not worrying about perl critic right now.
t/999.pod-coverage.t .......... ok
t/999.pod.t ................... ok
All tests successful.
Files=6, Tests=160, 2 wallclock secs ( 0.09 usr 0.00 sys + 1.52 cusr 0.47 csys = 2.08 CPU)
Result: PASS
------------------------------
PREREQUISITES
------------------------------
Prerequisite modules loaded:
requires:
Module Need Have
------------------- ----- --------
IO::File 0 1.40
Log::Log4perl 0 1.49
perl 5.008 5.029010
Scalar::Util 0 1.50
Test::More 0 1.302162
Text::SimpleTable 0 2.07
Time::HiRes 0 1.9760
build_requires:
Module Need Have
------------------- ----- --------
ExtUtils::MakeMaker 6.42 7.34
Test::More 0 1.302162
configure_requires:
Module Need Have
------------------- ----- --------
ExtUtils::MakeMaker 6.42 7.34
------------------------------
ENVIRONMENT AND OTHER CONTEXT
------------------------------
Environment variables:
LC_ALL = de_DE.UTF-8
PATH = /usr/local/bin:/usr/bin:/bin:/usr/local/sbin:/usr/sbin:/sbin:/home/cpansand/bin/freebsd12.0:/home/cpansand/bin/sh:/home/cpansand/bin:/usr/games:/home/cpansand/devel:/usr/home/eserte/src/srezic-misc/scripts
PERL5LIB =
PERL5OPT =
PERL5_CPANPLUS_IS_RUNNING = 69504
PERL5_CPAN_IS_RUNNING = 69504
PERL5_CPAN_IS_RUNNING_IN_RECURSION = 24389,69504
PERLDOC = -MPod::Perldoc::ToTextOverstrike
PERL_BATCH = yes
PERL_CANARY_STABILITY_NOPROMPT = 1
PERL_CPAN_REPORTER_CONFIG = /var/tmp/cpansmoker-1023/2019042823/cpanreporter_000_config.ini
PERL_EXTUTILS_AUTOINSTALL = --defaultdeps
PERL_PARALLEL_SMOKER = yes
PERL_USE_UNSAFE_INC = 1
SHELL = /usr/local/bin/zsh
TERM = screen
TMPDIR = /var/tmp/cpansmoker-1023/2019042823
Perl special variables (and OS-specific diagnostics, for MSWin32):
$^X = /usr/perl5.29.10p/bin/perl5.29.10
$UID/$EUID = 1023 / 1023
$GID = 1023 1023
$EGID = 1023 1023
Perl module toolchain versions installed:
Module Have
------------------- --------
CPAN 2.26
CPAN::Meta 2.150010
Cwd 3.78
ExtUtils::CBuilder 0.280231
ExtUtils::Command 7.34
ExtUtils::Install 2.14
ExtUtils::MakeMaker 7.34
ExtUtils::Manifest 1.72
ExtUtils::ParseXS 3.40
File::Spec 3.78
JSON 4.02
JSON::PP 4.02
Module::Build 0.4229
Module::Signature 0.83
Parse::CPAN::Meta 2.150010
Test::Harness 3.42
Test::More 1.302162
YAML 1.27
YAML::Syck 1.31
version 0.9924
--
Summary of my perl5 (revision 5 version 29 subversion 10) configuration:
Platform:
osname=freebsd
osvers=12.0-stable
archname=amd64-freebsd
uname='freebsd cloud1.bbbike.org 12.0-stable freebsd 12.0-stable 8077844c632(stable12) generic amd64 '
config_args='-ds -e -Dprefix=/usr/perl5.29.10p -Dusedevel -Dusemallocwrap=no -Dcf_email=srezic@cpan.org -Doptimize=-O2 -pipe'
hint=recommended
useposix=true
d_sigaction=define
useithreads=undef
usemultiplicity=undef
use64bitint=define
use64bitall=define
uselongdouble=undef
usemymalloc=n
default_inc_excludes_dot=define
bincompat5005=undef
Compiler:
cc='cc'
ccflags ='-DHAS_FPSETMASK -DHAS_FLOATINGPOINT_H -fno-strict-aliasing -pipe -fstack-protector-strong -I/usr/local/include -D_FORTIFY_SOURCE=2'
optimize='-O2 -pipe'
cppflags='-DHAS_FPSETMASK -DHAS_FLOATINGPOINT_H -fno-strict-aliasing -pipe -fstack-protector-strong -I/usr/local/include'
ccversion=''
gccversion='4.2.1 Compatible FreeBSD Clang 8.0.0 (tags/RELEASE_800/final 356365)'
gccosandvers=''
intsize=4
longsize=8
ptrsize=8
doublesize=8
byteorder=12345678
doublekind=3
d_longlong=define
longlongsize=8
d_longdbl=define
longdblsize=16
longdblkind=3
ivtype='long'
ivsize=8
nvtype='double'
nvsize=8
Off_t='off_t'
lseeksize=8
alignbytes=8
prototype=define
Linker and Libraries:
ld='cc'
ldflags ='-pthread -Wl,-E -fstack-protector-strong -L/usr/local/lib'
libpth=/usr/lib /usr/local/lib /usr/lib/clang/8.0.0/lib /usr/lib
libs=-lpthread -lgdbm -ldl -lm -lcrypt -lutil -lc
perllibs=-lpthread -ldl -lm -lcrypt -lutil -lc
libc=
so=so
useshrplib=false
libperl=libperl.a
gnulibc_version=''
Dynamic Linking:
dlsrc=dl_dlopen.xs
dlext=so
d_dlsymun=undef
ccdlflags=' '
cccdlflags='-DPIC -fPIC'
lddlflags='-shared -L/usr/local/lib -fstack-protector-strong'
Characteristics of this binary (from libperl):
Compile-time options:
HAS_TIMES
PERLIO_LAYERS
PERL_COPY_ON_WRITE
PERL_DONT_CREATE_GVSV
PERL_OP_PARENT
PERL_PRESERVE_IVUV
PERL_USE_DEVEL
USE_64_BIT_ALL
USE_64_BIT_INT
USE_LARGE_FILES
USE_LOCALE
USE_LOCALE_COLLATE
USE_LOCALE_CTYPE
USE_LOCALE_NUMERIC
USE_LOCALE_TIME
USE_PERLIO
USE_PERL_ATOF
Built under freebsd
Compiled at Apr 20 2019 22:03:13
%ENV:
PERL5LIB=""
PERL5OPT=""
PERL5_CPANPLUS_IS_RUNNING="69504"
PERL5_CPAN_IS_RUNNING="69504"
PERL5_CPAN_IS_RUNNING_IN_RECURSION="24389,69504"
PERLDOC="-MPod::Perldoc::ToTextOverstrike"
PERL_BATCH="yes"
PERL_CANARY_STABILITY_NOPROMPT="1"
PERL_CPAN_REPORTER_CONFIG="/var/tmp/cpansmoker-1023/2019042823/cpanreporter_000_config.ini"
PERL_EXTUTILS_AUTOINSTALL="--defaultdeps"
PERL_PARALLEL_SMOKER="yes"
PERL_USE_UNSAFE_INC="1"
@INC:
/usr/perl5.29.10p/lib/site_perl/5.29.10/amd64-freebsd
/usr/perl5.29.10p/lib/site_perl/5.29.10
/usr/perl5.29.10p/lib/5.29.10/amd64-freebsd
/usr/perl5.29.10p/lib/5.29.10
.