Back
From: metabase:user:9820532a-708b-1014-9a05-b18a96298da1
Subject: PASS MooseX-WithCache-0.01002 v5.15.3 GNU/Linux
Date: 2011-10-02T07:40:27Z
This distribution has been tested as part of the CPAN Testers
project, supporting the Perl programming language. See
http://wiki.cpantesters.org/ for more information or email
questions to cpan-testers-discuss@perl.org
--
Dear Daisuke Maki,
This is a computer-generated report for MooseX-WithCache-0.01002
on perl 5.15.3, created by CPAN-Reporter-1.2002.
Thank you for uploading your work to CPAN. Congratulations!
All tests were successful.
Sections of this report:
* Tester comments
* Program output
* Prerequisites
* Environment and other context
------------------------------
TESTER COMMENTS
------------------------------
Additional comments from tester:
this report is from an automated smoke testing program
and was not reviewed by a human for accuracy
------------------------------
PROGRAM OUTPUT
------------------------------
Output from '/usr/bin/make test':
PERL_DL_NONLAZY=1 /home/test/perl5/perlbrew/perls/perl-5.15.3/bin/perl5.15.3 "-MExtUtils::Command::MM" "-e" "test_harness(0, 'inc', 'blib/lib', 'blib/arch')" t/*.t t/*/*.t
t/00_compile.t ............... ok
Use of qw(...) as parentheses is deprecated at t/02_memcached.t line 25.
t/02_memcached.t ............. skipped: no memcached server found
must specify either 'datastore' hashref or 'global' flag at /home/test/perl5/perlbrew/perls/perl-5.15.3/lib/site_perl/5.15.3/CHI/Driver/Memory.pm line 37
CHI::Driver::Memory::BUILD('Moose::Meta::Class::__ANON__::SERIAL::4=HASH(0x24eeab8)', 'HASH(0x25051e0)') called at /home/test/perl5/perlbrew/perls/perl-5.15.3/lib/site_perl/5.15.3/x86_64-linux-thread-multi/Class/MOP/Method.pm line 125
Class::MOP::Method::execute('Moose::Meta::Method=HASH(0x2505528)', 'Moose::Meta::Class::__ANON__::SERIAL::4=HASH(0x24eeab8)', 'HASH(0x25051e0)') called at /home/test/perl5/perlbrew/perls/perl-5.15.3/lib/site_perl/5.15.3/x86_64-linux-thread-multi/Moose/Object.pm line 59
Moose::Object::BUILDALL('Moose::Meta::Class::__ANON__::SERIAL::4=HASH(0x24eeab8)', 'HASH(0x25051e0)') called at /home/test/perl5/perlbrew/perls/perl-5.15.3/lib/site_perl/5.15.3/x86_64-linux-thread-multi/Moose/Meta/Class.pm line 278
Moose::Meta::Class::new_object('Moose::Meta::Class=HASH(0x24cc8f0)', 'HASH(0x25051e0)') called at /home/test/perl5/perlbrew/perls/perl-5.15.3/lib/site_perl/5.15.3/x86_64-linux-thread-multi/Moose/Object.pm line 28
Moose::Object::new('Moose::Meta::Class::__ANON__::SERIAL::4', 'chi_root_class', 'CHI', 'driver_class', 'CHI::Driver::Memory') called at constructor CHI::Driver::Memory::new (defined at /home/test/perl5/perlbrew/perls/perl-5.15.3/lib/site_perl/5.15.3/CHI/Driver/Memory.pm line 18) line 4
CHI::Driver::Memory::new('Moose::Meta::Class::__ANON__::SERIAL::4', 'chi_root_class', 'CHI', 'driver_class', 'CHI::Driver::Memory') called at /home/test/perl5/perlbrew/perls/perl-5.15.3/lib/site_perl/5.15.3/CHI.pm line 77
CHI::new('CHI', 'driver', 'Memory') called at t/03_chi.t line 29
t/03_chi.t ................... ok
t/04_fastmmap.t .............. ok
t/deprecated/00_compile.t .... ok
Use of qw(...) as parentheses is deprecated at t/deprecated/02_memcached.t line 20.
t/deprecated/02_memcached.t .. skipped: no memcached server found
must specify either 'datastore' hashref or 'global' flag at /home/test/perl5/perlbrew/perls/perl-5.15.3/lib/site_perl/5.15.3/CHI/Driver/Memory.pm line 37
CHI::Driver::Memory::BUILD('Moose::Meta::Class::__ANON__::SERIAL::4=HASH(0x2904800)', 'HASH(0x291cc70)') called at /home/test/perl5/perlbrew/perls/perl-5.15.3/lib/site_perl/5.15.3/x86_64-linux-thread-multi/Class/MOP/Method.pm line 125
Class::MOP::Method::execute('Moose::Meta::Method=HASH(0x2911cd0)', 'Moose::Meta::Class::__ANON__::SERIAL::4=HASH(0x2904800)', 'HASH(0x291cc70)') called at /home/test/perl5/perlbrew/perls/perl-5.15.3/lib/site_perl/5.15.3/x86_64-linux-thread-multi/Moose/Object.pm line 59
Moose::Object::BUILDALL('Moose::Meta::Class::__ANON__::SERIAL::4=HASH(0x2904800)', 'HASH(0x291cc70)') called at /home/test/perl5/perlbrew/perls/perl-5.15.3/lib/site_perl/5.15.3/x86_64-linux-thread-multi/Moose/Meta/Class.pm line 278
Moose::Meta::Class::new_object('Moose::Meta::Class=HASH(0x28e20c8)', 'HASH(0x291cc70)') called at /home/test/perl5/perlbrew/perls/perl-5.15.3/lib/site_perl/5.15.3/x86_64-linux-thread-multi/Moose/Object.pm line 28
Moose::Object::new('Moose::Meta::Class::__ANON__::SERIAL::4', 'chi_root_class', 'CHI', 'driver_class', 'CHI::Driver::Memory') called at constructor CHI::Driver::Memory::new (defined at /home/test/perl5/perlbrew/perls/perl-5.15.3/lib/site_perl/5.15.3/CHI/Driver/Memory.pm line 18) line 4
CHI::Driver::Memory::new('Moose::Meta::Class::__ANON__::SERIAL::4', 'chi_root_class', 'CHI', 'driver_class', 'CHI::Driver::Memory') called at /home/test/perl5/perlbrew/perls/perl-5.15.3/lib/site_perl/5.15.3/CHI.pm line 77
CHI::new('CHI', 'driver', 'Memory') called at t/deprecated/03_chi.t line 30
t/deprecated/03_chi.t ........ ok
t/deprecated/04_fastmmap.t ... ok
All tests successful.
Files=8, Tests=62, 4 wallclock secs ( 0.04 usr 0.02 sys + 3.07 cusr 0.36 csys = 3.49 CPU)
Result: PASS
------------------------------
PREREQUISITES
------------------------------
Prerequisite modules loaded:
requires:
Module Need Have
--------------------------- ----- --------
Cache::Memcached 0 1.29
Data::Dumper 0 2.134
Digest::MD5 0 2.51
Moose 0.59 2.0300
MooseX::Role::Parameterized 0 0.26
perl 5.008 5.015003
build_requires:
Module Need Have
--------------------------- ----- --------
ExtUtils::MakeMaker 6.42 6.58
IO::Socket::INET 0 1.32
Test::Exception 0 0.31
Test::More 0 0.98
configure_requires:
Module Need Have
--------------------------- ----- --------
ExtUtils::MakeMaker 6.42 6.58
------------------------------
ENVIRONMENT AND OTHER CONTEXT
------------------------------
Environment variables:
AUTOMATED_TESTING = 1
LANG = C
LC_ALL = C
PATH = /home/test/bin:/home/test/perl5/perlbrew/bin:/home/test/perl5/perlbrew/perls/perl-5.15.3/bin:~/bin:/usr/bin:/bin
PATH_WITHOUT_PERLBREW = ~/bin:/usr/bin:/bin
PERL5LIB =
PERL5OPT =
PERL5_CPANPLUS_IS_RUNNING = 27246
PERL5_CPAN_IS_RUNNING = 27246
PERL5_CPAN_IS_RUNNING_IN_RECURSION = 19792,27246
PERLBREW_HOME = /home/test/.perlbrew
PERLBREW_PATH = /home/test/perl5/perlbrew/bin:/home/test/perl5/perlbrew/perls/perl-5.15.3/bin
PERLBREW_PERL = perl-5.15.3
PERLBREW_ROOT = /home/test/perl5/perlbrew
PERLBREW_VERSION = 0.29
PERL_CPANM_OPT = --prompt --mirror file:///mirrors/cpan/
PERL_CR_SMOKER_CURRENT = WebService-Async-Microsoft-TranslateV2-0.03
PERL_EXTUTILS_AUTOINSTALL = --defaultdeps
PERL_MM_USE_DEFAULT = 1
SHELL = /bin/bash
TERM = linux
Perl special variables (and OS-specific diagnostics, for MSWin32):
$^X = /home/test/perl5/perlbrew/perls/perl-5.15.3/bin/perl5.15.3
$UID/$EUID = 1001 / 1001
$GID = 1001 1001
$EGID = 1001 1001
Perl module toolchain versions installed:
Module Have
------------------- --------
CPAN 1.9800
CPAN::Meta 2.112621
Cwd 3.37
ExtUtils::CBuilder 0.280202
ExtUtils::Command 1.17
ExtUtils::Install 1.57
ExtUtils::MakeMaker 6.58
ExtUtils::Manifest 1.60
ExtUtils::ParseXS 3.04
File::Spec 3.34
JSON 2.27
JSON::PP 2.27008
Module::Build 0.3800
Module::Signature n/a
Parse::CPAN::Meta 1.4401
Test::Harness 3.23
Test::More 0.98
YAML 0.73
YAML::Syck n/a
version 0.94
--
Summary of my perl5 (revision 5 version 15 subversion 3) configuration:
Platform:
osname=linux, osvers=2.6.35-28-generic, archname=x86_64-linux-thread-multi
uname='linux zippy 2.6.35-28-generic #50-ubuntu smp fri mar 18 18:42:20 utc 2011 x86_64 gnulinux '
config_args='-de -Dprefix=/home/test/perl5/perlbrew/perls/perl-5.15.3 -Dusethreads -Dusedevel'
hint=recommended, useposix=true, d_sigaction=define
useithreads=define, usemultiplicity=define
useperlio=define, d_sfio=undef, uselargefiles=define, usesocks=undef
use64bitint=define, use64bitall=define, uselongdouble=undef
usemymalloc=n, bincompat5005=undef
Compiler:
cc='cc', ccflags ='-D_REENTRANT -D_GNU_SOURCE -fno-strict-aliasing -pipe -fstack-protector -I/usr/local/include -D_LARGEFILE_SOURCE -D_FILE_OFFSET_BITS=64',
optimize='-O2',
cppflags='-D_REENTRANT -D_GNU_SOURCE -fno-strict-aliasing -pipe -fstack-protector -I/usr/local/include'
ccversion='', gccversion='4.4.5', gccosandvers=''
intsize=4, longsize=8, ptrsize=8, doublesize=8, byteorder=12345678
d_longlong=define, longlongsize=8, d_longdbl=define, longdblsize=16
ivtype='long', ivsize=8, nvtype='double', nvsize=8, Off_t='off_t', lseeksize=8
alignbytes=8, prototype=define
Linker and Libraries:
ld='cc', ldflags =' -fstack-protector -L/usr/local/lib'
libpth=/usr/local/lib /lib/../lib /usr/lib/../lib /lib /usr/lib /usr/lib/x86_64-linux-gnu /lib64 /usr/lib64
libs=-lnsl -ldl -lm -lcrypt -lutil -lpthread -lc
perllibs=-lnsl -ldl -lm -lcrypt -lutil -lpthread -lc
libc=/lib/libc-2.12.1.so, so=so, useshrplib=false, libperl=libperl.a
gnulibc_version='2.12.1'
Dynamic Linking:
dlsrc=dl_dlopen.xs, dlext=so, d_dlsymun=undef, ccdlflags='-Wl,-E'
cccdlflags='-fPIC', lddlflags='-shared -O2 -L/usr/local/lib -fstack-protector'
Characteristics of this binary (from libperl):
Compile-time options: HAS_TIMES MULTIPLICITY PERLIO_LAYERS
PERL_DONT_CREATE_GVSV PERL_IMPLICIT_CONTEXT
PERL_MALLOC_WRAP PERL_PRESERVE_IVUV PERL_USE_DEVEL
USE_64_BIT_ALL USE_64_BIT_INT USE_ITHREADS
USE_LARGE_FILES USE_LOCALE USE_LOCALE_COLLATE
USE_LOCALE_CTYPE USE_LOCALE_NUMERIC USE_PERLIO
USE_PERL_ATOF USE_REENTRANT_API
Built under linux
Compiled at Sep 30 2011 13:34:21
%ENV:
PERL5LIB=""
PERL5OPT=""
PERL5_CPANPLUS_IS_RUNNING="27246"
PERL5_CPAN_IS_RUNNING="27246"
PERL5_CPAN_IS_RUNNING_IN_RECURSION="19792,27246"
PERLBREW_HOME="/home/test/.perlbrew"
PERLBREW_PATH="/home/test/perl5/perlbrew/bin:/home/test/perl5/perlbrew/perls/perl-5.15.3/bin"
PERLBREW_PERL="perl-5.15.3"
PERLBREW_ROOT="/home/test/perl5/perlbrew"
PERLBREW_VERSION="0.29"
PERL_CPANM_OPT="--prompt --mirror file:///mirrors/cpan/"
PERL_CR_SMOKER_CURRENT="WebService-Async-Microsoft-TranslateV2-0.03"
PERL_EXTUTILS_AUTOINSTALL="--defaultdeps"
PERL_MM_USE_DEFAULT="1"
@INC:
/home/test/perl5/perlbrew/perls/perl-5.15.3/lib/site_perl/5.15.3/x86_64-linux-thread-multi
/home/test/perl5/perlbrew/perls/perl-5.15.3/lib/site_perl/5.15.3
/home/test/perl5/perlbrew/perls/perl-5.15.3/lib/5.15.3/x86_64-linux-thread-multi
/home/test/perl5/perlbrew/perls/perl-5.15.3/lib/5.15.3
.