IPC-Run v0.97 Perl 5 v5.22.4 i86pc-solaris-thread-multi
- Status
- Pass
- From
- Nigel Horne
- Dist
-
IPC-Run v0.97
- Platform
- Perl 5 v5.22.4 i86pc-solaris-thread-multi
- Date
- 2018-03-27 05:50:46
- ID
- cb8df75c-3182-11e8-91ce-d3e3deac0b3f
This distribution has been tested as part of the CPAN Testers
project, supporting the Perl programming language. See
http://wiki.cpantesters.org/ for more information or email
questions to cpan-testers-discuss@perl.org
--
Dear Todd Rinaldo,
This is a computer-generated report for IPC-Run-0.97
on perl 5.22.4, created by CPAN-Reporter-1.2018.
Thank you for uploading your work to CPAN. Congratulations!
All tests were successful.
Sections of this report:
* Tester comments
* Program output
* Prerequisites
* Environment and other context
------------------------------
TESTER COMMENTS
------------------------------
Additional comments from tester:
this report is from an automated smoke testing program
and was not reviewed by a human for accuracy
------------------------------
PROGRAM OUTPUT
------------------------------
Output from '/usr/bin/gmake test':
PERL_DL_NONLAZY=1 "/export/home/njh/perl5/perlbrew/perls/perl-5.22.4-thread-multi-ld/bin/perl5.22.4" "-MExtUtils::Command::MM" "-MTest::Harness" "-e" "undef *Test::Harness::Switches; test_harness(0, 'blib/lib', 'blib/arch')" t/*.t
t/97_meta.t .................. skipped: Test::CPAN::Meta 0.12 not available for testing
t/98_pod_coverage.t .......... skipped: Test::Pod::Coverage 1.04 not available for testing
t/99_perl_minimum_version.t .. skipped: Perl::MinimumVersion 1.20 not available for testing
t/adopt.t .................... skipped: adopt not implemented yet
t/98_pod.t ................... skipped: Test::Pod 1.26 not available for testing
t/bogus.t .................... ok
t/filter.t ................... ok
t/harness.t .................. ok
t/binmode.t .................. ok
t/io.t ....................... ok
t/pty.t ...................... skipped: IO::Pty not installed
t/parallel.t ................. ok
t/pump.t ..................... ok
t/signal.t ................... ok
t/kill_kill.t ................ ok
Constant subroutine IPPROTO_TCP redefined at /export/home/njh/perl5/perlbrew/perls/perl-5.22.4-thread-multi-ld/lib/5.22.4/i86pc-solaris-thread-multi/Socket.pm line -1.
t/win32_compile.t ............ ok
t/windows_search_path.t ...... ok
t/run.t ...................... ok
t/timer.t .................... ok
t/timeout.t .................. ok
All tests successful.
Files=20, Tests=661, 10 wallclock secs ( 0.80 usr 0.23 sys + 8.16 cusr 3.54 csys = 12.73 CPU)
Result: PASS
------------------------------
PREREQUISITES
------------------------------
Prerequisite modules loaded:
requires:
Module Need Have
------------------- ---- --------
Test::More 0.47 1.001014
build_requires:
Module Need Have
------------------- ---- --------
ExtUtils::MakeMaker 0 7.32
configure_requires:
Module Need Have
------------------- ---- --------
ExtUtils::MakeMaker 0 7.32
------------------------------
ENVIRONMENT AND OTHER CONTEXT
------------------------------
Environment variables:
AUTOMATED_TESTING = 1
HARNESS_OPTIONS = j4
PATH = /export/home/njh/perl5/perlbrew/bin:/export/home/njh/perl5/perlbrew/perls/perl-5.22.4-thread-multi-ld/bin:src/njh/smoker/bin:/usr/bin
PERL5LIB = /export/home/njh/.cpan/build/File-Versions-0.08-0/blib/arch:/export/home/njh/.cpan/build/File-Versions-0.08-0/blib/lib:/export/home/njh/.cpan/build/File-Slurper-0.012-0/blib/arch:/export/home/njh/.cpan/build/File-Slurper-0.012-0/blib/lib:/export/home/njh/.cpan/build/Test-Warnings-0.026-9/blib/arch:/export/home/njh/.cpan/build/Test-Warnings-0.026-9/blib/lib
PERL5OPT =
PERL5_CPANPLUS_IS_RUNNING = 8503
PERL5_CPAN_IS_RUNNING = 8503
PERLBREW_HOME = /export/home/njh/.perlbrew
PERLBREW_MANPATH = /export/home/njh/perl5/perlbrew/perls/perl-5.22.4-thread-multi-ld/man
PERLBREW_PATH = /export/home/njh/perl5/perlbrew/bin:/export/home/njh/perl5/perlbrew/perls/perl-5.22.4-thread-multi-ld/bin
PERLBREW_PERL = perl-5.22.4-thread-multi-ld
PERLBREW_ROOT = /export/home/njh/perl5/perlbrew
PERLBREW_SHELLRC_VERSION = 0.82
PERLBREW_VERSION = 0.82
SHELL = /usr/bin/sh
TERM = dumb
Perl special variables (and OS-specific diagnostics, for MSWin32):
$^X = /export/home/njh/perl5/perlbrew/perls/perl-5.22.4-thread-multi-ld/bin/perl5.22.4
$UID/$EUID = 100 / 100
$GID = 10 10
$EGID = 10 10
Perl module toolchain versions installed:
Module Have
------------------- ----------
CPAN 2.16
CPAN::Meta 2.150001
Cwd 3.56_02
ExtUtils::CBuilder 0.280221
ExtUtils::Command 7.32
ExtUtils::Install 2.06
ExtUtils::MakeMaker 7.32
ExtUtils::Manifest 1.70
ExtUtils::ParseXS 3.28
File::Spec 3.56_02
JSON n/a
JSON::PP 2.27300_01
Module::Build n/a
Module::Signature n/a
Parse::CPAN::Meta 1.4414_001
Test::Harness 3.35_01
Test::More 1.001014
YAML 1.24
YAML::Syck 1.30
version 0.9909
--
Summary of my perl5 (revision 5 version 22 subversion 4) configuration:
Platform:
osname=solaris, osvers=2.11, archname=i86pc-solaris-thread-multi
uname='sunos republic31 5.11 11.3 i86pc i386 i86pc '
config_args='-de -Dprefix=/export/home/njh/perl5/perlbrew/perls/perl-5.22.4-thread-multi-ld -Dusedevel -Dusethreads -Duselongdouble -Dusemultiplicity -Accflags= -Aeval:scriptdir=/export/home/njh/perl5/perlbrew/perls/perl-5.22.4-thread-multi-ld/bin'
hint=recommended, useposix=true, d_sigaction=define
useithreads=define, usemultiplicity=define
use64bitint=undef, use64bitall=undef, uselongdouble=undef
usemymalloc=n, bincompat5005=undef
Compiler:
cc='cc', ccflags ='-D_REENTRANT -fwrapv -fno-strict-aliasing -pipe -fstack-protector -I/usr/gnu/include -D_LARGEFILE_SOURCE -D_FILE_OFFSET_BITS=64 -D_FORTIFY_SOURCE=2 -DPERL_USE_SAFE_PUTENV',
optimize='-O',
cppflags='-D_REENTRANT -fwrapv -fno-strict-aliasing -pipe -fstack-protector -I/usr/gnu/include'
ccversion='', gccversion='4.8.2', gccosandvers=''
intsize=4, longsize=4, ptrsize=4, doublesize=8, byteorder=1234, doublekind=3
d_longlong=define, longlongsize=8, d_longdbl=define, longdblsize=12, longdblkind=3
ivtype='long', ivsize=4, nvtype='double', nvsize=8, Off_t='off_t', lseeksize=8
alignbytes=4, prototype=define
Linker and Libraries:
ld='cc', ldflags =' -fstack-protector -L/usr/gnu/lib '
libpth=/usr/gcc/4.8/lib /usr/gcc/4.8/lib/gcc/i386-pc-solaris2.11/4.8.2/include-fixed /usr/lib /usr/gnu/lib /usr/ccs/lib
libs=-lpthread -lsocket -lnsl -lgdbm -ldb -ldl -lm -lc
perllibs=-lpthread -lsocket -lnsl -ldl -lm -lc
libc=/lib/libc.so, so=so, useshrplib=true, libperl=libperl.so
gnulibc_version=''
Dynamic Linking:
dlsrc=dl_dlopen.xs, dlext=so, d_dlsymun=undef, ccdlflags=' -R /export/home/njh/perl5/perlbrew/perls/perl-5.22.4-thread-multi-ld/lib/5.22.4/i86pc-solaris-thread-multi/CORE'
cccdlflags='-fPIC', lddlflags='-shared -L/usr/gnu/lib -fstack-protector'
Characteristics of this binary (from libperl):
Compile-time options: HAS_TIMES MULTIPLICITY PERLIO_LAYERS
PERL_DONT_CREATE_GVSV
PERL_HASH_FUNC_ONE_AT_A_TIME_HARD
PERL_IMPLICIT_CONTEXT PERL_MALLOC_WRAP
PERL_NEW_COPY_ON_WRITE PERL_PRESERVE_IVUV
PERL_USE_DEVEL PERL_USE_SAFE_PUTENV USE_ITHREADS
USE_LARGE_FILES USE_LOCALE USE_LOCALE_COLLATE
USE_LOCALE_CTYPE USE_LOCALE_NUMERIC USE_LOCALE_TIME
USE_PERLIO USE_PERL_ATOF USE_REENTRANT_API
Locally applied patches:
Devel::PatchPerl 1.48
Built under solaris
Compiled at Feb 6 2018 11:11:47
%ENV:
PERL5LIB="/export/home/njh/.cpan/build/File-Versions-0.08-0/blib/arch:/export/home/njh/.cpan/build/File-Versions-0.08-0/blib/lib:/export/home/njh/.cpan/build/File-Slurper-0.012-0/blib/arch:/export/home/njh/.cpan/build/File-Slurper-0.012-0/blib/lib:/export/home/njh/.cpan/build/Test-Warnings-0.026-9/blib/arch:/export/home/njh/.cpan/build/Test-Warnings-0.026-9/blib/lib"
PERL5OPT=""
PERL5_CPANPLUS_IS_RUNNING="8503"
PERL5_CPAN_IS_RUNNING="8503"
PERLBREW_HOME="/export/home/njh/.perlbrew"
PERLBREW_MANPATH="/export/home/njh/perl5/perlbrew/perls/perl-5.22.4-thread-multi-ld/man"
PERLBREW_PATH="/export/home/njh/perl5/perlbrew/bin:/export/home/njh/perl5/perlbrew/perls/perl-5.22.4-thread-multi-ld/bin"
PERLBREW_PERL="perl-5.22.4-thread-multi-ld"
PERLBREW_ROOT="/export/home/njh/perl5/perlbrew"
PERLBREW_SHELLRC_VERSION="0.82"
PERLBREW_VERSION="0.82"
@INC:
/export/home/njh/.cpan/build/File-Versions-0.08-0/blib/arch
/export/home/njh/.cpan/build/File-Versions-0.08-0/blib/lib
/export/home/njh/.cpan/build/File-Slurper-0.012-0/blib/arch
/export/home/njh/.cpan/build/File-Slurper-0.012-0/blib/lib
/export/home/njh/.cpan/build/Test-Warnings-0.026-9/blib/arch
/export/home/njh/.cpan/build/Test-Warnings-0.026-9/blib/lib
/export/home/njh/perl5/perlbrew/perls/perl-5.22.4-thread-multi-ld/lib/site_perl/5.22.4/i86pc-solaris-thread-multi
/export/home/njh/perl5/perlbrew/perls/perl-5.22.4-thread-multi-ld/lib/site_perl/5.22.4
/export/home/njh/perl5/perlbrew/perls/perl-5.22.4-thread-multi-ld/lib/5.22.4/i86pc-solaris-thread-multi
/export/home/njh/perl5/perlbrew/perls/perl-5.22.4-thread-multi-ld/lib/5.22.4
.