App-perlbrew v0.93 Perl 5 v5.32.0 x86_64-linux

Status
Pass
From
Slaven Rezić
Dist
App-perlbrew v0.93
Platform
Perl 5 v5.32.0 x86_64-linux
Date
2021-11-22 14:59:30
ID
cb5d1958-4ba4-11ec-bf7c-f01d1f24ea8f
This distribution has been tested as part of the CPAN Testers
project, supporting the Perl programming language.  See
http://wiki.cpantesters.org/ for more information or email
questions to cpan-testers-discuss@perl.org


--
Dear Liu Kang Min,

This is a computer-generated report for App-perlbrew-0.93
on perl 5.32.0, created by CPAN-Reporter-1.2018.

Thank you for uploading your work to CPAN.  Congratulations!
All tests were successful.

Sections of this report:

    * Tester comments
    * Program output
    * Prerequisites
    * Environment and other context

------------------------------
TESTER COMMENTS
------------------------------

Additional comments from tester:

none provided

------------------------------
PROGRAM OUTPUT
------------------------------

Output from './Build test':

t/00.load.t ............................ ok
t/01.options.t ......................... ok
t/02.format_perl_version.t ............. ok
t/03.test_get_available_versions.t ..... ok
t/04.find_available_perls.t ............ ok
t/05.get_current_perl.t ................ ok
t/06.installed_perls.t ................. skipped: No perl installation under PERLBREW_ROOT
t/07.argv.t ............................ ok
t/08.error_available.t ................. ok
t/08.error_install.t ................... ok
t/08.error_install_blead.t ............. ok
t/08.error_install_cpanm.t ............. ok
t/09.exit_status.t ..................... ok
t/10.resolve.t ......................... ok
t/11.editdist.t ........................ ok
t/11.root_from_arg.t ................... ok
t/12.destdir.t ......................... ok
t/12.sitecustomize.t ................... ok
t/13.perl_release.t .................... ok
t/14.perl_version_parsing.t ............ ok
# /var/tmp/cpansmoker-1023/2021112215/pQpgplyqoS/build/test/test
t/15.no-reuse-build-dir.t .............. ok
t/16.release-detail.t .................. ok
t/17.release-detail-cperl-local.t ...... ok
t/17.release-detail-cperl-remote.t ..... skipped: These tests send HTTP requests. Set env TEST_LIVE=1 to really run them.
t/18.release-detail-perl-local.t ....... ok
t/18.release-detail-perl-remote.t ...... skipped: These tests send HTTP requests. Set env TEST_LIVE=1 to really run them.
t/app-perlbrew-path-installation.t ..... ok
t/app-perlbrew-path.t .................. ok
t/bashrc_content.t ..................... ok
t/builddir.t ........................... ok
t/command-alias.t ...................... ok
t/command-available.t .................. ok
t/command-clone-modules.t .............. ok
t/command-compgen.t .................... ok
t/command-display-rc.t ................. ok
Attempting to create directory /var/tmp/cpansmoker-1023/2021112215/L1kipvlpjs/libs/perl-5.14.1@nobita
t/command-env.t ........................ ok
sort (...) interpreted as function at t/command-exec.t line 283.
sort (...) interpreted as function at t/command-exec.t line 305.
Command [perl -E 'somesub 42'] terminated with exit code 7 ($? = 1792) under the following perl environment:
format_info_output_value
Command [perl -E 'say 42'] terminated with exit code 3 ($? = 768) under the following perl environment:
Command [perl -E 'say 42'] terminated with exit code 3 ($? = 768) under the following perl environment:
Command [perl -E 'say 42'] terminated with exit code 3 ($? = 768) under the following perl environment:
Command [perl -E 'say 42'] terminated with exit code 255 ($? = -1) under the following perl environment:
Command [perl -E 'say 42'] terminated with exit code 7 ($? = 1792) under the following perl environment:
t/command-exec.t ....................... ok
t/command-help.t ....................... ok
t/command-info.t ....................... ok
t/command-install-cpanm.t .............. ok
t/command-install-from-archive.t ....... ok
t/command-install-patchperl.t .......... ok
t/command-install.t .................... ok
t/command-lib.t ........................ ok
t/command-list.t ....................... ok
t/current_perl.t ....................... ok
t/current_shell.t ...................... ok
t/do_system.t .......................... ok
t/failure-command-install-cpanm.t ...... ok
t/failure-command-install-patchperl.t .. ok
t/home.t ............................... ok
t/http-program-control.t ............... ok
# PATH=/home/cpansand/.cpan/build/2021112215/App-perlbrew-0.93-4/t/fake-bin:/usr/local/bin:/usr/bin:/bin:/usr/local/sbin:/usr/sbin:/sbin:/home/cpansand/bin/linux-gnu:/home/cpansand/bin/sh:/home/cpansand/bin:/usr/games:/home/cpansand/devel:/home/eserte/src/srezic-misc/scripts
# curl = /home/cpansand/.cpan/build/2021112215/App-perlbrew-0.93-4/t/fake-bin/curl
t/http-ua-detect-non-curl.t ............ ok
t/http-ua-detect.t ..................... ok
t/http.t ............................... skipped: (no reason given)
t/installation-perlbrew.t .............. ok
t/installation.t ....................... ok
t/installation2.t ...................... ok
t/installation3.t ...................... ok
t/list_modules.t ....................... ok
t/unit-files-are-the-same.t ............ ok
All tests successful.
Files=61, Tests=418, 11 wallclock secs ( 0.27 usr  0.09 sys +  9.04 cusr  1.44 csys = 10.84 CPU)
Result: PASS

------------------------------
PREREQUISITES
------------------------------

Prerequisite modules loaded:

requires:

    Module               Need       Have      
    -------------------- ---------- ----------
    Capture::Tiny        0.48       0.48      
    CPAN::Perl::Releases 5.20210620 5.20211120
    Devel::PatchPerl     2.08       2.08      
    ExtUtils::MakeMaker  7.22       7.62      
    File::Copy           0          2.34      
    File::Temp           0.2304     0.2309    
    JSON::PP             0          4.06      
    local::lib           2.000014   2.000024  
    Pod::Parser          1.63       1.63      
    Pod::Usage           1.68       1.69      

build_requires:

    Module               Need       Have      
    -------------------- ---------- ----------
    File::Which          1.21       1.23      
    IO::All              0.51       0.87      
    Path::Class          0.33       0.37      
    Test::Exception      0.32       0.43      
    Test::More           1.001002   1.302188  
    Test::NoWarnings     1.04       1.04      
    Test::Output         1.03       1.031     
    Test::Simple         1.001002   1.302188  
    Test::Spec           0.49       0.54      
    Test::TempDir::Tiny  0.016      0.018     

configure_requires:

    Module               Need       Have      
    -------------------- ---------- ----------
    Module::Build::Tiny  0.034      0.039     


------------------------------
ENVIRONMENT AND OTHER CONTEXT
------------------------------

Environment variables:

    LANG = en_US.UTF-8
    PATH = /usr/local/bin:/usr/bin:/bin:/usr/local/sbin:/usr/sbin:/sbin:/home/cpansand/bin/linux-gnu:/home/cpansand/bin/sh:/home/cpansand/bin:/usr/games:/home/cpansand/devel:/home/eserte/src/srezic-misc/scripts
    PERL5LIB = /home/cpansand/.cpan/build/2021112215/CPAN-Perl-Releases-5.20211120-3/blib/arch:/home/cpansand/.cpan/build/2021112215/CPAN-Perl-Releases-5.20211120-3/blib/lib
    PERL5OPT = 
    PERL5_CPANPLUS_IS_RUNNING = 24004
    PERL5_CPAN_IS_RUNNING = 24004
    PERL5_CPAN_IS_RUNNING_IN_RECURSION = 22073,24004
    PERLDOC = -MPod::Perldoc::ToTextOverstrike
    PERL_BATCH = yes
    PERL_CANARY_STABILITY_NOPROMPT = 1
    PERL_CPAN_REPORTER_CONFIG = /var/tmp/cpansmoker-1023/2021112215/cpanreporter_000_config.ini
    PERL_EXTUTILS_AUTOINSTALL = --defaultdeps
    PERL_USE_UNSAFE_INC = 1
    SHELL = /usr/bin/zsh
    TERM = screen
    TMPDIR = /var/tmp/cpansmoker-1023/2021112215

Perl special variables (and OS-specific diagnostics, for MSWin32):

    $^X = /opt/perl-5.32.0/bin/perl
    $UID/$EUID = 1023 / 1023
    $GID = 1023 1023
    $EGID = 1023 1023

Perl module toolchain versions installed:

    Module              Have    
    ------------------- --------
    CPAN                2.27    
    CPAN::Meta          2.150010
    Cwd                 3.78    
    ExtUtils::CBuilder  0.280234
    ExtUtils::Command   7.62    
    ExtUtils::Install   2.20    
    ExtUtils::MakeMaker 7.62    
    ExtUtils::Manifest  1.72    
    ExtUtils::ParseXS   3.40    
    File::Spec          3.78    
    JSON                4.03    
    JSON::PP            4.06    
    Module::Build       0.4231  
    Module::Signature   0.87    
    Parse::CPAN::Meta   2.150010
    Test::Harness       3.42    
    Test::More          1.302188
    YAML                1.30    
    YAML::Syck          1.32    
    version             0.9927  


--

Summary of my perl5 (revision 5 version 32 subversion 0) configuration:
   
  Platform:
    osname=linux
    osvers=3.10.0-1127.10.1.el7.x86_64
    archname=x86_64-linux
    uname='linux cloud3.bbbike.org 3.10.0-1127.10.1.el7.x86_64 #1 smp wed jun 3 14:28:03 utc 2020 x86_64 x86_64 x86_64 gnulinux '
    config_args='-ds -e -Dprefix=/opt/perl-5.32.0 -Dcf_email=srezic@cpan.org'
    hint=recommended
    useposix=true
    d_sigaction=define
    useithreads=undef
    usemultiplicity=undef
    use64bitint=define
    use64bitall=define
    uselongdouble=undef
    usemymalloc=n
    default_inc_excludes_dot=define
    bincompat5005=undef
  Compiler:
    cc='cc'
    ccflags ='-fwrapv -fno-strict-aliasing -pipe -fstack-protector-strong -I/usr/local/include -D_LARGEFILE_SOURCE -D_FILE_OFFSET_BITS=64 -D_FORTIFY_SOURCE=2'
    optimize='-O2'
    cppflags='-fwrapv -fno-strict-aliasing -pipe -fstack-protector-strong -I/usr/local/include'
    ccversion=''
    gccversion='4.8.5 20150623 (Red Hat 4.8.5-39)'
    gccosandvers=''
    intsize=4
    longsize=8
    ptrsize=8
    doublesize=8
    byteorder=12345678
    doublekind=3
    d_longlong=define
    longlongsize=8
    d_longdbl=define
    longdblsize=16
    longdblkind=3
    ivtype='long'
    ivsize=8
    nvtype='double'
    nvsize=8
    Off_t='off_t'
    lseeksize=8
    alignbytes=8
    prototype=define
  Linker and Libraries:
    ld='cc'
    ldflags =' -fstack-protector-strong -L/usr/local/lib'
    libpth=/usr/local/lib /usr/lib /lib/../lib64 /usr/lib/../lib64 /lib /lib64 /usr/lib64 /usr/local/lib64
    libs=-lpthread -lnsl -lgdbm -ldb -ldl -lm -lcrypt -lutil -lc -lgdbm_compat
    perllibs=-lpthread -lnsl -ldl -lm -lcrypt -lutil -lc
    libc=libc-2.17.so
    so=so
    useshrplib=false
    libperl=libperl.a
    gnulibc_version='2.17'
  Dynamic Linking:
    dlsrc=dl_dlopen.xs
    dlext=so
    d_dlsymun=undef
    ccdlflags='-Wl,-E'
    cccdlflags='-fPIC'
    lddlflags='-shared -O2 -L/usr/local/lib -fstack-protector-strong'


Characteristics of this binary (from libperl): 
  Compile-time options:
    HAS_TIMES
    PERLIO_LAYERS
    PERL_COPY_ON_WRITE
    PERL_DONT_CREATE_GVSV
    PERL_MALLOC_WRAP
    PERL_OP_PARENT
    PERL_PRESERVE_IVUV
    USE_64_BIT_ALL
    USE_64_BIT_INT
    USE_LARGE_FILES
    USE_LOCALE
    USE_LOCALE_COLLATE
    USE_LOCALE_CTYPE
    USE_LOCALE_NUMERIC
    USE_LOCALE_TIME
    USE_PERLIO
    USE_PERL_ATOF
  Built under linux
  Compiled at Jun 21 2020 09:16:01
  %ENV:
    PERL5LIB="/home/cpansand/.cpan/build/2021112215/CPAN-Perl-Releases-5.20211120-3/blib/arch:/home/cpansand/.cpan/build/2021112215/CPAN-Perl-Releases-5.20211120-3/blib/lib"
    PERL5OPT=""
    PERL5_CPANPLUS_IS_RUNNING="24004"
    PERL5_CPAN_IS_RUNNING="24004"
    PERL5_CPAN_IS_RUNNING_IN_RECURSION="22073,24004"
    PERLDOC="-MPod::Perldoc::ToTextOverstrike"
    PERL_BATCH="yes"
    PERL_CANARY_STABILITY_NOPROMPT="1"
    PERL_CPAN_REPORTER_CONFIG="/var/tmp/cpansmoker-1023/2021112215/cpanreporter_000_config.ini"
    PERL_EXTUTILS_AUTOINSTALL="--defaultdeps"
    PERL_USE_UNSAFE_INC="1"
  @INC:
    /home/cpansand/.cpan/build/2021112215/CPAN-Perl-Releases-5.20211120-3/blib/arch
    /home/cpansand/.cpan/build/2021112215/CPAN-Perl-Releases-5.20211120-3/blib/lib
    /opt/perl-5.32.0/lib/site_perl/5.32.0/x86_64-linux
    /opt/perl-5.32.0/lib/site_perl/5.32.0
    /opt/perl-5.32.0/lib/5.32.0/x86_64-linux
    /opt/perl-5.32.0/lib/5.32.0
    .