Back
From: metabase:user:30f4dfbe-2aae-11df-837a-5e0a49663a4f
Subject: PASS Devel-CheckLib-1.11 v5.22.1 GNU/Linux
Date: 2017-07-16T18:51:35Z
This distribution has been tested as part of the CPAN Testers
project, supporting the Perl programming language. See
http://wiki.cpantesters.org/ for more information or email
questions to cpan-testers-discuss@perl.org
--
Dear Yasuhiro Matsumoto,
This is a computer-generated report for Devel-CheckLib-1.11
on perl 5.22.1, created by CPAN-Reporter-1.2018.
Thank you for uploading your work to CPAN. Congratulations!
All tests were successful.
Sections of this report:
* Tester comments
* Program output
* Prerequisites
* Environment and other context
------------------------------
TESTER COMMENTS
------------------------------
Additional comments from tester:
this report is from an automated smoke testing program
and was not reviewed by a human for accuracy
------------------------------
PROGRAM OUTPUT
------------------------------
Output from '/usr/bin/make test':
PERL_DL_NONLAZY=1 "/home/njh/perl5/perlbrew/perls/perl-5.22.1/bin/perl" "-MExtUtils::Command::MM" "-MTest::Harness" "-e" "undef *Test::Harness::Switches; test_harness(0, 'blib/lib', 'blib/arch')" t/*.t
Name "Config::STORE" used only once: possible typo at t/bad-single-word-compiler.t line 18.
t/00-load.t ................... ok
t/bad-single-word-compiler.t .. ok
t/analyze-binary.t ............ ok
t/dash-l-libs.t ............... ok
t/exit_with_message.t ......... ok
t/cmdline-LIBS-INC.t .......... ok
t/flags.t ..................... ok
t/custom-function.t ........... ok
Name "Config::STORE" used only once: possible typo at t/multi-word-compiler.t line 18.
t/multi-word-compiler.t ....... ok
t/headers.t ................... ok
t/found.t ..................... ok
t/not_found.t ................. ok
All tests successful.
Files=12, Tests=42, 1 wallclock secs ( 0.05 usr 0.01 sys + 2.18 cusr 0.55 csys = 2.79 CPU)
Result: PASS
------------------------------
PREREQUISITES
------------------------------
Prerequisite modules loaded:
requires:
Module Need Have
------------------- ------- --------
Exporter 0 5.72
File::Spec 0 3.62
File::Temp 0.16 0.2304
perl 5.00405 5.022001
build_requires:
Module Need Have
------------------- ------- --------
IO::CaptureOutput 1.0801 1.1104
Mock::Config 0.02 0.03
Test::More 0.62 1.302075
configure_requires:
Module Need Have
------------------- ------- --------
ExtUtils::MakeMaker 0 7.22
------------------------------
ENVIRONMENT AND OTHER CONTEXT
------------------------------
Environment variables:
AUTOMATED_TESTING = 1
HARNESS_OPTIONS = j4
LANG = en_GB.UTF-8
LANGUAGE = en_GB:en
PATH = /home/njh/perl5/perlbrew/bin:/home/njh/perl5/perlbrew/perls/perl-5.22.1/bin:/home/njh/perl5/perlbrew/bin:/usr/bin:/bin
PERL5LIB = /home/njh/.cpan/build/Mock-Config-0.03-21/blib/arch:/home/njh/.cpan/build/Mock-Config-0.03-21/blib/lib:/home/njh/.cpan/build/Template-Lace-0.008-23/blib/arch:/home/njh/.cpan/build/Template-Lace-0.008-23/blib/lib:/home/njh/.cpan/build/UUID-Tiny-1.04-22/blib/arch:/home/njh/.cpan/build/UUID-Tiny-1.04-22/blib/lib:/home/njh/.cpan/build/Moo-2.003002-66/blib/arch:/home/njh/.cpan/build/Moo-2.003002-66/blib/lib:/home/njh/.cpan/build/Sub-Quote-2.004000-60/blib/arch:/home/njh/.cpan/build/Sub-Quote-2.004000-60/blib/lib:/home/njh/.cpan/build/Mojo-DOM58-1.002-23/blib/arch:/home/njh/.cpan/build/Mojo-DOM58-1.002-23/blib/lib
PERL5OPT =
PERL5_CPANPLUS_IS_RUNNING = 6183
PERL5_CPAN_IS_RUNNING = 6183
PERLBREW_BASHRC_VERSION = 0.73
PERLBREW_HOME = /home/njh/.perlbrew
PERLBREW_LIB =
PERLBREW_MANPATH = /home/njh/perl5/perlbrew/perls/perl-5.22.1/man
PERLBREW_PATH = /home/njh/perl5/perlbrew/bin:/home/njh/perl5/perlbrew/perls/perl-5.22.1/bin
PERLBREW_PERL = perl-5.22.1
PERLBREW_ROOT = /home/njh/perl5/perlbrew
PERLBREW_VERSION = 0.73
PERL_LOCAL_LIB_ROOT =
SHELL = /bin/sh
Perl special variables (and OS-specific diagnostics, for MSWin32):
$^X = /home/njh/perl5/perlbrew/perls/perl-5.22.1/bin/perl
$UID/$EUID = 1000 / 1000
$GID = 1000 4 24 25 29 30 44 46 108 112 1000
$EGID = 1000 4 24 25 29 30 44 46 108 112 1000
Perl module toolchain versions installed:
Module Have
------------------- --------
CPAN 2.14
CPAN::Meta 2.150001
Cwd 3.62
ExtUtils::CBuilder 0.280224
ExtUtils::Command 7.22
ExtUtils::Install 2.04
ExtUtils::MakeMaker 7.22
ExtUtils::Manifest 1.70
ExtUtils::ParseXS 3.28
File::Spec 3.62
JSON 2.93
JSON::PP 2.27300
Module::Build 0.4218
Module::Signature n/a
Parse::CPAN::Meta 1.4422
Test::Harness 3.36
Test::More 1.302075
YAML 1.18
YAML::Syck 1.29
version 0.9909
--
Summary of my perl5 (revision 5 version 22 subversion 1) configuration:
Platform:
osname=linux, osvers=4.2.0-1-amd64, archname=x86_64-linux-thread-multi
uname='linux nigelhorne.force9.co.uk 4.2.0-1-amd64 #1 smp debian 4.2.6-1 (2015-11-10) x86_64 gnulinux '
config_args='-de -Dprefix=/home/njh/perl5/perlbrew/perls/perl-5.22.1 -Duseithreads -Dusemultiplicity -Dusedevel -Accflags= -Aeval:scriptdir=/home/njh/perl5/perlbrew/perls/perl-5.22.1/bin'
hint=recommended, useposix=true, d_sigaction=define
useithreads=define, usemultiplicity=define
use64bitint=define, use64bitall=define, uselongdouble=undef
usemymalloc=n, bincompat5005=undef
Compiler:
cc='cc', ccflags ='-D_REENTRANT -D_GNU_SOURCE -fwrapv -fno-strict-aliasing -pipe -fstack-protector-strong -I/usr/local/include -D_LARGEFILE_SOURCE -D_FILE_OFFSET_BITS=64',
optimize='-O2',
cppflags='-D_REENTRANT -D_GNU_SOURCE -fwrapv -fno-strict-aliasing -pipe -fstack-protector-strong -I/usr/local/include'
ccversion='', gccversion='5.3.1 20151207', gccosandvers=''
intsize=4, longsize=8, ptrsize=8, doublesize=8, byteorder=12345678, doublekind=3
d_longlong=define, longlongsize=8, d_longdbl=define, longdblsize=16, longdblkind=3
ivtype='long', ivsize=8, nvtype='double', nvsize=8, Off_t='off_t', lseeksize=8
alignbytes=8, prototype=define
Linker and Libraries:
ld='cc', ldflags =' -fstack-protector-strong -L/usr/local/lib'
libpth=/usr/local/lib /usr/lib/gcc/x86_64-linux-gnu/5/include-fixed /usr/include/x86_64-linux-gnu /usr/lib /lib/x86_64-linux-gnu /lib/../lib /usr/lib/x86_64-linux-gnu /usr/lib/../lib /lib
libs=-lpthread -lnsl -lgdbm -ldb -ldl -lm -lcrypt -lutil -lc -lgdbm_compat
perllibs=-lpthread -lnsl -ldl -lm -lcrypt -lutil -lc
libc=libc-2.21.so, so=so, useshrplib=false, libperl=libperl.a
gnulibc_version='2.21'
Dynamic Linking:
dlsrc=dl_dlopen.xs, dlext=so, d_dlsymun=undef, ccdlflags='-Wl,-E'
cccdlflags='-fPIC', lddlflags='-shared -O2 -L/usr/local/lib -fstack-protector-strong'
Characteristics of this binary (from libperl):
Compile-time options: HAS_TIMES MULTIPLICITY PERLIO_LAYERS
PERL_DONT_CREATE_GVSV
PERL_HASH_FUNC_ONE_AT_A_TIME_HARD
PERL_IMPLICIT_CONTEXT PERL_MALLOC_WRAP
PERL_NEW_COPY_ON_WRITE PERL_PRESERVE_IVUV
PERL_USE_DEVEL USE_64_BIT_ALL USE_64_BIT_INT
USE_ITHREADS USE_LARGE_FILES USE_LOCALE
USE_LOCALE_COLLATE USE_LOCALE_CTYPE
USE_LOCALE_NUMERIC USE_LOCALE_TIME USE_PERLIO
USE_PERL_ATOF USE_REENTRANT_API
Built under linux
Compiled at Dec 20 2015 00:32:13
%ENV:
PERL5LIB="/home/njh/.cpan/build/Mock-Config-0.03-21/blib/arch:/home/njh/.cpan/build/Mock-Config-0.03-21/blib/lib:/home/njh/.cpan/build/Template-Lace-0.008-23/blib/arch:/home/njh/.cpan/build/Template-Lace-0.008-23/blib/lib:/home/njh/.cpan/build/UUID-Tiny-1.04-22/blib/arch:/home/njh/.cpan/build/UUID-Tiny-1.04-22/blib/lib:/home/njh/.cpan/build/Moo-2.003002-66/blib/arch:/home/njh/.cpan/build/Moo-2.003002-66/blib/lib:/home/njh/.cpan/build/Sub-Quote-2.004000-60/blib/arch:/home/njh/.cpan/build/Sub-Quote-2.004000-60/blib/lib:/home/njh/.cpan/build/Mojo-DOM58-1.002-23/blib/arch:/home/njh/.cpan/build/Mojo-DOM58-1.002-23/blib/lib"
PERL5OPT=""
PERL5_CPANPLUS_IS_RUNNING="6183"
PERL5_CPAN_IS_RUNNING="6183"
PERLBREW_BASHRC_VERSION="0.73"
PERLBREW_HOME="/home/njh/.perlbrew"
PERLBREW_LIB=""
PERLBREW_MANPATH="/home/njh/perl5/perlbrew/perls/perl-5.22.1/man"
PERLBREW_PATH="/home/njh/perl5/perlbrew/bin:/home/njh/perl5/perlbrew/perls/perl-5.22.1/bin"
PERLBREW_PERL="perl-5.22.1"
PERLBREW_ROOT="/home/njh/perl5/perlbrew"
PERLBREW_VERSION="0.73"
PERL_LOCAL_LIB_ROOT=""
@INC:
/home/njh/.cpan/build/Mock-Config-0.03-21/blib/arch
/home/njh/.cpan/build/Mock-Config-0.03-21/blib/lib
/home/njh/.cpan/build/Template-Lace-0.008-23/blib/arch
/home/njh/.cpan/build/Template-Lace-0.008-23/blib/lib
/home/njh/.cpan/build/UUID-Tiny-1.04-22/blib/arch
/home/njh/.cpan/build/UUID-Tiny-1.04-22/blib/lib
/home/njh/.cpan/build/Moo-2.003002-66/blib/arch
/home/njh/.cpan/build/Moo-2.003002-66/blib/lib
/home/njh/.cpan/build/Sub-Quote-2.004000-60/blib/arch
/home/njh/.cpan/build/Sub-Quote-2.004000-60/blib/lib
/home/njh/.cpan/build/Mojo-DOM58-1.002-23/blib/arch
/home/njh/.cpan/build/Mojo-DOM58-1.002-23/blib/lib
/home/njh/perl5/perlbrew/perls/perl-5.22.1/lib/site_perl/5.22.1/x86_64-linux-thread-multi
/home/njh/perl5/perlbrew/perls/perl-5.22.1/lib/site_perl/5.22.1
/home/njh/perl5/perlbrew/perls/perl-5.22.1/lib/5.22.1/x86_64-linux-thread-multi
/home/njh/perl5/perlbrew/perls/perl-5.22.1/lib/5.22.1
.