Report for JavaScript-Writer-0.3.1

Back
From: metabase:user:320bfe00-2aae-11df-837a-5e0a49663a4f
Subject: PASS JavaScript-Writer-0.3.1 v5.13.10 GNU/Linux
Date: 2011-03-14T14:10:18Z

This distribution has been tested as part of the CPAN Testers
project, supporting the Perl programming language.  See
http://wiki.cpantesters.org/ for more information or email
questions to cpan-testers-discuss@perl.org


--
Dear Liu Kang Min,

This is a computer-generated report for JavaScript-Writer-0.3.1
on perl 5.13.10, created by CPAN-Reporter-1.1902.

Thank you for uploading your work to CPAN.  Congratulations!
All tests were successful.

Sections of this report:

    * Tester comments
    * Program output
    * Prerequisites
    * Environment and other context

------------------------------
TESTER COMMENTS
------------------------------

Additional comments from tester:

none provided

------------------------------
PROGRAM OUTPUT
------------------------------

Output from '/usr/bin/make test':

make[1]: Entering directory `/home/sand/.cpan/build/JavaScript-Writer-0.3.1-mF7k93'
PERL_DL_NONLAZY=1 /home/src/perl/repoperls/installed-perls/perl/v5.13.10-419-g0f0aa27/bin/perl "-MExtUtils::Command::MM" "-e" "test_harness(0, 'inc', 'blib/lib', 'blib/arch')" t/*.t
# Testing JavaScript::Writer 0.3.1
t/00.load.t ............. ok
t/01.simple.t ........... ok
t/02.overload.t ......... ok
t/03.autoload.t ......... ok
t/04.tie.t .............. ok
t/05.object.t ........... ok
t/06.call_chain.t ....... ok
t/07.function_writer.t .. ok
t/08.var_writer.t ....... ok
t/09.while.t ............ ok
t/10.helper.t ........... ok
t/100.jquery.t .......... ok
t/11.closure.t .......... ok
t/12.var.t .............. ok
t/13.obj_as_string.t .... ok
t/200.new_wave.t ........ ok
t/50.function.t ......... ok
t/500.je.t .............. ok
t/51.control.t .......... ok
All tests successful.
Files=19, Tests=74,  3 wallclock secs ( 0.07 usr  0.04 sys +  1.47 cusr  0.24 csys =  1.82 CPU)
Result: PASS
make[1]: Leaving directory `/home/sand/.cpan/build/JavaScript-Writer-0.3.1-mF7k93'

------------------------------
PREREQUISITES
------------------------------

Prerequisite modules loaded:

requires:

    Module                Need  Have    
    --------------------- ----- --------
    Class::Accessor::Fast 0     0.34    
    JSON::Syck            0     0.40    
    perl                  5.008 5.013010
    self                  0.32  0.34    

build_requires:

    Module                Need  Have    
    --------------------- ----- --------
    ExtUtils::MakeMaker   6.42  6.57_05 
    JE                    0.021 0.055   
    Test::Class           0     0.36    
    Test::More            0.42  0.98    

configure_requires:

    Module                Need  Have    
    --------------------- ----- --------
    ExtUtils::MakeMaker   6.42  6.57_05 


------------------------------
ENVIRONMENT AND OTHER CONTEXT
------------------------------

Environment variables:

    LANG = en_US.UTF-8
    LC_TIME = de_DE.utf8
    PATH = /home/sand/bin:/usr/local/bin:/usr/bin:/bin:/usr/bin/X11:/usr/games:/usr/local/perl/bin:/usr/X11/bin:/sbin:/usr/sbin
    PERL5LIB = /home/sand/.cpan/build/WAP-wbxml-1.12-8oKd6i/blib/arch:/home/sand/.cpan/build/WAP-wbxml-1.12-8oKd6i/blib/lib:/home/sand/.cpan/build/ProjectBuilder-0.11.2-N9Wybh/blib/arch:/home/sand/.cpan/build/ProjectBuilder-0.11.2-N9Wybh/blib/lib:/home/sand/.cpan/build/Mail-SpamAssassin-2.43-_MUtPL/blib/arch:/home/sand/.cpan/build/Mail-SpamAssassin-2.43-_MUtPL/blib/lib
    PERL5OPT = 
    PERL5_CPANPLUS_IS_RUNNING = 5984
    PERL5_CPAN_IS_RUNNING = 5984
    SHELL = /usr/bin/zsh
    TERM = screen

Perl special variables (and OS-specific diagnostics, for MSWin32):

    $^X = /home/src/perl/repoperls/installed-perls/perl/v5.13.10-419-g0f0aa27/bin/perl
    $UID/$EUID = 1001 / 1001
    $GID = 1001 1001
    $EGID = 1001 1001

Perl module toolchain versions installed:

    Module              Have    
    ------------------- --------
    CPAN                1.9600  
    Cwd                 3.36    
    ExtUtils::CBuilder  0.280202
    ExtUtils::Command   1.17    
    ExtUtils::Install   1.56    
    ExtUtils::MakeMaker 6.57_05 
    ExtUtils::Manifest  1.58    
    ExtUtils::ParseXS   2.2209  
    File::Spec          3.33    
    Module::Build       0.3800  
    Module::Signature   0.66    
    Test::Harness       3.23    
    Test::More          0.98    
    YAML                n/a     
    YAML::Syck          1.17    
    version             0.88    


--

Summary of my perl5 (revision 5 version 13 subversion 10) configuration:
  Commit id: 0f0aa27e84651bcff0f03646d2b397fa9f3ca003
  Platform:
    osname=linux, osvers=2.6.32-5-amd64, archname=x86_64-linux
    uname='linux k81 2.6.32-5-amd64 #1 smp wed jan 12 03:40:32 utc 2011 x86_64 gnulinux '
    config_args='-Dprefix=/home/src/perl/repoperls/installed-perls/perl/v5.13.10-419-g0f0aa27 -Dinstallusrbinperl=n -Uversiononly -Dusedevel -des -Ui_db -Uuseithreads -Uuselongdouble -DDEBUGGING=-g'
    hint=recommended, useposix=true, d_sigaction=define
    useithreads=undef, usemultiplicity=undef
    useperlio=define, d_sfio=undef, uselargefiles=define, usesocks=undef
    use64bitint=define, use64bitall=define, uselongdouble=undef
    usemymalloc=n, bincompat5005=undef
  Compiler:
    cc='cc', ccflags ='-fno-strict-aliasing -pipe -fstack-protector -I/usr/local/include -D_LARGEFILE_SOURCE -D_FILE_OFFSET_BITS=64',
    optimize='-O2 -g',
    cppflags='-fno-strict-aliasing -pipe -fstack-protector -I/usr/local/include'
    ccversion='', gccversion='4.4.5', gccosandvers=''
    intsize=4, longsize=8, ptrsize=8, doublesize=8, byteorder=12345678
    d_longlong=define, longlongsize=8, d_longdbl=define, longdblsize=16
    ivtype='long', ivsize=8, nvtype='double', nvsize=8, Off_t='off_t', lseeksize=8
    alignbytes=8, prototype=define
  Linker and Libraries:
    ld='cc', ldflags =' -fstack-protector -L/usr/local/lib'
    libpth=/usr/local/lib /lib /usr/lib /lib64 /usr/lib64
    libs=-lnsl -lgdbm -ldb -ldl -lm -lcrypt -lutil -lc -lgdbm_compat
    perllibs=-lnsl -ldl -lm -lcrypt -lutil -lc
    libc=/lib/libc-2.11.2.so, so=so, useshrplib=false, libperl=libperl.a
    gnulibc_version='2.11.2'
  Dynamic Linking:
    dlsrc=dl_dlopen.xs, dlext=so, d_dlsymun=undef, ccdlflags='-Wl,-E'
    cccdlflags='-fPIC', lddlflags='-shared -O2 -g -L/usr/local/lib -fstack-protector'


Characteristics of this binary (from libperl): 
  Compile-time options: PERL_DONT_CREATE_GVSV PERL_MALLOC_WRAP
                        PERL_PRESERVE_IVUV PERL_USE_DEVEL USE_64_BIT_ALL
                        USE_64_BIT_INT USE_LARGE_FILES USE_PERLIO
                        USE_PERL_ATOF
  Built under linux
  Compiled at Mar 13 2011 13:58:09
  %ENV:
    PERL5LIB="/home/sand/.cpan/build/WAP-wbxml-1.12-8oKd6i/blib/arch:/home/sand/.cpan/build/WAP-wbxml-1.12-8oKd6i/blib/lib:/home/sand/.cpan/build/ProjectBuilder-0.11.2-N9Wybh/blib/arch:/home/sand/.cpan/build/ProjectBuilder-0.11.2-N9Wybh/blib/lib:/home/sand/.cpan/build/Mail-SpamAssassin-2.43-_MUtPL/blib/arch:/home/sand/.cpan/build/Mail-SpamAssassin-2.43-_MUtPL/blib/lib"
    PERL5OPT=""
    PERL5_CPANPLUS_IS_RUNNING="5984"
    PERL5_CPAN_IS_RUNNING="5984"
  @INC:
    /home/sand/.cpan/build/WAP-wbxml-1.12-8oKd6i/blib/arch
    /home/sand/.cpan/build/WAP-wbxml-1.12-8oKd6i/blib/lib
    /home/sand/.cpan/build/ProjectBuilder-0.11.2-N9Wybh/blib/arch
    /home/sand/.cpan/build/ProjectBuilder-0.11.2-N9Wybh/blib/lib
    /home/sand/.cpan/build/Mail-SpamAssassin-2.43-_MUtPL/blib/arch
    /home/sand/.cpan/build/Mail-SpamAssassin-2.43-_MUtPL/blib/lib
    /home/src/perl/repoperls/installed-perls/perl/v5.13.10-419-g0f0aa27/lib/site_perl/5.13.10/x86_64-linux
    /home/src/perl/repoperls/installed-perls/perl/v5.13.10-419-g0f0aa27/lib/site_perl/5.13.10
    /home/src/perl/repoperls/installed-perls/perl/v5.13.10-419-g0f0aa27/lib/5.13.10/x86_64-linux
    /home/src/perl/repoperls/installed-perls/perl/v5.13.10-419-g0f0aa27/lib/5.13.10
    .