Report for Bread-Board-Declare-0.16

Back
From: metabase:user:320bfe00-2aae-11df-837a-5e0a49663a4f
Subject: PASS Bread-Board-Declare-0.16 v5.20.3 RC2 GNU/Linux
Date: 2015-09-02T11:14:34Z

This distribution has been tested as part of the CPAN Testers
project, supporting the Perl programming language.  See
http://wiki.cpantesters.org/ for more information or email
questions to cpan-testers-discuss@perl.org


--
Dear Jesse Luehrs,

This is a computer-generated report for Bread-Board-Declare-0.16
on perl 5.20.3, created by CPAN-Reporter-1.2015.

Thank you for uploading your work to CPAN.  Congratulations!
All tests were successful.

Sections of this report:

    * Tester comments
    * Program output
    * Prerequisites
    * Environment and other context

------------------------------
TESTER COMMENTS
------------------------------

Additional comments from tester:

this report is from an automated smoke testing program
and was not reviewed by a human for accuracy

------------------------------
PROGRAM OUTPUT
------------------------------

Output from '/usr/bin/make test':

PERL_DL_NONLAZY=1 "/tmp/basesmoker-reloperl-dV1M/bin/perl" "-MExtUtils::Command::MM" "-MTest::Harness" "-e" "undef *Test::Harness::Switches; test_harness(0, 'blib/lib', 'blib/arch')" t/*.t
t/00-compile.t .............. ok
t/auto-deref.t .............. ok
t/basic.t ................... ok
t/block.t ................... ok
t/circular-dependency.t ..... ok
t/constructor-name.t ........ ok
t/defaults.t ................ ok
t/deps.t .................... ok
t/extends.t ................. ok
t/infer-loading.t ........... ok
t/infer-subclasses.t ........ ok
t/infer.t ................... ok
t/inheritance.t ............. ok
t/inline-services.t ......... ok
t/inlining.t ................ ok
t/leak.t .................... ok
t/lifecycle.t ............... ok
t/mop.t ..................... ok
t/more-inheritance.t ........ ok
t/multiple-instantiation.t .. ok
t/no-service.t .............. ok
t/parameters.t .............. ok
t/roles.t ................... ok
t/subcontainers.t ........... ok
t/type-checks.t ............. ok
All tests successful.
Files=25, Tests=358, 28 wallclock secs ( 0.13 usr  0.14 sys + 25.24 cusr  2.24 csys = 27.75 CPU)
Result: PASS

------------------------------
PREREQUISITES
------------------------------

Prerequisite modules loaded:

requires:

    Module                             Need Have    
    ---------------------------------- ---- --------
    Bread::Board                       0    0.33    
    Bread::Board::BlockInjection       0    0.33    
    Bread::Board::ConstructorInjection 0    0.33    
    Bread::Board::Literal              0    0.33    
    Bread::Board::Service              0    0.33    
    Bread::Board::Types                0    0.33    
    Class::Load                        0    0.23    
    Moose                              0    2.1603  
    Moose::Exporter                    0    2.1603  
    Moose::Role                        0    2.1603  
    Moose::Util                        0    2.1603  

build_requires:

    Module                             Need Have    
    ---------------------------------- ---- --------
    File::Spec                         0    3.48_01 
    IO::Handle                         0    1.35    
    IPC::Open3                         0    1.16    
    lib                                0    0.63    
    Moose::Util::TypeConstraints       0    2.1603  
    strict                             0    1.08    
    Test::Fatal                        0    0.014   
    Test::Moose                        0    2.1603  
    Test::More                         0.88 1.001014
    warnings                           0    1.23    

configure_requires:

    Module                             Need Have    
    ---------------------------------- ---- --------
    ExtUtils::MakeMaker                6.30 7.06    


------------------------------
ENVIRONMENT AND OTHER CONTEXT
------------------------------

Environment variables:

    AUTOMATED_TESTING = 1
    LANG = en_US.UTF-8
    LANGUAGE = en_US:en
    PATH = /home/sand/bin:/usr/local/bin:/usr/bin:/bin:/usr/games:/usr/local/perl/bin:/usr/X11/bin:/sbin:/usr/sbin
    PERL5LIB = 
    PERL5OPT = 
    PERL5_CPANPLUS_IS_RUNNING = 23895
    PERL5_CPAN_IS_RUNNING = 23895
    PERL_MM_USE_DEFAULT = 1
    SHELL = /usr/bin/zsh
    TERM = screen

Perl special variables (and OS-specific diagnostics, for MSWin32):

    $^X = /tmp/basesmoker-reloperl-dV1M/bin/perl
    $UID/$EUID = 1005 / 1005
    $GID = 1005 1005
    $EGID = 1005 1005

Perl module toolchain versions installed:

    Module              Have    
    ------------------- --------
    CPAN                2.10    
    CPAN::Meta          2.150005
    Cwd                 3.48_01 
    ExtUtils::CBuilder  0.280223
    ExtUtils::Command   7.06    
    ExtUtils::Install   1.67    
    ExtUtils::MakeMaker 7.06    
    ExtUtils::Manifest  1.70    
    ExtUtils::ParseXS   3.24    
    File::Spec          3.48_01 
    JSON                2.90    
    JSON::PP            2.27203 
    Module::Build       0.4214  
    Module::Signature   0.79    
    Parse::CPAN::Meta   1.4417  
    Test::Harness       3.35    
    Test::More          1.001014
    YAML                1.15    
    YAML::Syck          1.29    
    version             0.9909  


--

Summary of my perl5 (revision 5 version 20 subversion 3) configuration:
  Commit id: ca79643f7bc5602bc885b785f9ab477db8f6bc05
  Platform:
    osname=linux, osvers=4.0.0-2-amd64, archname=x86_64-linux-thread-multi-ld
    uname='linux k83 4.0.0-2-amd64 #1 smp debian 4.0.5-1 (2015-06-16) x86_64 gnulinux '
    config_args='-Dprefix=/home/sand/src/perl/repoperls/installed-perls/perl/v5.20.3-RC2/7e7a -Dmyhostname=k83 -Dinstallusrbinperl=n -Uversiononly -Dusedevel -des -Ui_db -Duseithreads -Duselongdouble'
    hint=recommended, useposix=true, d_sigaction=define
    useithreads=define, usemultiplicity=define
    use64bitint=define, use64bitall=define, uselongdouble=define
    usemymalloc=n, bincompat5005=undef
  Compiler:
    cc='cc', ccflags ='-D_REENTRANT -D_GNU_SOURCE -fwrapv -fno-strict-aliasing -pipe -fstack-protector -I/usr/local/include -D_LARGEFILE_SOURCE -D_FILE_OFFSET_BITS=64',
    optimize='-O2',
    cppflags='-D_REENTRANT -D_GNU_SOURCE -fwrapv -fno-strict-aliasing -pipe -fstack-protector -I/usr/local/include'
    ccversion='', gccversion='5.2.1 20150808', gccosandvers=''
    intsize=4, longsize=8, ptrsize=8, doublesize=8, byteorder=12345678
    d_longlong=define, longlongsize=8, d_longdbl=define, longdblsize=16
    ivtype='long', ivsize=8, nvtype='long double', nvsize=16, Off_t='off_t', lseeksize=8
    alignbytes=16, prototype=define
  Linker and Libraries:
    ld='cc', ldflags =' -fstack-protector -L/usr/local/lib'
    libpth=/usr/local/lib /usr/lib/gcc/x86_64-linux-gnu/5/include-fixed /usr/include/x86_64-linux-gnu /usr/lib /lib/x86_64-linux-gnu /lib/../lib /usr/lib/x86_64-linux-gnu /usr/lib/../lib /lib
    libs=-lpthread -lnsl -lgdbm -ldb -ldl -lm -lcrypt -lutil -lc -lgdbm_compat
    perllibs=-lpthread -lnsl -ldl -lm -lcrypt -lutil -lc
    libc=libc-2.19.so, so=so, useshrplib=false, libperl=libperl.a
    gnulibc_version='2.19'
  Dynamic Linking:
    dlsrc=dl_dlopen.xs, dlext=so, d_dlsymun=undef, ccdlflags='-Wl,-E'
    cccdlflags='-fPIC', lddlflags='-shared -O2 -L/usr/local/lib -fstack-protector'


Characteristics of this binary (from libperl): 
  Compile-time options: HAS_TIMES MULTIPLICITY PERLIO_LAYERS
                        PERL_DONT_CREATE_GVSV
                        PERL_HASH_FUNC_ONE_AT_A_TIME_HARD
                        PERL_IMPLICIT_CONTEXT PERL_MALLOC_WRAP
                        PERL_NEW_COPY_ON_WRITE PERL_PRESERVE_IVUV
                        PERL_USE_DEVEL USE_64_BIT_ALL USE_64_BIT_INT
                        USE_ITHREADS USE_LARGE_FILES USE_LOCALE
                        USE_LOCALE_COLLATE USE_LOCALE_CTYPE
                        USE_LOCALE_NUMERIC USE_LONG_DOUBLE USE_PERLIO
                        USE_PERL_ATOF USE_REENTRANT_API
  Locally applied patches:
	RC2
  Built under linux
  Compiled at Sep  2 2015 05:58:36
  %ENV:
    PERL5LIB=""
    PERL5OPT=""
    PERL5_CPANPLUS_IS_RUNNING="23895"
    PERL5_CPAN_IS_RUNNING="23895"
    PERL_MM_USE_DEFAULT="1"
  @INC:
    /home/sand/src/perl/repoperls/installed-perls/perl/v5.20.3-RC2/7e7a/lib/site_perl/5.20.3/x86_64-linux-thread-multi-ld
    /home/sand/src/perl/repoperls/installed-perls/perl/v5.20.3-RC2/7e7a/lib/site_perl/5.20.3
    /home/sand/src/perl/repoperls/installed-perls/perl/v5.20.3-RC2/7e7a/lib/5.20.3/x86_64-linux-thread-multi-ld
    /home/sand/src/perl/repoperls/installed-perls/perl/v5.20.3-RC2/7e7a/lib/5.20.3
    .