Dist-Zilla-Plugin-Git v2.043 Perl 5 v5.26.0 x86_64-linux

Status
Pass
From
Dist
Dist-Zilla-Plugin-Git v2.043
Platform
Perl 5 v5.26.0 x86_64-linux
Date
2017-12-12 16:09:11
ID
caae7772-df56-11e7-b8fa-b36eccec716d
This distribution has been tested as part of the CPAN Testers
project, supporting the Perl programming language.  See
http://wiki.cpantesters.org/ for more information or email
questions to cpan-testers-discuss@perl.org


--
Dear Karen Etheridge,

This is a computer-generated report for Dist-Zilla-Plugin-Git-2.043
on perl 5.26.0, created by CPAN-Reporter-1.2018.

Thank you for uploading your work to CPAN.  Congratulations!
All tests were successful.

Sections of this report:

    * Tester comments
    * Program output
    * Prerequisites
    * Environment and other context

------------------------------
TESTER COMMENTS
------------------------------

Additional comments from tester:

none provided

------------------------------
PROGRAM OUTPUT
------------------------------

Output from '/usr/bin/make test':

"/opt/perl-5.26.0/bin/perl" "-Iblib/arch" "-Iblib/lib" Makefile_git.PL Makefile_git
PERL_DL_NONLAZY=1 "/opt/perl-5.26.0/bin/perl" "-MExtUtils::Command::MM" "-MTest::Harness" "-e" "undef *Test::Harness::Switches; test_harness(0, 'blib/lib', 'blib/arch')" t/*.t
# git version 2.7.4
[16:09:03] t/000-report-git-version.t ...... ok        3 ms ( 0.00 usr  0.00 sys +  0.03 cusr  0.00 csys =  0.03 CPU)
# 
# Versions for all modules listed in MYMETA.json (including optional ones):
# 
# === Configure Requires ===
# 
#     Module              Want   Have
#     ------------------- ---- ------
#     ExtUtils::MakeMaker  any   7.30
#     Text::ParseWords     any   3.30
#     version              any 0.9918
# 
# === Build Requires ===
# 
#     Module              Want Have
#     ------------------- ---- ----
#     ExtUtils::MakeMaker  any 7.30
# 
# === Test Requires ===
# 
#     Module                            Want     Have
#     -------------------------------- ----- --------
#     CPAN::Meta::Check                0.011    0.014
#     CPAN::Meta::Requirements           any    2.140
#     Devel::SimpleTrace                 any     0.08
#     Dist::Zilla::File::InMemory        any    6.010
#     Dist::Zilla::Plugin::Config::Git   any     0.92
#     Dist::Zilla::Role::Releaser        any    6.010
#     Dist::Zilla::Tester                any    6.010
#     Encode                             any     2.93
#     Exporter                           any     5.72
#     ExtUtils::MakeMaker                any     7.30
#     File::Copy                         any     2.32
#     File::Copy::Recursive              any     0.38
#     File::Path                        2.07     2.15
#     File::Spec                         any     3.67
#     File::Which                        any     1.22
#     File::pushd                        any    1.014
#     Log::Dispatchouli                  any    2.015
#     Test::DZil                         any    6.010
#     Test::Fatal                        any    0.014
#     Test::More                        0.88 1.302120
#     lib                                any     0.64
#     utf8                               any     1.19
# 
# === Test Recommends ===
# 
#     Module         Want     Have
#     ---------- -------- --------
#     CPAN::Meta 2.120900 2.150010
# 
# === Runtime Requires ===
# 
#     Module                                 Want     Have
#     ---------------------------------- -------- --------
#     Cwd                                     any     3.67
#     DateTime                                any     1.44
#     Dist::Zilla                               4    6.010
#     Dist::Zilla::Plugin::GatherDir     4.200016    6.010
#     Dist::Zilla::Role::AfterBuild           any    6.010
#     Dist::Zilla::Role::AfterMint            any    6.010
#     Dist::Zilla::Role::AfterRelease         any    6.010
#     Dist::Zilla::Role::BeforeRelease        any    6.010
#     Dist::Zilla::Role::FilePruner           any    6.010
#     Dist::Zilla::Role::GitConfig            any     0.92
#     Dist::Zilla::Role::PluginBundle         any    6.010
#     Dist::Zilla::Role::VersionProvider      any    6.010
#     File::Spec::Functions                   any     3.67
#     File::Temp                              any   0.2304
#     File::chdir                             any   0.1010
#     Git::Wrapper                          0.021    0.047
#     IPC::Open3                              any     1.20
#     IPC::System::Simple                     any     1.25
#     List::Util                             1.45     1.49
#     Module::Runtime                         any    0.016
#     Moose                                   any   2.2009
#     Moose::Role                             any   2.2009
#     Moose::Util::TypeConstraints            any   2.2009
#     MooseX::Has::Sugar                      any 1.000006
#     MooseX::Types::Moose                    any     0.50
#     MooseX::Types::Path::Tiny             0.010    0.012
#     Path::Tiny                            0.048    0.104
#     String::Formatter                       any 0.102084
#     Try::Tiny                               any     0.28
#     Version::Next                           any    1.000
#     constant                                any     1.33
#     namespace::autoclean                   0.09     0.28
#     strict                                  any     1.11
#     version                                0.80   0.9918
#     warnings                                any     1.37
# 
# === Other Modules ===
# 
#     Module           Have
#     ------------- -------
#     JSON::PP      2.97000
#     Pod::Coverage    0.23
#     Sub::Name        0.21
#     YAML             1.24
#     autodie          2.29
# 
[16:09:03] t/00-report-prereqs.t ........... ok      159 ms ( 0.00 usr  0.00 sys +  0.20 cusr  0.03 csys =  0.23 CPU)
[16:09:04] t/commit-build-custom.t ......... ok      616 ms ( 0.00 usr  0.01 sys +  0.91 cusr  0.17 csys =  1.09 CPU)
[16:09:04] t/commit-build-src-as-parent.t .. ok      950 ms ( 0.00 usr  0.01 sys +  1.90 cusr  0.52 csys =  2.43 CPU)
[16:09:05] t/commit-build.t ................ ok      973 ms ( 0.01 usr  0.01 sys +  2.81 cusr  0.95 csys =  3.78 CPU)
[16:09:05] t/commit-message.t .............. ok       24 ms ( 0.00 usr  0.00 sys +  0.55 cusr  0.04 csys =  0.59 CPU)
[16:09:05] t/check.t ....................... ok     1817 ms ( 0.02 usr  0.02 sys +  4.53 cusr  1.79 csys =  6.36 CPU)
[16:09:05] t/commit-dirtydir.t ............. ok      615 ms ( 0.00 usr  0.01 sys +  2.94 cusr  0.96 csys =  3.91 CPU)
[16:09:06] t/commit-utf8.t ................. ok      524 ms ( 0.00 usr  0.00 sys +  3.40 cusr  1.02 csys =  4.42 CPU)
[16:09:06] t/commit-ws.t ................... ok      513 ms ( 0.00 usr  0.00 sys +  2.03 cusr  0.18 csys =  2.21 CPU)
[16:09:06] t/commit.t ...................... ok      558 ms ( 0.01 usr  0.00 sys +  2.03 cusr  0.18 csys =  2.22 CPU)
[16:09:07] t/gatherdir-multi.t ............. ok      599 ms ( 0.01 usr  0.00 sys +  2.87 cusr  0.34 csys =  3.22 CPU)
[16:09:07] t/gatherdir.t ................... ok      760 ms ( 0.02 usr  0.00 sys +  3.76 cusr  0.56 csys =  4.34 CPU)
[16:09:08] t/push-gitconfig.t .............. ok      967 ms ( 0.00 usr  0.00 sys +  2.03 cusr  0.38 csys =  2.41 CPU)
[16:09:08] t/push-multi.t .................. ok     1217 ms ( 0.02 usr  0.00 sys +  3.91 cusr  0.75 csys =  4.68 CPU)
[16:09:08] t/push.t ........................ ok     1246 ms ( 0.01 usr  0.00 sys +  4.15 cusr  0.82 csys =  4.98 CPU)
[16:09:08] t/repo-dir.t .................... ok      656 ms ( 0.02 usr  0.00 sys +  4.31 cusr  0.72 csys =  5.05 CPU)
[16:09:09] t/tag-signed.t .................. ok      409 ms ( 0.00 usr  0.00 sys +  0.93 cusr  0.14 csys =  1.07 CPU)
[16:09:09] t/tag.t ......................... ok      463 ms ( 0.01 usr  0.00 sys +  1.87 cusr  0.28 csys =  2.16 CPU)
[16:09:09] t/version-default.t ............. ok      955 ms ( 0.02 usr  0.00 sys +  2.78 cusr  0.36 csys =  3.16 CPU)
[16:09:09] t/version-extraction.t .......... ok      515 ms ( 0.02 usr  0.00 sys +  2.40 cusr  0.25 csys =  2.67 CPU)
[16:09:09] t/version-by-branch.t ........... ok     1382 ms ( 0.02 usr  0.00 sys +  5.45 cusr  0.83 csys =  6.30 CPU)
[16:09:10] t/version-regexp.t .............. ok      882 ms ( 0.02 usr  0.00 sys +  3.39 cusr  0.50 csys =  3.91 CPU)
[16:09:10] t/zzz-check-breaks.t ............ ok      671 ms ( 0.01 usr  0.00 sys +  3.20 cusr  0.46 csys =  3.67 CPU)
[16:09:10]
All tests successful.
Files=24, Tests=207,  7 wallclock secs ( 0.11 usr  0.02 sys + 21.01 cusr  4.14 csys = 25.28 CPU)
Result: PASS

------------------------------
PREREQUISITES
------------------------------

Prerequisite modules loaded:

requires:

    Module                             Need     Have    
    ---------------------------------- -------- --------
    constant                           0        1.33    
    Cwd                                0        3.67    
    DateTime                           0        1.44    
    Dist::Zilla                        4        6.010   
    Dist::Zilla::Plugin::GatherDir     4.200016 6.010   
    Dist::Zilla::Role::AfterBuild      0        6.010   
    Dist::Zilla::Role::AfterMint       0        6.010   
    Dist::Zilla::Role::AfterRelease    0        6.010   
    Dist::Zilla::Role::BeforeRelease   0        6.010   
    Dist::Zilla::Role::FilePruner      0        6.010   
    Dist::Zilla::Role::GitConfig       0        0.92    
    Dist::Zilla::Role::PluginBundle    0        6.010   
    Dist::Zilla::Role::VersionProvider 0        6.010   
    File::chdir                        0        0.1010  
    File::Spec::Functions              0        3.67    
    File::Temp                         0        0.2304  
    Git::Wrapper                       0.021    0.047   
    IPC::Open3                         0        1.20    
    IPC::System::Simple                0        1.25    
    List::Util                         1.45     1.49    
    Module::Runtime                    0        0.016   
    Moose                              0        2.2009  
    Moose::Role                        0        2.2009  
    Moose::Util::TypeConstraints       0        2.2009  
    MooseX::Has::Sugar                 0        1.000006
    MooseX::Types::Moose               0        0.50    
    MooseX::Types::Path::Tiny          0.010    0.012   
    namespace::autoclean               0.09     0.28    
    Path::Tiny                         0.048    0.104   
    perl                               5.010    5.026000
    strict                             0        1.11    
    String::Formatter                  0        0.102084
    Try::Tiny                          0        0.28    
    version                            0.80     0.9918  
    Version::Next                      0        1.000   
    warnings                           0        1.37    

build_requires:

    Module                             Need     Have    
    ---------------------------------- -------- --------
    CPAN::Meta::Check                  0.011    0.014   
    CPAN::Meta::Requirements           0        2.140   
    Devel::SimpleTrace                 0        0.08    
    Dist::Zilla::File::InMemory        0        6.010   
    Dist::Zilla::Plugin::Config::Git   0        0.92    
    Dist::Zilla::Role::Releaser        0        6.010   
    Dist::Zilla::Tester                0        6.010   
    Encode                             0        2.93    
    Exporter                           0        5.72    
    ExtUtils::MakeMaker                0        7.30    
    File::Copy                         0        2.32    
    File::Copy::Recursive              0        0.38    
    File::Path                         2.07     2.15    
    File::pushd                        0        1.014   
    File::Spec                         0        3.67    
    File::Which                        0        1.22    
    lib                                0        0.64    
    Log::Dispatchouli                  0        2.015   
    Test::DZil                         0        6.010   
    Test::Fatal                        0        0.014   
    Test::More                         0.88     1.302120
    utf8                               0        1.19    

configure_requires:

    Module                             Need     Have    
    ---------------------------------- -------- --------
    ExtUtils::MakeMaker                0        7.30    
    perl                               5.010    5.026000
    Text::ParseWords                   0        3.30    
    version                            0        0.9918  

opt_build_requires:

    Module                             Need     Have    
    ---------------------------------- -------- --------
    CPAN::Meta                         2.120900 2.150010


------------------------------
ENVIRONMENT AND OTHER CONTEXT
------------------------------

Environment variables:

    HARNESS_OPTIONS = j4:c
    HARNESS_TIMER = 1
    LANG = en_US.UTF-8
    LC_ADDRESS = pt_PT.UTF-8
    LC_DATE = pt_PT
    LC_IDENTIFICATION = pt_PT.UTF-8
    LC_MEASUREMENT = pt_PT.UTF-8
    LC_MONETARY = pt_PT.UTF-8
    LC_NAME = pt_PT.UTF-8
    LC_NUMERIC = pt_PT.UTF-8
    LC_PAPER = pt_PT.UTF-8
    LC_TELEPHONE = pt_PT.UTF-8
    LC_TIME = pt_PT
    PATH = /home/ambs/.plenv/libexec:/home/ambs/.plenv/plugins/perl-build/bin:/home/ambs/.plenv/shims:/opt/Xournal-0.4.8.2016/bin:/home/ambs/.plenv/bin:/opt/perl5.25.9/bin/:/opt/Franz:/opt/thunderbird:/opt/firefox:/opt/rakudo-star-2017.07/bin:/opt/rakudo-star-2017.07/share/perl6/site/bin:/opt/Unity/Editor:/opt/Unity/MonoDevelop:/opt/perl-5.26.0/bin/:/opt/Franz:/opt/thunderbird:/opt/firefox:/home/ambs/bin:/home/ambs/.local/bin:/usr/local/sbin:/usr/local/bin:/usr/sbin:/usr/bin:/sbin:/bin:/usr/games:/usr/local/games
    PERL5LIB = 
    PERL5OPT = 
    PERL5_CPANPLUS_IS_RUNNING = 26584
    PERL5_CPAN_IS_RUNNING = 26584
    PERL_CPANM_OPT = -S
    PERL_USE_UNSAFE_INC = 1
    SHELL = /bin/bash
    TERM = xterm-256color

Perl special variables (and OS-specific diagnostics, for MSWin32):

    $^X = /opt/perl-5.26.0/bin/perl
    $UID/$EUID = 1000 / 1000
    $GID = 1000 4 24 27 30 46 113 130 132 1000
    $EGID = 1000 4 24 27 30 46 113 130 132 1000

Perl module toolchain versions installed:

    Module              Have    
    ------------------- --------
    CPAN                2.18    
    CPAN::Meta          2.150010
    Cwd                 3.67    
    ExtUtils::CBuilder  0.280230
    ExtUtils::Command   7.30    
    ExtUtils::Install   2.14    
    ExtUtils::MakeMaker 7.30    
    ExtUtils::Manifest  1.70    
    ExtUtils::ParseXS   3.35    
    File::Spec          3.67    
    JSON                2.97000 
    JSON::PP            2.97000 
    Module::Build       0.4224  
    Module::Signature   n/a     
    Parse::CPAN::Meta   2.150010
    Test::Harness       3.39    
    Test::More          1.302120
    YAML                1.24    
    YAML::Syck          n/a     
    version             0.9918  


--

Summary of my perl5 (revision 5 version 26 subversion 0) configuration:
   
  Platform:
    osname=linux
    osvers=4.8.0-53-generic
    archname=x86_64-linux
    uname='linux diabelli 4.8.0-53-generic #56~16.04.1-ubuntu smp tue may 16 01:18:56 utc 2017 x86_64 x86_64 x86_64 gnulinux '
    config_args=''
    hint=recommended
    useposix=true
    d_sigaction=define
    useithreads=undef
    usemultiplicity=undef
    use64bitint=define
    use64bitall=define
    uselongdouble=undef
    usemymalloc=n
    default_inc_excludes_dot=define
    bincompat5005=undef
  Compiler:
    cc='cc'
    ccflags ='-fwrapv -fno-strict-aliasing -pipe -fstack-protector-strong -D_LARGEFILE_SOURCE -D_FILE_OFFSET_BITS=64'
    optimize='-O2'
    cppflags='-fwrapv -fno-strict-aliasing -pipe -fstack-protector-strong'
    ccversion=''
    gccversion='5.4.0 20160609'
    gccosandvers=''
    intsize=4
    longsize=8
    ptrsize=8
    doublesize=8
    byteorder=12345678
    doublekind=3
    d_longlong=define
    longlongsize=8
    d_longdbl=define
    longdblsize=16
    longdblkind=3
    ivtype='long'
    ivsize=8
    nvtype='double'
    nvsize=8
    Off_t='off_t'
    lseeksize=8
    alignbytes=8
    prototype=define
  Linker and Libraries:
    ld='cc'
    ldflags =' -fstack-protector-strong -L/usr/local/lib'
    libpth=/usr/lib/gcc/x86_64-linux-gnu/5/include-fixed /usr/include/x86_64-linux-gnu /usr/lib /usr/local/lib /lib/x86_64-linux-gnu /lib/../lib /usr/lib/x86_64-linux-gnu /usr/lib/../lib /lib
    libs=-lpthread -lnsl -ldl -lm -lcrypt -lutil -lc
    perllibs=-lpthread -lnsl -ldl -lm -lcrypt -lutil -lc
    libc=libc-2.23.so
    so=so
    useshrplib=false
    libperl=libperl.a
    gnulibc_version='2.23'
  Dynamic Linking:
    dlsrc=dl_dlopen.xs
    dlext=so
    d_dlsymun=undef
    ccdlflags='-Wl,-E'
    cccdlflags='-fPIC'
    lddlflags='-shared -O2 -L/usr/local/lib -fstack-protector-strong'


Characteristics of this binary (from libperl): 
  Compile-time options:
    HAS_TIMES
    PERLIO_LAYERS
    PERL_COPY_ON_WRITE
    PERL_DONT_CREATE_GVSV
    PERL_MALLOC_WRAP
    PERL_OP_PARENT
    PERL_PRESERVE_IVUV
    USE_64_BIT_ALL
    USE_64_BIT_INT
    USE_LARGE_FILES
    USE_LOCALE
    USE_LOCALE_COLLATE
    USE_LOCALE_CTYPE
    USE_LOCALE_NUMERIC
    USE_LOCALE_TIME
    USE_PERLIO
    USE_PERL_ATOF
  Built under linux
  Compiled at May 31 2017 16:10:41
  %ENV:
    PERL5LIB=""
    PERL5OPT=""
    PERL5_CPANPLUS_IS_RUNNING="26584"
    PERL5_CPAN_IS_RUNNING="26584"
    PERL_CPANM_OPT="-S"
    PERL_USE_UNSAFE_INC="1"
  @INC:
    /opt/perl-5.26.0/lib/site_perl/5.26.0/x86_64-linux
    /opt/perl-5.26.0/lib/site_perl/5.26.0
    /opt/perl-5.26.0/lib/5.26.0/x86_64-linux
    /opt/perl-5.26.0/lib/5.26.0
    .