Back
From: metabase:user:314402c4-2aae-11df-837a-5e0a49663a4f
Subject: PASS Slurm-Sacctmgr-1.1.0 v5.25.4 FreeBSD
Date: 2016-08-25T05:50:11Z
This distribution has been tested as part of the CPAN Testers
project, supporting the Perl programming language. See
http://wiki.cpantesters.org/ for more information or email
questions to cpan-testers-discuss@perl.org
--
Dear Tom Payerle,
This is a computer-generated report for Slurm-Sacctmgr-1.1.0
on perl 5.25.4, created by CPAN-Reporter-1.2018.
Thank you for uploading your work to CPAN. Congratulations!
All tests were successful.
Sections of this report:
* Tester comments
* Program output
* Prerequisites
* Environment and other context
------------------------------
TESTER COMMENTS
------------------------------
Additional comments from tester:
none provided
------------------------------
PROGRAM OUTPUT
------------------------------
Output from '/usr/bin/make test':
PERL_DL_NONLAZY=1 "/usr/perl5.25.4p/bin/perl5.25.4" "-MExtUtils::Command::MM" "-MTest::Harness" "-e" "undef *Test::Harness::Switches; test_harness(0, 'blib/lib', 'blib/arch')" t/*.t
t/000_Slurm-Sacctmgr-use.t .......... ok
t/050_pod.t ......................... skipped: Author tests not required for installation
[VERBOSE] /home/cpansand/.cpan/build/2016082506/Slurm-Sacctmgr-1.1.0-0/t/helpers/echo_cmdline_to_stderr create cluster test-cluster
[VERBOSE] /home/cpansand/.cpan/build/2016082506/Slurm-Sacctmgr-1.1.0-0/t/helpers/echo_cmdline_to_stderr show user cluster='test-cluster' --readonly
[VERBOSE] /home/cpansand/.cpan/build/2016082506/Slurm-Sacctmgr-1.1.0-0/t/helpers/echo_cmdline_to_stderr show user cluster='test-cluster' --parsable2 --noheader --readonly
[DRYRUN] /home/cpansand/.cpan/build/2016082506/Slurm-Sacctmgr-1.1.0-0/t/helpers/echo_cmdline_to_stderr create cluster test-cluster
t/100_Slurm-Sacctmgr-basic.t ........ ok
t/110_lowlevel-utilities.t .......... ok
t/150_Slurm-Sacctmgr-taint.t ........ skipped: Skipping tests because Test:Taint not found
[DRYRUN] /home/cpansand/.cpan/build/2016082506/Slurm-Sacctmgr-1.1.0-0/t/helpers/echo_cmdline -i add account cluster=yottascale name=abc124 organization=nsa parent=special
[DRYRUN] /home/cpansand/.cpan/build/2016082506/Slurm-Sacctmgr-1.1.0-0/t/helpers/echo_cmdline -i modify account where account=abc124 cluster=yottascale organization=nsa set parent=topsecret rawusage=0
[DRYRUN] /home/cpansand/.cpan/build/2016082506/Slurm-Sacctmgr-1.1.0-0/t/helpers/echo_cmdline -i delete account where account=abc124 cluster=yottascale
[DRYRUN] /home/cpansand/.cpan/build/2016082506/Slurm-Sacctmgr-1.1.0-0/t/helpers/echo_cmdline -i add account cluster=yottascale name=abc124 organization=nsa parent=special
[DRYRUN] /home/cpansand/.cpan/build/2016082506/Slurm-Sacctmgr-1.1.0-0/t/helpers/echo_cmdline -i modify account where account=abc124 cluster=yottascale organization=nsa set parent=topsecret rawusage=0
[DRYRUN] /home/cpansand/.cpan/build/2016082506/Slurm-Sacctmgr-1.1.0-0/t/helpers/echo_cmdline -i delete account where account=abc124 cluster=yottascale
t/200_Slurm-SAAccount-echo.t ........ ok
t/205_Slurm-SAAssoc-echo.t .......... ok
[DRYRUN] /home/cpansand/.cpan/build/2016082506/Slurm-Sacctmgr-1.1.0-0/t/helpers/echo_cmdline -i add cluster cluster=yottascale controlhost=ys-master1 controlport=6817 cpucount=20000000 nodecount=1000000 nodenames=compute-[0-99999] rpc=7168
[DRYRUN] /home/cpansand/.cpan/build/2016082506/Slurm-Sacctmgr-1.1.0-0/t/helpers/echo_cmdline -i add cluster cluster=yottascale controlhost=ys-master1 controlport=6817 nodenames=compute-[0-99999] rpc=7168 tres=cpu=20000000,node=1000000
[DRYRUN] /home/cpansand/.cpan/build/2016082506/Slurm-Sacctmgr-1.1.0-0/t/helpers/echo_cmdline -i add cluster cluster=yottascale controlhost=ys-master1 controlport=6817 nodenames=compute-[0-99999] rpc=7168 tres=cpu=20000000,node=1000000
[DRYRUN] /home/cpansand/.cpan/build/2016082506/Slurm-Sacctmgr-1.1.0-0/t/helpers/echo_cmdline -i modify cluster where cluster=yottascale set classificiation=virtual
[DRYRUN] /home/cpansand/.cpan/build/2016082506/Slurm-Sacctmgr-1.1.0-0/t/helpers/echo_cmdline -i modify cluster where cluster=yottascale set cpucount=20000010
[DRYRUN] /home/cpansand/.cpan/build/2016082506/Slurm-Sacctmgr-1.1.0-0/t/helpers/echo_cmdline -i modify cluster where cluster=yottascale set tres=cpu=20000020,node=1000001
[DRYRUN] /home/cpansand/.cpan/build/2016082506/Slurm-Sacctmgr-1.1.0-0/t/helpers/echo_cmdline -i delete cluster where cluster=yottascale
[DRYRUN] /home/cpansand/.cpan/build/2016082506/Slurm-Sacctmgr-1.1.0-0/t/helpers/echo_cmdline -i add cluster cluster=yottascale controlhost=ys-master1 controlport=6817 cpucount=20000000 nodecount=1000000 nodenames=compute-[0-99999] rpc=7168
[DRYRUN] /home/cpansand/.cpan/build/2016082506/Slurm-Sacctmgr-1.1.0-0/t/helpers/echo_cmdline -i add cluster cluster=yottascale controlhost=ys-master1 controlport=6817 nodenames=compute-[0-99999] rpc=7168 tres=cpu=20000000,node=1000000
[DRYRUN] /home/cpansand/.cpan/build/2016082506/Slurm-Sacctmgr-1.1.0-0/t/helpers/echo_cmdline -i add cluster cluster=yottascale controlhost=ys-master1 controlport=6817 nodenames=compute-[0-99999] rpc=7168 tres=cpu=20000000,node=1000000
[DRYRUN] /home/cpansand/.cpan/build/2016082506/Slurm-Sacctmgr-1.1.0-0/t/helpers/echo_cmdline -i modify cluster where cluster=yottascale set classificiation=virtual
[DRYRUN] /home/cpansand/.cpan/build/2016082506/Slurm-Sacctmgr-1.1.0-0/t/helpers/echo_cmdline -i modify cluster where cluster=yottascale set cpucount=20000010
[DRYRUN] /home/cpansand/.cpan/build/2016082506/Slurm-Sacctmgr-1.1.0-0/t/helpers/echo_cmdline -i modify cluster where cluster=yottascale set tres=cpu=20000020,node=1000001
[DRYRUN] /home/cpansand/.cpan/build/2016082506/Slurm-Sacctmgr-1.1.0-0/t/helpers/echo_cmdline -i delete cluster where cluster=yottascale
t/210_Slurm-SACluster-echo.t ........ ok
t/230_Slurm-SAEvent-echo.t .......... ok
[DRYRUN] /home/cpansand/.cpan/build/2016082506/Slurm-Sacctmgr-1.1.0-0/t/helpers/echo_cmdline -i add qos 'description=high-priority qos' gracetime=10 grpcpumins=60000 grpcpus=1000 grpjobs=200 grpnodes=100 grpsubmitjobs=150 grpwall=40000 maxcpumins=120000 maxcpus=2000 maxjobs=400 maxnodes=300 maxsubmitjobs=275 maxwall=80000 name=high-priority preempt=scavenger,normal preemptmode=cluster priority=10 usagefactor=2
[DRYRUN] /home/cpansand/.cpan/build/2016082506/Slurm-Sacctmgr-1.1.0-0/t/helpers/echo_cmdline -i delete qos where name=high-priority
[DRYRUN] /home/cpansand/.cpan/build/2016082506/Slurm-Sacctmgr-1.1.0-0/t/helpers/echo_cmdline -i modify qos where name=high-priority set priority=75
[DRYRUN] /home/cpansand/.cpan/build/2016082506/Slurm-Sacctmgr-1.1.0-0/t/helpers/echo_cmdline -i add qos 'description=high-priority qos' gracetime=10 grpcpumins=60000 grpcpus=1000 grpjobs=200 grpnodes=100 grpsubmitjobs=150 grpwall=40000 maxcpumins=120000 maxcpus=2000 maxjobs=400 maxnodes=300 maxsubmitjobs=275 maxwall=80000 name=high-priority preempt=scavenger,normal preemptmode=cluster priority=10 usagefactor=2
[DRYRUN] /home/cpansand/.cpan/build/2016082506/Slurm-Sacctmgr-1.1.0-0/t/helpers/echo_cmdline -i delete qos where name=high-priority
[DRYRUN] /home/cpansand/.cpan/build/2016082506/Slurm-Sacctmgr-1.1.0-0/t/helpers/echo_cmdline -i modify qos where name=high-priority set priority=75
t/260_Slurm-SACQos-echo.t ........... ok
[DRYRUN] /home/cpansand/.cpan/build/2016082506/Slurm-Sacctmgr-1.1.0-0/t/helpers/echo_cmdline -i add resource allocated=100 cluster=yottascale count=10 description=test name=abaqus percentallowed=100 server=flexlm.umd.edu servertype=flexlm type=License
[DRYRUN] /home/cpansand/.cpan/build/2016082506/Slurm-Sacctmgr-1.1.0-0/t/helpers/echo_cmdline -i modify resource where name=abaqus set count=20
[DRYRUN] /home/cpansand/.cpan/build/2016082506/Slurm-Sacctmgr-1.1.0-0/t/helpers/echo_cmdline -i delete resource where name=abaqus
[DRYRUN] /home/cpansand/.cpan/build/2016082506/Slurm-Sacctmgr-1.1.0-0/t/helpers/echo_cmdline -i add resource allocated=100 cluster=yottascale count=10 description=test name=abaqus percentallowed=100 server=flexlm.umd.edu servertype=flexlm type=License
[DRYRUN] /home/cpansand/.cpan/build/2016082506/Slurm-Sacctmgr-1.1.0-0/t/helpers/echo_cmdline -i modify resource where name=abaqus set count=20
[DRYRUN] /home/cpansand/.cpan/build/2016082506/Slurm-Sacctmgr-1.1.0-0/t/helpers/echo_cmdline -i delete resource where name=abaqus
t/262_Slurm-SAResource-echo.t ....... ok
t/265_Slurm-SATransaction-echo.t .... ok
t/267_Slurm-SATres-echo.t ........... ok
[DRYRUN] /home/cpansand/.cpan/build/2016082506/Slurm-Sacctmgr-1.1.0-0/t/helpers/echo_cmdline -i add user adminlevel=Admin defaultaccount=nsa user=george
[DRYRUN] /home/cpansand/.cpan/build/2016082506/Slurm-Sacctmgr-1.1.0-0/t/helpers/echo_cmdline -i modify user where user=george set defaultaccount=abc124 rawusage=0
[DRYRUN] /home/cpansand/.cpan/build/2016082506/Slurm-Sacctmgr-1.1.0-0/t/helpers/echo_cmdline -i delete user where name=george
[DRYRUN] /home/cpansand/.cpan/build/2016082506/Slurm-Sacctmgr-1.1.0-0/t/helpers/echo_cmdline -i add user adminlevel=Admin defaultaccount=nsa user=george
[DRYRUN] /home/cpansand/.cpan/build/2016082506/Slurm-Sacctmgr-1.1.0-0/t/helpers/echo_cmdline -i modify user where user=george set defaultaccount=abc124 rawusage=0
[DRYRUN] /home/cpansand/.cpan/build/2016082506/Slurm-Sacctmgr-1.1.0-0/t/helpers/echo_cmdline -i delete user where name=george
t/270_Slurm-SAUser-echo.t ........... ok
t/280_Slurm-SAWCKey-echo.t .......... ok
t/500_Slurm-SAAccount-parse.t ....... ok
t/505_Slurm-SAAssoc-parse.t ......... ok
t/510_Slurm-SACluster-parse.t ....... ok
t/530_Slurm-SAEvent-parse.t ......... ok
t/560_Slurm-SAQos-parse.t ........... ok
t/562_Slurm-SAResource-parse.t ...... ok
t/565_Slurm-SATransaction-parse.t ... ok
t/567_Slurm-SATres-parse.t .......... ok
t/570_Slurm-SAUser-parse.t .......... ok
t/580_Slurm-SAWCKey-parse.t ......... ok
[DRYRUN] /home/cpansand/.cpan/build/2016082506/Slurm-Sacctmgr-1.1.0-0/t/helpers/fake_sacctmgr_show+echo -i add account account=xxx 'description=new account' organization=xx
[DRYRUN] /home/cpansand/.cpan/build/2016082506/Slurm-Sacctmgr-1.1.0-0/t/helpers/fake_sacctmgr_show+echo -i delete account where account=aaa
[DRYRUN] /home/cpansand/.cpan/build/2016082506/Slurm-Sacctmgr-1.1.0-0/t/helpers/fake_sacctmgr_show+echo -i delete account where account=aab
[DRYRUN] /home/cpansand/.cpan/build/2016082506/Slurm-Sacctmgr-1.1.0-0/t/helpers/fake_sacctmgr_show+echo -i delete account where account=bbb
[DRYRUN] /home/cpansand/.cpan/build/2016082506/Slurm-Sacctmgr-1.1.0-0/t/helpers/fake_sacctmgr_show+echo -i delete account where account=ccc
[DRYRUN] /home/cpansand/.cpan/build/2016082506/Slurm-Sacctmgr-1.1.0-0/t/helpers/fake_sacctmgr_show+echo -i modify account where account=aaa set 'description=new desc' 'organization=new org'
[DRYRUN] /home/cpansand/.cpan/build/2016082506/Slurm-Sacctmgr-1.1.0-0/t/helpers/fake_sacctmgr_show+echo -i modify account where account=aab set 'description=new desc' 'organization=new org'
[DRYRUN] /home/cpansand/.cpan/build/2016082506/Slurm-Sacctmgr-1.1.0-0/t/helpers/fake_sacctmgr_show+echo -i modify account where account=bbb set 'description=new desc' 'organization=new org'
[DRYRUN] /home/cpansand/.cpan/build/2016082506/Slurm-Sacctmgr-1.1.0-0/t/helpers/fake_sacctmgr_show+echo -i modify account where account=ccc set 'description=new desc' 'organization=new org'
[DRYRUN] /home/cpansand/.cpan/build/2016082506/Slurm-Sacctmgr-1.1.0-0/t/helpers/fake_sacctmgr_show+echo -i add account account=xxx 'description=new account' extra_flag=772 organization=xx
[DRYRUN] /home/cpansand/.cpan/build/2016082506/Slurm-Sacctmgr-1.1.0-0/t/helpers/fake_sacctmgr_show+echo -i modify account where account=aaa set extra_flag=772
[DRYRUN] /home/cpansand/.cpan/build/2016082506/Slurm-Sacctmgr-1.1.0-0/t/helpers/fake_sacctmgr_show+echo -i modify account where account=aab set extra_flag=772 'organization=new org'
[DRYRUN] /home/cpansand/.cpan/build/2016082506/Slurm-Sacctmgr-1.1.0-0/t/helpers/fake_sacctmgr_show+echo -i modify account where account=bbb set 'description=new desc' extra_flag=772
[DRYRUN] /home/cpansand/.cpan/build/2016082506/Slurm-Sacctmgr-1.1.0-0/t/helpers/fake_sacctmgr_show+echo -i modify account where account=ccc set 'description=new desc' extra_flag=772 'organization=new org'
[DRYRUN] /home/cpansand/.cpan/build/2016082506/Slurm-Sacctmgr-1.1.0-0/t/helpers/fake_sacctmgr_show+echo -i modify account where account=aab set 'organization=new org'
[DRYRUN] /home/cpansand/.cpan/build/2016082506/Slurm-Sacctmgr-1.1.0-0/t/helpers/fake_sacctmgr_show+echo -i modify account where account=bbb set 'description=new desc'
[DRYRUN] /home/cpansand/.cpan/build/2016082506/Slurm-Sacctmgr-1.1.0-0/t/helpers/fake_sacctmgr_show+echo -i modify account where account=ccc set 'description=new desc' 'organization=new org'
[DRYRUN] /home/cpansand/.cpan/build/2016082506/Slurm-Sacctmgr-1.1.0-0/t/helpers/fake_sacctmgr_show+echo -i add account account=xxx 'description=new account' organization=xx
[DRYRUN] /home/cpansand/.cpan/build/2016082506/Slurm-Sacctmgr-1.1.0-0/t/helpers/fake_sacctmgr_show+echo -i delete account where account=aaa
[DRYRUN] /home/cpansand/.cpan/build/2016082506/Slurm-Sacctmgr-1.1.0-0/t/helpers/fake_sacctmgr_show+echo -i delete account where account=aab
[DRYRUN] /home/cpansand/.cpan/build/2016082506/Slurm-Sacctmgr-1.1.0-0/t/helpers/fake_sacctmgr_show+echo -i delete account where account=bbb
[DRYRUN] /home/cpansand/.cpan/build/2016082506/Slurm-Sacctmgr-1.1.0-0/t/helpers/fake_sacctmgr_show+echo -i delete account where account=ccc
[DRYRUN] /home/cpansand/.cpan/build/2016082506/Slurm-Sacctmgr-1.1.0-0/t/helpers/fake_sacctmgr_show+echo -i modify account where account=aaa set 'description=new desc' 'organization=new org'
[DRYRUN] /home/cpansand/.cpan/build/2016082506/Slurm-Sacctmgr-1.1.0-0/t/helpers/fake_sacctmgr_show+echo -i modify account where account=aab set 'description=new desc' 'organization=new org'
[DRYRUN] /home/cpansand/.cpan/build/2016082506/Slurm-Sacctmgr-1.1.0-0/t/helpers/fake_sacctmgr_show+echo -i modify account where account=bbb set 'description=new desc' 'organization=new org'
[DRYRUN] /home/cpansand/.cpan/build/2016082506/Slurm-Sacctmgr-1.1.0-0/t/helpers/fake_sacctmgr_show+echo -i modify account where account=ccc set 'description=new desc' 'organization=new org'
[DRYRUN] /home/cpansand/.cpan/build/2016082506/Slurm-Sacctmgr-1.1.0-0/t/helpers/fake_sacctmgr_show+echo -i add account account=xxx 'description=new account' extra_flag=772 organization=xx
[DRYRUN] /home/cpansand/.cpan/build/2016082506/Slurm-Sacctmgr-1.1.0-0/t/helpers/fake_sacctmgr_show+echo -i modify account where account=aaa set extra_flag=772
[DRYRUN] /home/cpansand/.cpan/build/2016082506/Slurm-Sacctmgr-1.1.0-0/t/helpers/fake_sacctmgr_show+echo -i modify account where account=aab set extra_flag=772 'organization=new org'
[DRYRUN] /home/cpansand/.cpan/build/2016082506/Slurm-Sacctmgr-1.1.0-0/t/helpers/fake_sacctmgr_show+echo -i modify account where account=bbb set 'description=new desc' extra_flag=772
[DRYRUN] /home/cpansand/.cpan/build/2016082506/Slurm-Sacctmgr-1.1.0-0/t/helpers/fake_sacctmgr_show+echo -i modify account where account=ccc set 'description=new desc' extra_flag=772 'organization=new org'
[DRYRUN] /home/cpansand/.cpan/build/2016082506/Slurm-Sacctmgr-1.1.0-0/t/helpers/fake_sacctmgr_show+echo -i modify account where account=aab set 'organization=new org'
[DRYRUN] /home/cpansand/.cpan/build/2016082506/Slurm-Sacctmgr-1.1.0-0/t/helpers/fake_sacctmgr_show+echo -i modify account where account=bbb set 'description=new desc'
[DRYRUN] /home/cpansand/.cpan/build/2016082506/Slurm-Sacctmgr-1.1.0-0/t/helpers/fake_sacctmgr_show+echo -i modify account where account=ccc set 'description=new desc' 'organization=new org'
t/600_Slurm-SAAccount-foo_me.t ...... ok
t/605_Slurm-SAAssoc-foo_me.t ........ ok
[DRYRUN] /home/cpansand/.cpan/build/2016082506/Slurm-Sacctmgr-1.1.0-0/t/helpers/fake_sacctmgr_show+echo -i add cluster classification=new cluster=newcluster controlhost=new-master controlport=6818 cpucount=1600 flags=virtual nodecount=100 rpc=7169
[DRYRUN] /home/cpansand/.cpan/build/2016082506/Slurm-Sacctmgr-1.1.0-0/t/helpers/fake_sacctmgr_show+echo -i delete cluster where cluster=test1
[DRYRUN] /home/cpansand/.cpan/build/2016082506/Slurm-Sacctmgr-1.1.0-0/t/helpers/fake_sacctmgr_show+echo -i delete cluster where cluster=yottascale
[DRYRUN] /home/cpansand/.cpan/build/2016082506/Slurm-Sacctmgr-1.1.0-0/t/helpers/fake_sacctmgr_show+echo -i modify cluster where cluster=test1 set 'classification=newer class' flags=deprecated
[DRYRUN] /home/cpansand/.cpan/build/2016082506/Slurm-Sacctmgr-1.1.0-0/t/helpers/fake_sacctmgr_show+echo -i modify cluster where cluster=yottascale set 'classification=newer class' flags=deprecated
[DRYRUN] /home/cpansand/.cpan/build/2016082506/Slurm-Sacctmgr-1.1.0-0/t/helpers/fake_sacctmgr_show+echo -i add cluster classification=new cluster=newcluster controlhost=new-master controlport=6818 cpucount=1600 extra_flag=772 flags=virtual nodecount=100 rpc=7169
[DRYRUN] /home/cpansand/.cpan/build/2016082506/Slurm-Sacctmgr-1.1.0-0/t/helpers/fake_sacctmgr_show+echo -i modify cluster where cluster=test1 set extra_flag=772
[DRYRUN] /home/cpansand/.cpan/build/2016082506/Slurm-Sacctmgr-1.1.0-0/t/helpers/fake_sacctmgr_show+echo -i modify cluster where cluster=yottascale set extra_flag=772 flags=updated
[DRYRUN] /home/cpansand/.cpan/build/2016082506/Slurm-Sacctmgr-1.1.0-0/t/helpers/fake_sacctmgr_show+echo -i modify cluster where cluster=yottascale set flags=updated
[DRYRUN] /home/cpansand/.cpan/build/2016082506/Slurm-Sacctmgr-1.1.0-0/t/helpers/fake_sacctmgr_show+echo -i add cluster classification=new cluster=newcluster controlhost=new-master controlport=6818 flags=virtual rpc=7169 tres=cpu=1600,mem=12800000,node=100
[DRYRUN] /home/cpansand/.cpan/build/2016082506/Slurm-Sacctmgr-1.1.0-0/t/helpers/fake_sacctmgr_show+echo -i delete cluster where cluster=test1
[DRYRUN] /home/cpansand/.cpan/build/2016082506/Slurm-Sacctmgr-1.1.0-0/t/helpers/fake_sacctmgr_show+echo -i delete cluster where cluster=yottascale
[DRYRUN] /home/cpansand/.cpan/build/2016082506/Slurm-Sacctmgr-1.1.0-0/t/helpers/fake_sacctmgr_show+echo -i modify cluster where cluster=test1 set 'classification=newer class' flags=deprecated
[DRYRUN] /home/cpansand/.cpan/build/2016082506/Slurm-Sacctmgr-1.1.0-0/t/helpers/fake_sacctmgr_show+echo -i modify cluster where cluster=yottascale set 'classification=newer class' flags=deprecated
[DRYRUN] /home/cpansand/.cpan/build/2016082506/Slurm-Sacctmgr-1.1.0-0/t/helpers/fake_sacctmgr_show+echo -i add cluster classification=new cluster=newcluster controlhost=new-master controlport=6818 extra_flag=772 flags=virtual rpc=7169 tres=cpu=1600,mem=12800000,node=100
[DRYRUN] /home/cpansand/.cpan/build/2016082506/Slurm-Sacctmgr-1.1.0-0/t/helpers/fake_sacctmgr_show+echo -i modify cluster where cluster=test1 set extra_flag=772
[DRYRUN] /home/cpansand/.cpan/build/2016082506/Slurm-Sacctmgr-1.1.0-0/t/helpers/fake_sacctmgr_show+echo -i modify cluster where cluster=yottascale set extra_flag=772 flags=updated
[DRYRUN] /home/cpansand/.cpan/build/2016082506/Slurm-Sacctmgr-1.1.0-0/t/helpers/fake_sacctmgr_show+echo -i modify cluster where cluster=yottascale set flags=updated
t/610_Slurm_SACluster-foo_me.t ...... ok
t/630_Slurm-SAEvent-foo_me.t ........ ok
[DRYRUN] /home/cpansand/.cpan/build/2016082506/Slurm-Sacctmgr-1.1.0-0/t/helpers/fake_sacctmgr_show+echo -i add qos 'description=GPU qos' gracetime=57 grpcpumins=1000000 grpcpus=1000 grpjobs=200 grpnodes=50 grpsubmitjobs=100 id=4 maxcpumins=60000 maxcpus=2000 maxcpusperuser=500 maxjobs=300 maxnodes=100 maxnodesperuser=25 maxsubmitjobs=150 maxwall=6000 mincpus=10 name=gpu preempt=scavenger preemptmode=cluster priority=25 usagefactor=3
[DRYRUN] /home/cpansand/.cpan/build/2016082506/Slurm-Sacctmgr-1.1.0-0/t/helpers/fake_sacctmgr_show+echo -i delete qos where name=high-priority
[DRYRUN] /home/cpansand/.cpan/build/2016082506/Slurm-Sacctmgr-1.1.0-0/t/helpers/fake_sacctmgr_show+echo -i delete qos where name=scavenger
[DRYRUN] /home/cpansand/.cpan/build/2016082506/Slurm-Sacctmgr-1.1.0-0/t/helpers/fake_sacctmgr_show+echo -i delete qos where name=standard
[DRYRUN] /home/cpansand/.cpan/build/2016082506/Slurm-Sacctmgr-1.1.0-0/t/helpers/fake_sacctmgr_show+echo -i modify qos where name=high-priority set 'description=new desc' 'organization=new org'
[DRYRUN] /home/cpansand/.cpan/build/2016082506/Slurm-Sacctmgr-1.1.0-0/t/helpers/fake_sacctmgr_show+echo -i modify qos where name=scavenger set 'description=new desc' 'organization=new org'
[DRYRUN] /home/cpansand/.cpan/build/2016082506/Slurm-Sacctmgr-1.1.0-0/t/helpers/fake_sacctmgr_show+echo -i modify qos where name=standard set 'description=new desc' 'organization=new org'
[DRYRUN] /home/cpansand/.cpan/build/2016082506/Slurm-Sacctmgr-1.1.0-0/t/helpers/fake_sacctmgr_show+echo -i add qos 'description=GPU qos' gracetime=57 grpjobs=200 grpsubmitjobs=100 grptres=cpu=1000,node=50 grptresmins=cpu=1000000 id=4 maxjobs=300 maxsubmitjobs=150 maxtresmins=cpu=60000 maxtresperjob=cpu=2000,node=100 maxtresperuser=cpu=500,node=25 maxwall=6000 mintresperjob=cpu=10,node=1 name=gpu preempt=scavenger preemptmode=cluster priority=25 usagefactor=3
[DRYRUN] /home/cpansand/.cpan/build/2016082506/Slurm-Sacctmgr-1.1.0-0/t/helpers/fake_sacctmgr_show+echo -i delete qos where name=high-priority
[DRYRUN] /home/cpansand/.cpan/build/2016082506/Slurm-Sacctmgr-1.1.0-0/t/helpers/fake_sacctmgr_show+echo -i delete qos where name=scavenger
[DRYRUN] /home/cpansand/.cpan/build/2016082506/Slurm-Sacctmgr-1.1.0-0/t/helpers/fake_sacctmgr_show+echo -i delete qos where name=standard
[DRYRUN] /home/cpansand/.cpan/build/2016082506/Slurm-Sacctmgr-1.1.0-0/t/helpers/fake_sacctmgr_show+echo -i modify qos where name=high-priority set 'description=new desc' 'organization=new org'
[DRYRUN] /home/cpansand/.cpan/build/2016082506/Slurm-Sacctmgr-1.1.0-0/t/helpers/fake_sacctmgr_show+echo -i modify qos where name=scavenger set 'description=new desc' 'organization=new org'
[DRYRUN] /home/cpansand/.cpan/build/2016082506/Slurm-Sacctmgr-1.1.0-0/t/helpers/fake_sacctmgr_show+echo -i modify qos where name=standard set 'description=new desc' 'organization=new org'
t/660_Slurm-SAQos-foo_me.t .......... ok
[DRYRUN] /home/cpansand/.cpan/build/2016082506/Slurm-Sacctmgr-1.1.0-0/t/helpers/fake_sacctmgr_show+echo -i add resource cluster=yottascale count=10 description=test name=abaqus percentallowed=100 server=flexlm.umd.edu servertype=flexlm type=License
[DRYRUN] /home/cpansand/.cpan/build/2016082506/Slurm-Sacctmgr-1.1.0-0/t/helpers/fake_sacctmgr_show+echo -i delete resource where cluster=yottascale name=foo
[DRYRUN] /home/cpansand/.cpan/build/2016082506/Slurm-Sacctmgr-1.1.0-0/t/helpers/fake_sacctmgr_show+echo -i delete resource where cluster=yottascale name=matlab
[DRYRUN] /home/cpansand/.cpan/build/2016082506/Slurm-Sacctmgr-1.1.0-0/t/helpers/fake_sacctmgr_show+echo -i delete resource where cluster=testcluster name=matlab
[DRYRUN] /home/cpansand/.cpan/build/2016082506/Slurm-Sacctmgr-1.1.0-0/t/helpers/fake_sacctmgr_show+echo -i modify resource where cluster=yottascale name=foo set count=999
[DRYRUN] /home/cpansand/.cpan/build/2016082506/Slurm-Sacctmgr-1.1.0-0/t/helpers/fake_sacctmgr_show+echo -i modify resource where cluster=yottascale name=matlab set count=999
[DRYRUN] /home/cpansand/.cpan/build/2016082506/Slurm-Sacctmgr-1.1.0-0/t/helpers/fake_sacctmgr_show+echo -i modify resource where cluster=testcluster name=matlab set count=999
[DRYRUN] /home/cpansand/.cpan/build/2016082506/Slurm-Sacctmgr-1.1.0-0/t/helpers/fake_sacctmgr_show+echo -i add resource cluster=yottascale count=10 description=test extra_flag=772 name=abaqus percentallowed=100 server=flexlm.umd.edu servertype=flexlm type=License
[DRYRUN] /home/cpansand/.cpan/build/2016082506/Slurm-Sacctmgr-1.1.0-0/t/helpers/fake_sacctmgr_show+echo -i modify resource where cluster=yottascale name=foo set extra_flag=772
[DRYRUN] /home/cpansand/.cpan/build/2016082506/Slurm-Sacctmgr-1.1.0-0/t/helpers/fake_sacctmgr_show+echo -i modify resource where cluster=yottascale name=matlab set count=999 extra_flag=772
[DRYRUN] /home/cpansand/.cpan/build/2016082506/Slurm-Sacctmgr-1.1.0-0/t/helpers/fake_sacctmgr_show+echo -i modify resource where cluster=testcluster name=matlab set count=999 'description=new descr' extra_flag=772
[DRYRUN] /home/cpansand/.cpan/build/2016082506/Slurm-Sacctmgr-1.1.0-0/t/helpers/fake_sacctmgr_show+echo -i modify resource where cluster=yottascale name=matlab set count=999
[DRYRUN] /home/cpansand/.cpan/build/2016082506/Slurm-Sacctmgr-1.1.0-0/t/helpers/fake_sacctmgr_show+echo -i modify resource where cluster=testcluster name=matlab set count=999 'description=new descr'
[DRYRUN] /home/cpansand/.cpan/build/2016082506/Slurm-Sacctmgr-1.1.0-0/t/helpers/fake_sacctmgr_show+echo -i add resource cluster=yottascale count=10 description=test name=abaqus percentallowed=100 server=flexlm.umd.edu servertype=flexlm type=License
[DRYRUN] /home/cpansand/.cpan/build/2016082506/Slurm-Sacctmgr-1.1.0-0/t/helpers/fake_sacctmgr_show+echo -i delete resource where cluster=yottascale name=foo
[DRYRUN] /home/cpansand/.cpan/build/2016082506/Slurm-Sacctmgr-1.1.0-0/t/helpers/fake_sacctmgr_show+echo -i delete resource where cluster=yottascale name=matlab
[DRYRUN] /home/cpansand/.cpan/build/2016082506/Slurm-Sacctmgr-1.1.0-0/t/helpers/fake_sacctmgr_show+echo -i delete resource where cluster=testcluster name=matlab
[DRYRUN] /home/cpansand/.cpan/build/2016082506/Slurm-Sacctmgr-1.1.0-0/t/helpers/fake_sacctmgr_show+echo -i modify resource where cluster=yottascale name=foo set count=999
[DRYRUN] /home/cpansand/.cpan/build/2016082506/Slurm-Sacctmgr-1.1.0-0/t/helpers/fake_sacctmgr_show+echo -i modify resource where cluster=yottascale name=matlab set count=999
[DRYRUN] /home/cpansand/.cpan/build/2016082506/Slurm-Sacctmgr-1.1.0-0/t/helpers/fake_sacctmgr_show+echo -i modify resource where cluster=testcluster name=matlab set count=999
[DRYRUN] /home/cpansand/.cpan/build/2016082506/Slurm-Sacctmgr-1.1.0-0/t/helpers/fake_sacctmgr_show+echo -i add resource cluster=yottascale count=10 description=test extra_flag=772 name=abaqus percentallowed=100 server=flexlm.umd.edu servertype=flexlm type=License
[DRYRUN] /home/cpansand/.cpan/build/2016082506/Slurm-Sacctmgr-1.1.0-0/t/helpers/fake_sacctmgr_show+echo -i modify resource where cluster=yottascale name=foo set extra_flag=772
[DRYRUN] /home/cpansand/.cpan/build/2016082506/Slurm-Sacctmgr-1.1.0-0/t/helpers/fake_sacctmgr_show+echo -i modify resource where cluster=yottascale name=matlab set count=999 extra_flag=772
[DRYRUN] /home/cpansand/.cpan/build/2016082506/Slurm-Sacctmgr-1.1.0-0/t/helpers/fake_sacctmgr_show+echo -i modify resource where cluster=testcluster name=matlab set count=999 'description=new descr' extra_flag=772
[DRYRUN] /home/cpansand/.cpan/build/2016082506/Slurm-Sacctmgr-1.1.0-0/t/helpers/fake_sacctmgr_show+echo -i modify resource where cluster=yottascale name=matlab set count=999
[DRYRUN] /home/cpansand/.cpan/build/2016082506/Slurm-Sacctmgr-1.1.0-0/t/helpers/fake_sacctmgr_show+echo -i modify resource where cluster=testcluster name=matlab set count=999 'description=new descr'
t/662_Slurm-SAResource-foo_me.t ..... ok
t/665_Slurm-SATransaction-foo_me.t .. ok
t/667_Slurm-SATres-foo_me.t ......... ok
[DRYRUN] /home/cpansand/.cpan/build/2016082506/Slurm-Sacctmgr-1.1.0-0/t/helpers/fake_sacctmgr_show+echo -i add user adminlevel=Administrator defaultaccount=abc124 user=xxx
[DRYRUN] /home/cpansand/.cpan/build/2016082506/Slurm-Sacctmgr-1.1.0-0/t/helpers/fake_sacctmgr_show+echo -i delete user where user=aaa
[DRYRUN] /home/cpansand/.cpan/build/2016082506/Slurm-Sacctmgr-1.1.0-0/t/helpers/fake_sacctmgr_show+echo -i delete user where user=bbb
[DRYRUN] /home/cpansand/.cpan/build/2016082506/Slurm-Sacctmgr-1.1.0-0/t/helpers/fake_sacctmgr_show+echo -i delete user where user=ccc
[DRYRUN] /home/cpansand/.cpan/build/2016082506/Slurm-Sacctmgr-1.1.0-0/t/helpers/fake_sacctmgr_show+echo -i delete user where user=ddd
[DRYRUN] /home/cpansand/.cpan/build/2016082506/Slurm-Sacctmgr-1.1.0-0/t/helpers/fake_sacctmgr_show+echo -i modify user where user=aaa set adminlevel=Admin defaultaccount=newacct
[DRYRUN] /home/cpansand/.cpan/build/2016082506/Slurm-Sacctmgr-1.1.0-0/t/helpers/fake_sacctmgr_show+echo -i modify user where user=bbb set adminlevel=Admin defaultaccount=newacct
[DRYRUN] /home/cpansand/.cpan/build/2016082506/Slurm-Sacctmgr-1.1.0-0/t/helpers/fake_sacctmgr_show+echo -i modify user where user=ccc set adminlevel=Admin defaultaccount=newacct
[DRYRUN] /home/cpansand/.cpan/build/2016082506/Slurm-Sacctmgr-1.1.0-0/t/helpers/fake_sacctmgr_show+echo -i modify user where user=ddd set adminlevel=Admin defaultaccount=newacct
[DRYRUN] /home/cpansand/.cpan/build/2016082506/Slurm-Sacctmgr-1.1.0-0/t/helpers/fake_sacctmgr_show+echo -i add user adminlevel=Administrator defaultaccount=abc124 extra_flag=772 user=xxx
[DRYRUN] /home/cpansand/.cpan/build/2016082506/Slurm-Sacctmgr-1.1.0-0/t/helpers/fake_sacctmgr_show+echo -i modify user where user=aaa set extra_flag=772
[DRYRUN] /home/cpansand/.cpan/build/2016082506/Slurm-Sacctmgr-1.1.0-0/t/helpers/fake_sacctmgr_show+echo -i modify user where user=bbb set defaultaccount=newacct extra_flag=772
[DRYRUN] /home/cpansand/.cpan/build/2016082506/Slurm-Sacctmgr-1.1.0-0/t/helpers/fake_sacctmgr_show+echo -i modify user where user=ccc set adminlevel=SuperUser defaultaccount=newacct extra_flag=772
[DRYRUN] /home/cpansand/.cpan/build/2016082506/Slurm-Sacctmgr-1.1.0-0/t/helpers/fake_sacctmgr_show+echo -i modify user where user=ddd set extra_flag=772
[DRYRUN] /home/cpansand/.cpan/build/2016082506/Slurm-Sacctmgr-1.1.0-0/t/helpers/fake_sacctmgr_show+echo -i modify user where user=bbb set defaultaccount=newacct
[DRYRUN] /home/cpansand/.cpan/build/2016082506/Slurm-Sacctmgr-1.1.0-0/t/helpers/fake_sacctmgr_show+echo -i modify user where user=ccc set adminlevel=SuperUser defaultaccount=newacct
[DRYRUN] /home/cpansand/.cpan/build/2016082506/Slurm-Sacctmgr-1.1.0-0/t/helpers/fake_sacctmgr_show+echo -i add user adminlevel=Administrator defaultaccount=abc124 user=xxx
[DRYRUN] /home/cpansand/.cpan/build/2016082506/Slurm-Sacctmgr-1.1.0-0/t/helpers/fake_sacctmgr_show+echo -i delete user where user=aaa
[DRYRUN] /home/cpansand/.cpan/build/2016082506/Slurm-Sacctmgr-1.1.0-0/t/helpers/fake_sacctmgr_show+echo -i delete user where user=bbb
[DRYRUN] /home/cpansand/.cpan/build/2016082506/Slurm-Sacctmgr-1.1.0-0/t/helpers/fake_sacctmgr_show+echo -i delete user where user=ccc
[DRYRUN] /home/cpansand/.cpan/build/2016082506/Slurm-Sacctmgr-1.1.0-0/t/helpers/fake_sacctmgr_show+echo -i delete user where user=ddd
[DRYRUN] /home/cpansand/.cpan/build/2016082506/Slurm-Sacctmgr-1.1.0-0/t/helpers/fake_sacctmgr_show+echo -i modify user where user=aaa set adminlevel=Admin defaultaccount=newacct
[DRYRUN] /home/cpansand/.cpan/build/2016082506/Slurm-Sacctmgr-1.1.0-0/t/helpers/fake_sacctmgr_show+echo -i modify user where user=bbb set adminlevel=Admin defaultaccount=newacct
[DRYRUN] /home/cpansand/.cpan/build/2016082506/Slurm-Sacctmgr-1.1.0-0/t/helpers/fake_sacctmgr_show+echo -i modify user where user=ccc set adminlevel=Admin defaultaccount=newacct
[DRYRUN] /home/cpansand/.cpan/build/2016082506/Slurm-Sacctmgr-1.1.0-0/t/helpers/fake_sacctmgr_show+echo -i modify user where user=ddd set adminlevel=Admin defaultaccount=newacct
[DRYRUN] /home/cpansand/.cpan/build/2016082506/Slurm-Sacctmgr-1.1.0-0/t/helpers/fake_sacctmgr_show+echo -i add user adminlevel=Administrator defaultaccount=abc124 extra_flag=772 user=xxx
[DRYRUN] /home/cpansand/.cpan/build/2016082506/Slurm-Sacctmgr-1.1.0-0/t/helpers/fake_sacctmgr_show+echo -i modify user where user=aaa set extra_flag=772
[DRYRUN] /home/cpansand/.cpan/build/2016082506/Slurm-Sacctmgr-1.1.0-0/t/helpers/fake_sacctmgr_show+echo -i modify user where user=bbb set defaultaccount=newacct extra_flag=772
[DRYRUN] /home/cpansand/.cpan/build/2016082506/Slurm-Sacctmgr-1.1.0-0/t/helpers/fake_sacctmgr_show+echo -i modify user where user=ccc set adminlevel=SuperUser defaultaccount=newacct extra_flag=772
[DRYRUN] /home/cpansand/.cpan/build/2016082506/Slurm-Sacctmgr-1.1.0-0/t/helpers/fake_sacctmgr_show+echo -i modify user where user=ddd set extra_flag=772
[DRYRUN] /home/cpansand/.cpan/build/2016082506/Slurm-Sacctmgr-1.1.0-0/t/helpers/fake_sacctmgr_show+echo -i modify user where user=bbb set defaultaccount=newacct
[DRYRUN] /home/cpansand/.cpan/build/2016082506/Slurm-Sacctmgr-1.1.0-0/t/helpers/fake_sacctmgr_show+echo -i modify user where user=ccc set adminlevel=SuperUser defaultaccount=newacct
t/670_Slurm-SAUser-foo_me.t ......... ok
t/680_Slurm-SAWCKey-foo_me.t ........ ok
[DRYRUN] /home/cpansand/.cpan/build/2016082506/Slurm-Sacctmgr-1.1.0-0/t/helpers/fake_sacctmgr_show+echo -i modify account where cluster=yottascale name=abc124 set rawusage=0
[DRYRUN] /home/cpansand/.cpan/build/2016082506/Slurm-Sacctmgr-1.1.0-0/t/helpers/fake_sacctmgr_show+echo -i modify account where cluster=test-cluster name=test-account set rawusage=0
[DRYRUN] /home/cpansand/.cpan/build/2016082506/Slurm-Sacctmgr-1.1.0-0/t/helpers/fake_sacctmgr_show+echo -i modify account where cluster=yottascale name=abc124 set grpcpumins=13571024
[DRYRUN] /home/cpansand/.cpan/build/2016082506/Slurm-Sacctmgr-1.1.0-0/t/helpers/fake_sacctmgr_show+echo -i modify account where cluster=yottascale name=abc124 set grpcpumins=13571025
[DRYRUN] /home/cpansand/.cpan/build/2016082506/Slurm-Sacctmgr-1.1.0-0/t/helpers/fake_sacctmgr_show+echo -i modify account where cluster=yottascale name=abc124 set grpcpumins=13571026
[DRYRUN] /home/cpansand/.cpan/build/2016082506/Slurm-Sacctmgr-1.1.0-0/t/helpers/fake_sacctmgr_show+echo -i modify account where cluster=yottascale name=abc124 set grpcpumins=13571027
[DRYRUN] /home/cpansand/.cpan/build/2016082506/Slurm-Sacctmgr-1.1.0-0/t/helpers/fake_sacctmgr_show+echo -i modify account where cluster=yottascale name=abc124 set rawusage=0
[DRYRUN] /home/cpansand/.cpan/build/2016082506/Slurm-Sacctmgr-1.1.0-0/t/helpers/fake_sacctmgr_show+echo -i modify account where cluster=test-cluster name=test-account set rawusage=0
[DRYRUN] /home/cpansand/.cpan/build/2016082506/Slurm-Sacctmgr-1.1.0-0/t/helpers/fake_sacctmgr_show+echo -i modify account where cluster=yottascale name=abc124 set grptresmins=cpu=13571024
[DRYRUN] /home/cpansand/.cpan/build/2016082506/Slurm-Sacctmgr-1.1.0-0/t/helpers/fake_sacctmgr_show+echo -i modify account where cluster=yottascale name=abc124 set grptresmins=cpu=13571025
[DRYRUN] /home/cpansand/.cpan/build/2016082506/Slurm-Sacctmgr-1.1.0-0/t/helpers/fake_sacctmgr_show+echo -i modify account where cluster=yottascale name=abc124 set grptresmins=cpu=13571026
[DRYRUN] /home/cpansand/.cpan/build/2016082506/Slurm-Sacctmgr-1.1.0-0/t/helpers/fake_sacctmgr_show+echo -i modify account where cluster=yottascale name=abc124 set grptresmins=cpu=13571027,mem=100000
t/800_Slurm-SAAccount-extra.t ....... ok
All tests successful.
Files=36, Tests=879, 21 wallclock secs ( 0.14 usr 0.11 sys + 3.66 cusr 8.48 csys = 12.39 CPU)
Result: PASS
------------------------------
PREREQUISITES
------------------------------
Prerequisite modules loaded:
requires:
Module Need Have
------------------- ----- --------
base 0 2.24
Carp 0 1.42
Class::Accessor 0 0.34
perl 5.006 5.025004
POSIX 0 1.71
strict 0 1.11
version 0 0.9917
warnings 0 1.37
build_requires:
Module Need Have
------------------- ----- --------
Cwd 0 3.65
File::Basename 0 2.85
Test::More 0 1.302052
configure_requires:
Module Need Have
------------------- ----- --------
ExtUtils::MakeMaker 0 7.24
------------------------------
ENVIRONMENT AND OTHER CONTEXT
------------------------------
Environment variables:
LC_ALL = de_DE.ISO8859-1
PATH = /usr/local/bin:/usr/bin:/bin:/usr/local/sbin:/usr/sbin:/sbin:/home/cpansand/bin/freebsd10.1:/home/cpansand/bin/sh:/home/cpansand/bin:/usr/games:/home/cpansand/devel:/home/eserte/src/srezic-misc/scripts
PERL5LIB =
PERL5OPT =
PERL5_CPANPLUS_IS_RUNNING = 85689
PERL5_CPAN_IS_RUNNING = 85689
PERL5_CPAN_IS_RUNNING_IN_RECURSION = 98730,85689
PERLDOC = -MPod::Perldoc::ToTextOverstrike
PERL_BATCH = yes
PERL_CANARY_STABILITY_NOPROMPT = 1
PERL_CPAN_REPORTER_CONFIG = /var/tmp/cpansmoker-1023/2016082500/cpanreporter_000_config.ini
PERL_EXTUTILS_AUTOINSTALL = --defaultdeps
SHELL = /usr/local/bin/zsh
TERM = screen
TMPDIR = /var/tmp/cpansmoker-1023/2016082500
Perl special variables (and OS-specific diagnostics, for MSWin32):
$^X = /usr/perl5.25.4p/bin/perl5.25.4
$UID/$EUID = 1023 / 1023
$GID = 1023 1023
$EGID = 1023 1023
Perl module toolchain versions installed:
Module Have
------------------- ----------
CPAN 2.14_01
CPAN::Meta 2.150010
Cwd 3.65
ExtUtils::CBuilder 0.280225
ExtUtils::Command 7.24
ExtUtils::Install 2.04
ExtUtils::MakeMaker 7.24
ExtUtils::Manifest 1.70
ExtUtils::ParseXS 3.33
File::Spec 3.65
JSON 2.90
JSON::PP 2.27400_01
Module::Build 0.4220
Module::Signature 0.80
Parse::CPAN::Meta 2.150010
Test::Harness 3.36_01
Test::More 1.302052
YAML 1.18
YAML::Syck 1.29
version 0.9917
--
Summary of my perl5 (revision 5 version 25 subversion 4) configuration:
Platform:
osname=freebsd
osvers=10.1-release
archname=amd64-freebsd
uname='freebsd cvrsnica-freebsd-101.herceg.de 10.1-release freebsd 10.1-release #0 r274401: tue nov 11 21:02:49 utc 2014 root@releng1.nyi.freebsd.org:usrobjusrsrcsysgeneric amd64 '
config_args='-ds -e -Dprefix=/usr/perl5.25.4p -Dusedevel -Dusemallocwrap=no -Dcf_email=srezic@cpan.org -Doptimize=-O2 -pipe'
hint=recommended
useposix=true
d_sigaction=define
useithreads=undef
usemultiplicity=undef
use64bitint=define
use64bitall=define
uselongdouble=undef
usemymalloc=n
bincompat5005=undef
Compiler:
cc='cc'
ccflags ='-DHAS_FPSETMASK -DHAS_FLOATINGPOINT_H -fno-strict-aliasing -pipe -fstack-protector -I/usr/local/include -D_FORTIFY_SOURCE=2'
optimize='-O2 -pipe'
cppflags='-DHAS_FPSETMASK -DHAS_FLOATINGPOINT_H -fno-strict-aliasing -pipe -fstack-protector -I/usr/local/include'
ccversion=''
gccversion='4.2.1 Compatible FreeBSD Clang 3.4.1 (tags/RELEASE_34/dot1-final 208032)'
gccosandvers=''
intsize=4
longsize=8
ptrsize=8
doublesize=8
byteorder=12345678
doublekind=3
d_longlong=define
longlongsize=8
d_longdbl=define
longdblsize=16
longdblkind=3
ivtype='long'
ivsize=8
nvtype='double'
nvsize=8
Off_t='off_t'
lseeksize=8
alignbytes=8
prototype=define
Linker and Libraries:
ld='cc'
ldflags ='-pthread -Wl,-E -fstack-protector -L/usr/local/lib'
libpth=/usr/lib /usr/local/lib /usr/include/clang/3.4.1 /usr/lib
libs=-lpthread -lgdbm -lm -lcrypt -lutil -lc
perllibs=-lpthread -lm -lcrypt -lutil -lc
libc=
so=so
useshrplib=false
libperl=libperl.a
gnulibc_version=''
Dynamic Linking:
dlsrc=dl_dlopen.xs
dlext=so
d_dlsymun=undef
ccdlflags=' '
cccdlflags='-DPIC -fPIC'
lddlflags='-shared -L/usr/local/lib -fstack-protector'
Characteristics of this binary (from libperl):
Compile-time options:
HAS_TIMES
PERLIO_LAYERS
PERL_COPY_ON_WRITE
PERL_DONT_CREATE_GVSV
PERL_HASH_FUNC_ONE_AT_A_TIME_HARD
PERL_OP_PARENT
PERL_PRESERVE_IVUV
PERL_USE_DEVEL
USE_64_BIT_ALL
USE_64_BIT_INT
USE_LARGE_FILES
USE_LOCALE
USE_LOCALE_COLLATE
USE_LOCALE_CTYPE
USE_LOCALE_NUMERIC
USE_LOCALE_TIME
USE_PERLIO
USE_PERL_ATOF
Built under freebsd
Compiled at Aug 21 2016 10:01:28
%ENV:
PERL5LIB=""
PERL5OPT=""
PERL5_CPANPLUS_IS_RUNNING="85689"
PERL5_CPAN_IS_RUNNING="85689"
PERL5_CPAN_IS_RUNNING_IN_RECURSION="98730,85689"
PERLDOC="-MPod::Perldoc::ToTextOverstrike"
PERL_BATCH="yes"
PERL_CANARY_STABILITY_NOPROMPT="1"
PERL_CPAN_REPORTER_CONFIG="/var/tmp/cpansmoker-1023/2016082500/cpanreporter_000_config.ini"
PERL_EXTUTILS_AUTOINSTALL="--defaultdeps"
@INC:
/usr/perl5.25.4p/lib/site_perl/5.25.4/amd64-freebsd
/usr/perl5.25.4p/lib/site_perl/5.25.4
/usr/perl5.25.4p/lib/5.25.4/amd64-freebsd
/usr/perl5.25.4p/lib/5.25.4
.