Back
From: metabase:user:314402c4-2aae-11df-837a-5e0a49663a4f
Subject: PASS Dist-Zilla-Plugin-CheckExtraTests-0.021 v5.18.2 GNU/Linux
Date: 2014-04-26T20:53:15Z
This distribution has been tested as part of the CPAN Testers
project, supporting the Perl programming language. See
http://wiki.cpantesters.org/ for more information or email
questions to cpan-testers-discuss@perl.org
--
Dear David Golden,
This is a computer-generated report for Dist-Zilla-Plugin-CheckExtraTests-0.021
on perl 5.18.2, created by CPAN-Reporter-1.2011.
Thank you for uploading your work to CPAN. Congratulations!
All tests were successful.
Sections of this report:
* Tester comments
* Program output
* Prerequisites
* Environment and other context
------------------------------
TESTER COMMENTS
------------------------------
Additional comments from tester:
none provided
------------------------------
PROGRAM OUTPUT
------------------------------
Output from '/usr/bin/make test':
PERL_DL_NONLAZY=1 /home/eserte/var/ctps/51911linux/install/perl-5.18.2/bin/perl "-MExtUtils::Command::MM" "-MTest::Harness" "-e" "undef *Test::Harness::Switches; test_harness(0, 'blib/lib', 'blib/arch')" t/*.t
#
# Versions for all modules listed in MYMETA.json (including optional ones):
# Version Module
# -------- --------------------------------
# 3.30 App::Prove
# 1.90 Archive::Tar
# 2.140640 CPAN::Meta
# 2.122 CPAN::Meta::Requirements
# 0.24 Capture::Tiny
# 5.015 Dist::Zilla
# 5.015 Dist::Zilla::App
# 5.015 Dist::Zilla::App::Tester
# 5.015 Dist::Zilla::Role::BeforeRelease
# 5.015 Dist::Zilla::Role::TestRunner
# 5.015 Dist::Zilla::Tester
# 6.96 ExtUtils::MakeMaker
# 3.40 File::Spec::Functions
# 1.006 File::pushd
# 1.38 List::Util
# 2.1205 Moose
# 0.15 Moose::Autobox
# 1.07 Params::Util
# 1.008 Path::Iterator::Rule
# 0.052 Path::Tiny
# 0.987 Sub::Exporter
# 1.001003 Test::More
# 0.07 Test::Requires
# 0.21 Try::Tiny
# 0.63 lib
# 0.15 namespace::autoclean
# 1.07 strict
# 0.9908 version
# 1.18 warnings
t/00-report-prereqs.t .. ok
t/checkxt.t ............ ok
t/runxt.t .............. ok
t/withblib.t ........... ok
All tests successful.
Files=4, Tests=16, 13 wallclock secs ( 0.04 usr 0.02 sys + 10.41 cusr 2.96 csys = 13.43 CPU)
Result: PASS
------------------------------
PREREQUISITES
------------------------------
Prerequisite modules loaded:
requires:
Module Need Have
-------------------------------- ----- --------
App::Prove 3.00 3.30
Archive::Tar 0 1.90
Dist::Zilla 4.3 5.015
Dist::Zilla::App 0 5.015
Dist::Zilla::Role::BeforeRelease 0 5.015
Dist::Zilla::Role::TestRunner 0 5.015
File::pushd 0 1.006
Moose 2 2.1205
Moose::Autobox 0 0.15
namespace::autoclean 0.09 0.15
Path::Iterator::Rule 0 1.008
Path::Tiny 0.013 0.052
strict 0 1.07
warnings 0 1.18
build_requires:
Module Need Have
-------------------------------- ----- --------
Capture::Tiny 0 0.24
Dist::Zilla::App::Tester 0 5.015
Dist::Zilla::Tester 0 5.015
ExtUtils::MakeMaker 0 6.96
File::Spec::Functions 0 3.40
lib 0 0.63
List::Util 0 1.38
Params::Util 0 1.07
Sub::Exporter 0 0.987
Test::More 0.88 1.001003
Test::Requires 0 0.07
Try::Tiny 0 0.21
version 0 0.9908
configure_requires:
Module Need Have
-------------------------------- ----- --------
ExtUtils::MakeMaker 6.17 6.96
------------------------------
ENVIRONMENT AND OTHER CONTEXT
------------------------------
Environment variables:
DBIC_NO_WARN_BAD_PERL = 1
LANG = C
PATH = /usr/local/bin:/usr/bin:/bin:/usr/local/sbin:/usr/sbin:/sbin:/home/eserte/bin/linux-gnu:/home/eserte/bin/sh:/home/eserte/bin:/usr/games:/home/eserte/devel:/home/eserte/src/cpan-testers-parallelsmoker/utils/synced
PERL5LIB =
PERL5OPT =
PERL5_CPANPLUS_IS_RUNNING = 14892
PERL5_CPAN_IS_RUNNING = 14892
PERL5_CPAN_IS_RUNNING_IN_RECURSION = 26405,14892
PERLDOC = -MPod::Perldoc::ToTextOverstrike
PERL_BATCH = yes
PERL_CPAN_REPORTER_CONFIG = /var/tmp/cpansmoker-1001/T5dKkDEy6U_config.ini
PERL_CPAN_REPORTER_DIR = /home/eserte/var/ctps/51911linux/config/perl-5.18.2/cpanreporter
PERL_EXTUTILS_AUTOINSTALL = --defaultdeps
PERL_HTML_DISPLAY_CLASS = HTML::Display::Mozilla
PERL_PARALLEL_SMOKER = yes
PERL_TEST_UNPATCHED = 1
PERL_TEST_UNPATCHED = 1
SHELL = /usr/bin/zsh
TERM = xterm
TMPDIR = /var/tmp/cpansmoker-1001
Perl special variables (and OS-specific diagnostics, for MSWin32):
$^X = /home/eserte/var/ctps/51911linux/install/perl-5.18.2/bin/perl
$UID/$EUID = 1001 / 1001
$GID = 1001 109 1001
$EGID = 1001 109 1001
Perl module toolchain versions installed:
Module Have
------------------- --------
CPAN 2.05
CPAN::Meta 2.140640
Cwd 3.40
ExtUtils::CBuilder 0.280216
ExtUtils::Command 1.17
ExtUtils::Install 1.67
ExtUtils::MakeMaker 6.96
ExtUtils::Manifest 1.63
ExtUtils::ParseXS 3.24
File::Spec 3.40
JSON 2.90
JSON::PP 2.27203
Module::Build 0.4205
Module::Signature n/a
Parse::CPAN::Meta 1.4414
Test::Harness 3.30
Test::More 1.001003
YAML 0.90
YAML::Syck 1.27
version 0.9908
--
Summary of my perl5 (revision 5 version 18 subversion 2) configuration:
Platform:
osname=linux, osvers=2.6.32-5-xen-amd64, archname=x86_64-linux
uname='linux eserte 2.6.32-5-xen-amd64 #1 smp mon sep 23 23:29:01 utc 2013 x86_64 gnulinux '
config_args='-ds -e -Uversiononly -Dinstallusrbinperl=n -Dusedevel -Dprefix=/home/eserte/var/ctps/51911linux/install/perl-5.18.2'
hint=recommended, useposix=true, d_sigaction=define
useithreads=undef, usemultiplicity=undef
useperlio=define, d_sfio=undef, uselargefiles=define, usesocks=undef
use64bitint=define, use64bitall=define, uselongdouble=undef
usemymalloc=n, bincompat5005=undef
Compiler:
cc='cc', ccflags ='-fno-strict-aliasing -pipe -fstack-protector -I/usr/local/include -D_LARGEFILE_SOURCE -D_FILE_OFFSET_BITS=64',
optimize='-O2',
cppflags='-fno-strict-aliasing -pipe -fstack-protector -I/usr/local/include'
ccversion='', gccversion='4.4.5', gccosandvers=''
intsize=4, longsize=8, ptrsize=8, doublesize=8, byteorder=12345678
d_longlong=define, longlongsize=8, d_longdbl=define, longdblsize=16
ivtype='long', ivsize=8, nvtype='double', nvsize=8, Off_t='off_t', lseeksize=8
alignbytes=8, prototype=define
Linker and Libraries:
ld='cc', ldflags =' -fstack-protector -L/usr/local/lib'
libpth=/usr/local/lib /lib/../lib /usr/lib/../lib /lib /usr/lib /lib64 /usr/lib64
libs=-lnsl -ldb -ldl -lm -lcrypt -lutil -lc
perllibs=-lnsl -ldl -lm -lcrypt -lutil -lc
libc=/lib/libc-2.11.3.so, so=so, useshrplib=false, libperl=libperl.a
gnulibc_version='2.11.3'
Dynamic Linking:
dlsrc=dl_dlopen.xs, dlext=so, d_dlsymun=undef, ccdlflags='-Wl,-E'
cccdlflags='-fPIC', lddlflags='-shared -O2 -L/usr/local/lib -fstack-protector'
Characteristics of this binary (from libperl):
Compile-time options: HAS_TIMES PERLIO_LAYERS PERL_DONT_CREATE_GVSV
PERL_HASH_FUNC_ONE_AT_A_TIME_HARD PERL_MALLOC_WRAP
PERL_PRESERVE_IVUV PERL_SAWAMPERSAND PERL_USE_DEVEL
USE_64_BIT_ALL USE_64_BIT_INT USE_LARGE_FILES
USE_LOCALE USE_LOCALE_COLLATE USE_LOCALE_CTYPE
USE_LOCALE_NUMERIC USE_PERLIO USE_PERL_ATOF
Built under linux
Compiled at Apr 26 2014 15:10:45
%ENV:
PERL5LIB=""
PERL5OPT=""
PERL5_CPANPLUS_IS_RUNNING="14892"
PERL5_CPAN_IS_RUNNING="14892"
PERL5_CPAN_IS_RUNNING_IN_RECURSION="26405,14892"
PERLDOC="-MPod::Perldoc::ToTextOverstrike"
PERL_BATCH="yes"
PERL_CPAN_REPORTER_CONFIG="/var/tmp/cpansmoker-1001/T5dKkDEy6U_config.ini"
PERL_CPAN_REPORTER_DIR="/home/eserte/var/ctps/51911linux/config/perl-5.18.2/cpanreporter"
PERL_EXTUTILS_AUTOINSTALL="--defaultdeps"
PERL_HTML_DISPLAY_CLASS="HTML::Display::Mozilla"
PERL_PARALLEL_SMOKER="yes"
PERL_TEST_UNPATCHED="1"
@INC:
/home/eserte/var/ctps/51911linux/install/perl-5.18.2/lib/site_perl/5.18.2/x86_64-linux
/home/eserte/var/ctps/51911linux/install/perl-5.18.2/lib/site_perl/5.18.2
/home/eserte/var/ctps/51911linux/install/perl-5.18.2/lib/5.18.2/x86_64-linux
/home/eserte/var/ctps/51911linux/install/perl-5.18.2/lib/5.18.2
.