Mail-DKIM v1.20240923 Perl 5 v5.24.4 x86_64-linux-ld

Status
Pass
From
Slaven Rezić
Dist
Mail-DKIM v1.20240923
Platform
Perl 5 v5.24.4 x86_64-linux-ld
Date
2025-03-07 21:54:47
ID
c9a4368e-fb9e-11ef-aef8-fd206e8775ea
This distribution has been tested as part of the CPAN Testers
project, supporting the Perl programming language.  See
http://wiki.cpantesters.org/ for more information or email
questions to cpan-testers-discuss@perl.org


--
Dear Marc Bradshaw,

This is a computer-generated report for Mail-DKIM-1.20240923
on perl 5.24.4, created by CPAN-Reporter-1.2020.

Thank you for uploading your work to CPAN.  Congratulations!
All tests were successful.

Sections of this report:

    * Tester comments
    * Program output
    * Prerequisites
    * Environment and other context

------------------------------
TESTER COMMENTS
------------------------------

Additional comments from tester:

none provided

------------------------------
PROGRAM OUTPUT
------------------------------

Output from '/usr/bin/make test':

PERL_DL_NONLAZY=1 "/opt/perl-5.24.4D/bin/perl" "-MExtUtils::Command::MM" "-MTest::Harness" "-e" "undef *Test::Harness::Switches; test_harness(0, 'blib/lib', 'blib/arch')" t/*.t
t/adsp.t ........................ ok
Authentication-Results Header parse error: not expecting a string at /home/cpansand/.cpan/build/2025030621/Mail-DKIM-1.20240923-PL4U8v/blib/lib/Mail/DKIM/ARC/Signer.pm line 116.

Authentication-Results: Garbage Authentication-Results Header - SHOULD NOT PARSE at /home/cpansand/.cpan/build/2025030621/Mail-DKIM-1.20240923-PL4U8v/blib/lib/Mail/DKIM/ARC/Signer.pm line 121.
t/arc-draft-sign-tests.t ........ ok
t/arc-draft-validation-tests.t .. ok
t/arc-signer.t .................. ok
t/author-pod-syntax.t ........... skipped: these tests are for testing by the author
t/dev-manifest.t ................ skipped: Author tests not required for installation
t/external_signer.t ............. ok
t/Mail-DKIM.t ................... ok
t/policy.t ...................... ok
t/public_key.t .................. ok
t/signature.t ................... ok
t/signer.t ...................... ok
t/signer_dk.t ................... ok
t/signer_expiration.t ........... ok
t/signer_expiration_set_time.t .. ok
t/signer_policy.t ............... ok
t/simple_canonicalization.t ..... ok
t/textwrap.t .................... ok
did not cache that DNS entry: 2023-05-ed25519-does-not-exist._domainkey.wander.science
>>>
No results: NXDOMAIN
<<<
t/verifier.t .................... ok
t/verifier_strict.t ............. ok
All tests successful.
Files=20, Tests=495,  3 wallclock secs ( 0.08 usr  0.05 sys +  2.04 cusr  0.66 csys =  2.83 CPU)
Result: PASS

------------------------------
PREREQUISITES
------------------------------

Prerequisite modules loaded:

requires:

    Module                                          Need  Have      
    ----------------------------------------------- ----- ----------
    base                                            0     2.23_01   
    Carp                                            0     1.50      
    Crypt::OpenSSL::RSA                             0     0.33      
    Crypt::PK::Ed25519                              0     0.084     
    Digest::SHA                                     0     5.95_01   
    Mail::Address                                   0     2.22      
    Mail::AuthenticationResults::Header::AuthServID 0     2.20231031
    Mail::AuthenticationResults::Parser             0     2.20231031
    MIME::Base64                                    0     3.15      
    Net::DNS                                        0     1.49      
    perl                                            5.006 5.024004  
    strict                                          0     1.11      
    warnings                                        0     1.36      

build_requires:

    Module                                          Need  Have      
    ----------------------------------------------- ----- ----------
    Data::Dumper                                    0     2.160     
    ExtUtils::MakeMaker                             0     7.70      
    lib                                             0     0.63      
    Net::DNS::Resolver                              0     1981      
    Net::DNS::Resolver::Mock                        0     1.20230216
    Test::More                                      0     1.302209  
    Test::RequiresInternet                          0     0.05      
    Test::Simple                                    0     1.302209  
    YAML                                            0     1.31      
    YAML::XS                                        0     v0.902.0  

configure_requires:

    Module                                          Need  Have      
    ----------------------------------------------- ----- ----------
    ExtUtils::MakeMaker                             0     7.70      


------------------------------
ENVIRONMENT AND OTHER CONTEXT
------------------------------

Environment variables:

    LANG = en_US.UTF-8
    PATH = /usr/local/bin:/usr/bin:/bin:/usr/local/sbin:/usr/sbin:/sbin:/home/cpansand/bin/linux-gnu:/home/cpansand/bin/sh:/home/cpansand/bin:/usr/games:/home/cpansand/devel:/home/eserte/src/srezic-misc/scripts
    PERL5LIB = /home/cpansand/.cpan/build/2025030621/Crypt-OpenSSL-RSA-0.33-VB80Yj/blib/arch:/home/cpansand/.cpan/build/2025030621/Crypt-OpenSSL-RSA-0.33-VB80Yj/blib/lib:/home/cpansand/.cpan/build/2025030621/Crypt-OpenSSL-Random-0.17-8Ttpzt/blib/arch:/home/cpansand/.cpan/build/2025030621/Crypt-OpenSSL-Random-0.17-8Ttpzt/blib/lib:/home/cpansand/.cpan/build/2025030621/Perl-Critic-1.156-AX_Qo7/blib/arch:/home/cpansand/.cpan/build/2025030621/Perl-Critic-1.156-AX_Qo7/blib/lib:/home/cpansand/.cpan/build/2025030621/String-Format-1.18-pKjmVs/blib/arch:/home/cpansand/.cpan/build/2025030621/String-Format-1.18-pKjmVs/blib/lib:/home/cpansand/.cpan/build/2025030621/Perl-Tidy-20250214-2pYtdh/blib/arch:/home/cpansand/.cpan/build/2025030621/Perl-Tidy-20250214-2pYtdh/blib/lib:/home/cpansand/.cpan/build/2025030621/PPIx-QuoteLike-0.023-oK0GZV/blib/arch:/home/cpansand/.cpan/build/2025030621/PPIx-QuoteLike-0.023-oK0GZV/blib/lib
    PERL5OPT = 
    PERL5_CPANPLUS_IS_RUNNING = 1048112
    PERL5_CPAN_IS_RUNNING = 1048112
    PERL5_CPAN_IS_RUNNING_IN_RECURSION = 1037812,1048112
    PERLDOC = -MPod::Perldoc::ToTextOverstrike
    PERL_BATCH = yes
    PERL_CANARY_STABILITY_NOPROMPT = 1
    PERL_CPAN_REPORTER_CONFIG = /var/tmp/cpansmoker-1023/2025030621/cpanreporter_000_config.ini
    PERL_EXTUTILS_AUTOINSTALL = --defaultdeps
    SHELL = /usr/bin/zsh
    TERM = screen
    TMPDIR = /var/tmp/cpansmoker-1023/2025030621

Perl special variables (and OS-specific diagnostics, for MSWin32):

    $^X = /opt/perl-5.24.4D/bin/perl
    $UID/$EUID = 1023 / 1023
    $GID = 1023 1023
    $EGID = 1023 1023

Perl module toolchain versions installed:

    Module              Have    
    ------------------- --------
    CPAN                2.11_01 
    CPAN::Meta          2.150010
    Cwd                 3.75    
    ExtUtils::CBuilder  0.280236
    ExtUtils::Command   7.70    
    ExtUtils::Install   2.06    
    ExtUtils::MakeMaker 7.70    
    ExtUtils::Manifest  1.70    
    ExtUtils::ParseXS   3.31    
    File::Spec          3.75    
    JSON                4.10    
    JSON::PP            4.16    
    Module::Build       0.4234  
    Module::Signature   n/a     
    Parse::CPAN::Meta   2.150010
    Test2               1.302209
    Test::Harness       3.36_01 
    Test::More          1.302209
    YAML                1.31    
    YAML::Syck          1.34    
    version             0.9916  


--

Summary of my perl5 (revision 5 version 24 subversion 4) configuration:
   
  Platform:
    osname=linux, osvers=5.14.0-503.22.1.el9_5.x86_64, archname=x86_64-linux-ld
    uname='linux cloud1.bbbike.org 5.14.0-503.22.1.el9_5.x86_64 #1 smp preempt_dynamic wed jan 22 13:59:07 utc 2025 x86_64 x86_64 x86_64 gnulinux '
    config_args='-ds -e -Dprefix=/opt/perl-5.24.4D -Uinstallusrbinperl -Duselongdouble -Dcf_email=srezic@cpan.org'
    hint=recommended, useposix=true, d_sigaction=define
    useithreads=undef, usemultiplicity=undef
    use64bitint=define, use64bitall=define, uselongdouble=define
    usemymalloc=n, bincompat5005=undef
  Compiler:
    cc='cc', ccflags ='-fwrapv -fno-strict-aliasing -pipe -fstack-protector-strong -I/usr/local/include -D_LARGEFILE_SOURCE -D_FILE_OFFSET_BITS=64 -D_FORTIFY_SOURCE=2',
    optimize='-O2',
    cppflags='-fwrapv -fno-strict-aliasing -pipe -fstack-protector-strong -I/usr/local/include'
    ccversion='', gccversion='11.5.0 20240719 (Red Hat 11.5.0-2)', gccosandvers=''
    intsize=4, longsize=8, ptrsize=8, doublesize=8, byteorder=12345678, doublekind=3
    d_longlong=define, longlongsize=8, d_longdbl=define, longdblsize=16, longdblkind=3
    ivtype='long', ivsize=8, nvtype='long double', nvsize=16, Off_t='off_t', lseeksize=8
    alignbytes=16, prototype=define
  Linker and Libraries:
    ld='cc', ldflags =' -fstack-protector-strong -L/usr/local/lib'
    libpth=/usr/local/lib /usr/lib /lib/../lib64 /usr/lib/../lib64 /lib /lib64 /usr/lib64 /usr/local/lib64
    libs=-lpthread -ldb -ldl -lm -lcrypt -lutil -lc
    perllibs=-lpthread -ldl -lm -lcrypt -lutil -lc
    libc=/lib/../lib64/libc.so.6, so=so, useshrplib=false, libperl=libperl.a
    gnulibc_version='2.34'
  Dynamic Linking:
    dlsrc=dl_dlopen.xs, dlext=so, d_dlsymun=undef, ccdlflags='-Wl,-E'
    cccdlflags='-fPIC', lddlflags='-shared -O2 -L/usr/local/lib -fstack-protector-strong'


Characteristics of this binary (from libperl): 
  Compile-time options: HAS_TIMES PERLIO_LAYERS PERL_COPY_ON_WRITE
                        PERL_DONT_CREATE_GVSV
                        PERL_HASH_FUNC_ONE_AT_A_TIME_HARD PERL_MALLOC_WRAP
                        PERL_PRESERVE_IVUV USE_64_BIT_ALL USE_64_BIT_INT
                        USE_LARGE_FILES USE_LOCALE USE_LOCALE_COLLATE
                        USE_LOCALE_CTYPE USE_LOCALE_NUMERIC USE_LOCALE_TIME
                        USE_LONG_DOUBLE USE_PERLIO USE_PERL_ATOF
  Locally applied patches:
	Devel::PatchPerl 2.08
  Built under linux
  Compiled at Feb  1 2025 22:13:56
  %ENV:
    PERL5LIB="/home/cpansand/.cpan/build/2025030621/Crypt-OpenSSL-RSA-0.33-VB80Yj/blib/arch:/home/cpansand/.cpan/build/2025030621/Crypt-OpenSSL-RSA-0.33-VB80Yj/blib/lib:/home/cpansand/.cpan/build/2025030621/Crypt-OpenSSL-Random-0.17-8Ttpzt/blib/arch:/home/cpansand/.cpan/build/2025030621/Crypt-OpenSSL-Random-0.17-8Ttpzt/blib/lib:/home/cpansand/.cpan/build/2025030621/Perl-Critic-1.156-AX_Qo7/blib/arch:/home/cpansand/.cpan/build/2025030621/Perl-Critic-1.156-AX_Qo7/blib/lib:/home/cpansand/.cpan/build/2025030621/String-Format-1.18-pKjmVs/blib/arch:/home/cpansand/.cpan/build/2025030621/String-Format-1.18-pKjmVs/blib/lib:/home/cpansand/.cpan/build/2025030621/Perl-Tidy-20250214-2pYtdh/blib/arch:/home/cpansand/.cpan/build/2025030621/Perl-Tidy-20250214-2pYtdh/blib/lib:/home/cpansand/.cpan/build/2025030621/PPIx-QuoteLike-0.023-oK0GZV/blib/arch:/home/cpansand/.cpan/build/2025030621/PPIx-QuoteLike-0.023-oK0GZV/blib/lib"
    PERL5OPT=""
    PERL5_CPANPLUS_IS_RUNNING="1048112"
    PERL5_CPAN_IS_RUNNING="1048112"
    PERL5_CPAN_IS_RUNNING_IN_RECURSION="1037812,1048112"
    PERLDOC="-MPod::Perldoc::ToTextOverstrike"
    PERL_BATCH="yes"
    PERL_CANARY_STABILITY_NOPROMPT="1"
    PERL_CPAN_REPORTER_CONFIG="/var/tmp/cpansmoker-1023/2025030621/cpanreporter_000_config.ini"
    PERL_EXTUTILS_AUTOINSTALL="--defaultdeps"
  @INC:
    /home/cpansand/.cpan/build/2025030621/Crypt-OpenSSL-RSA-0.33-VB80Yj/blib/arch
    /home/cpansand/.cpan/build/2025030621/Crypt-OpenSSL-RSA-0.33-VB80Yj/blib/lib
    /home/cpansand/.cpan/build/2025030621/Crypt-OpenSSL-Random-0.17-8Ttpzt/blib/arch
    /home/cpansand/.cpan/build/2025030621/Crypt-OpenSSL-Random-0.17-8Ttpzt/blib/lib
    /home/cpansand/.cpan/build/2025030621/Perl-Critic-1.156-AX_Qo7/blib/arch
    /home/cpansand/.cpan/build/2025030621/Perl-Critic-1.156-AX_Qo7/blib/lib
    /home/cpansand/.cpan/build/2025030621/String-Format-1.18-pKjmVs/blib/arch
    /home/cpansand/.cpan/build/2025030621/String-Format-1.18-pKjmVs/blib/lib
    /home/cpansand/.cpan/build/2025030621/Perl-Tidy-20250214-2pYtdh/blib/arch
    /home/cpansand/.cpan/build/2025030621/Perl-Tidy-20250214-2pYtdh/blib/lib
    /home/cpansand/.cpan/build/2025030621/PPIx-QuoteLike-0.023-oK0GZV/blib/arch
    /home/cpansand/.cpan/build/2025030621/PPIx-QuoteLike-0.023-oK0GZV/blib/lib
    /opt/perl-5.24.4D/lib/site_perl/5.24.4/x86_64-linux-ld
    /opt/perl-5.24.4D/lib/site_perl/5.24.4
    /opt/perl-5.24.4D/lib/5.24.4/x86_64-linux-ld
    /opt/perl-5.24.4D/lib/5.24.4
    .