Devel-hdb v0.25 Perl 5 v5.24.0 x86_64-linux

Status
Pass
From
Slaven Rezić (SREZIC)
Dist
Devel-hdb v0.25
Platform
Perl 5 v5.24.0 x86_64-linux
Date
2018-12-23 00:29:19
ID
c9787e6e-0649-11e9-839f-8a9a396446d1
This distribution has been tested as part of the CPAN Testers
project, supporting the Perl programming language.  See
http://wiki.cpantesters.org/ for more information or email
questions to cpan-testers-discuss@perl.org


--
Dear Anthony Brummett,

This is a computer-generated report for Devel-hdb-0.25
on perl 5.24.0, created by CPAN-Reporter-1.2018.

Thank you for uploading your work to CPAN.  Congratulations!
All tests were successful.

Sections of this report:

    * Tester comments
    * Program output
    * Prerequisites
    * Environment and other context

------------------------------
TESTER COMMENTS
------------------------------

Additional comments from tester:

none provided

------------------------------
PROGRAM OUTPUT
------------------------------

Output from '/usr/bin/make test':

PERL_DL_NONLAZY=1 "/opt/perl-5.24.0/bin/perl" "-MExtUtils::Command::MM" "-MTest::Harness" "-e" "undef *Test::Harness::Switches; test_harness(0, 'blib/lib', 'blib/arch')" t/*.t
Debugged program pid 7823 terminated with exit code 0
t/00-use.t ........................ ok
WWW::Form::UrlEncoded::XS 0.25 is require. fallback to PP version at /opt/perl-5.24.0/lib/site_perl/5.24.0/x86_64-linux/WWW/Form/UrlEncoded.pm line 17.
t/01-load-debugger-html.t ......... ok
WWW::Form::UrlEncoded::XS 0.25 is require. fallback to PP version at /opt/perl-5.24.0/lib/site_perl/5.24.0/x86_64-linux/WWW/Form/UrlEncoded.pm line 17.
t/02-stepin-subs-eval.t ........... ok
WWW::Form::UrlEncoded::XS 0.25 is require. fallback to PP version at /opt/perl-5.24.0/lib/site_perl/5.24.0/x86_64-linux/WWW/Form/UrlEncoded.pm line 17.
t/02-stepin.t ..................... ok
WWW::Form::UrlEncoded::XS 0.25 is require. fallback to PP version at /opt/perl-5.24.0/lib/site_perl/5.24.0/x86_64-linux/WWW/Form/UrlEncoded.pm line 17.
t/03-step-over-exception.t ........ ok
WWW::Form::UrlEncoded::XS 0.25 is require. fallback to PP version at /opt/perl-5.24.0/lib/site_perl/5.24.0/x86_64-linux/WWW/Form/UrlEncoded.pm line 17.
t/03-step-over-goto-label.t ....... ok
WWW::Form::UrlEncoded::XS 0.25 is require. fallback to PP version at /opt/perl-5.24.0/lib/site_perl/5.24.0/x86_64-linux/WWW/Form/UrlEncoded.pm line 17.
t/03-step-over-goto-sub.t ......... ok
WWW::Form::UrlEncoded::XS 0.25 is require. fallback to PP version at /opt/perl-5.24.0/lib/site_perl/5.24.0/x86_64-linux/WWW/Form/UrlEncoded.pm line 17.
t/03-step-over.t .................. ok
WWW::Form::UrlEncoded::XS 0.25 is require. fallback to PP version at /opt/perl-5.24.0/lib/site_perl/5.24.0/x86_64-linux/WWW/Form/UrlEncoded.pm line 17.
t/04-breakpoint-in-code.t ......... ok
WWW::Form::UrlEncoded::XS 0.25 is require. fallback to PP version at /opt/perl-5.24.0/lib/site_perl/5.24.0/x86_64-linux/WWW/Form/UrlEncoded.pm line 17.
t/04-breakpoint.t ................. ok
WWW::Form::UrlEncoded::XS 0.25 is require. fallback to PP version at /opt/perl-5.24.0/lib/site_perl/5.24.0/x86_64-linux/WWW/Form/UrlEncoded.pm line 17.
t/04-conditional-breakpoint.t ..... ok
WWW::Form::UrlEncoded::XS 0.25 is require. fallback to PP version at /opt/perl-5.24.0/lib/site_perl/5.24.0/x86_64-linux/WWW/Form/UrlEncoded.pm line 17.
t/04-get-all-breakpoints.t ........ ok
WWW::Form::UrlEncoded::XS 0.25 is require. fallback to PP version at /opt/perl-5.24.0/lib/site_perl/5.24.0/x86_64-linux/WWW/Form/UrlEncoded.pm line 17.
t/04-inactive-brekpoint.t ......... ok
WWW::Form::UrlEncoded::XS 0.25 is require. fallback to PP version at /opt/perl-5.24.0/lib/site_perl/5.24.0/x86_64-linux/WWW/Form/UrlEncoded.pm line 17.
t/05-loaded-files.t ............... ok
WWW::Form::UrlEncoded::XS 0.25 is require. fallback to PP version at /opt/perl-5.24.0/lib/site_perl/5.24.0/x86_64-linux/WWW/Form/UrlEncoded.pm line 17.
t/05-source-file.t ................ ok
WWW::Form::UrlEncoded::XS 0.25 is require. fallback to PP version at /opt/perl-5.24.0/lib/site_perl/5.24.0/x86_64-linux/WWW/Form/UrlEncoded.pm line 17.
t/06-eval-blessed.t ............... ok
WWW::Form::UrlEncoded::XS 0.25 is require. fallback to PP version at /opt/perl-5.24.0/lib/site_perl/5.24.0/x86_64-linux/WWW/Form/UrlEncoded.pm line 17.
t/06-eval.t ....................... ok
WWW::Form::UrlEncoded::XS 0.25 is require. fallback to PP version at /opt/perl-5.24.0/lib/site_perl/5.24.0/x86_64-linux/WWW/Form/UrlEncoded.pm line 17.
t/07-continue.t ................... ok
WWW::Form::UrlEncoded::XS 0.25 is require. fallback to PP version at /opt/perl-5.24.0/lib/site_perl/5.24.0/x86_64-linux/WWW/Form/UrlEncoded.pm line 17.
t/07-step-out.t ................... ok
WWW::Form::UrlEncoded::XS 0.25 is require. fallback to PP version at /opt/perl-5.24.0/lib/site_perl/5.24.0/x86_64-linux/WWW/Form/UrlEncoded.pm line 17.
t/08-action.t ..................... ok
WWW::Form::UrlEncoded::XS 0.25 is require. fallback to PP version at /opt/perl-5.24.0/lib/site_perl/5.24.0/x86_64-linux/WWW/Form/UrlEncoded.pm line 17.
t/08-inactive-action.t ............ ok
WWW::Form::UrlEncoded::XS 0.25 is require. fallback to PP version at /opt/perl-5.24.0/lib/site_perl/5.24.0/x86_64-linux/WWW/Form/UrlEncoded.pm line 17.
t/09-AUTOLOAD.t ................... ok
WWW::Form::UrlEncoded::XS 0.25 is require. fallback to PP version at /opt/perl-5.24.0/lib/site_perl/5.24.0/x86_64-linux/WWW/Form/UrlEncoded.pm line 17.
t/10-function-args.t .............. ok
WWW::Form::UrlEncoded::XS 0.25 is require. fallback to PP version at /opt/perl-5.24.0/lib/site_perl/5.24.0/x86_64-linux/WWW/Form/UrlEncoded.pm line 17.
t/11-getvar.t ..................... ok
WWW::Form::UrlEncoded::XS 0.25 is require. fallback to PP version at /opt/perl-5.24.0/lib/site_perl/5.24.0/x86_64-linux/WWW/Form/UrlEncoded.pm line 17.
t/14-fork.t ....................... ok
WWW::Form::UrlEncoded::XS 0.25 is require. fallback to PP version at /opt/perl-5.24.0/lib/site_perl/5.24.0/x86_64-linux/WWW/Form/UrlEncoded.pm line 17.
t/15-continue-nostop.t ............ ok
WWW::Form::UrlEncoded::XS 0.25 is require. fallback to PP version at /opt/perl-5.24.0/lib/site_perl/5.24.0/x86_64-linux/WWW/Form/UrlEncoded.pm line 17.
t/16-load-breakpoints.t ........... ok
WWW::Form::UrlEncoded::XS 0.25 is require. fallback to PP version at /opt/perl-5.24.0/lib/site_perl/5.24.0/x86_64-linux/WWW/Form/UrlEncoded.pm line 17.
t/16-save-breakpoints.t ........... ok
WWW::Form::UrlEncoded::XS 0.25 is require. fallback to PP version at /opt/perl-5.24.0/lib/site_perl/5.24.0/x86_64-linux/WWW/Form/UrlEncoded.pm line 17.
t/16-startup-load-breakpoints.t ... ok
WWW::Form::UrlEncoded::XS 0.25 is require. fallback to PP version at /opt/perl-5.24.0/lib/site_perl/5.24.0/x86_64-linux/WWW/Form/UrlEncoded.pm line 17.
t/17-exit.t ....................... ok
WWW::Form::UrlEncoded::XS 0.25 is require. fallback to PP version at /opt/perl-5.24.0/lib/site_perl/5.24.0/x86_64-linux/WWW/Form/UrlEncoded.pm line 17.
t/17-package-info.t ............... ok
WWW::Form::UrlEncoded::XS 0.25 is require. fallback to PP version at /opt/perl-5.24.0/lib/site_perl/5.24.0/x86_64-linux/WWW/Form/UrlEncoded.pm line 17.
This is an uncaught exception at /var/tmp/cpansmoker-1023/2018122300/devel-hdb-test-J1GC line 11.
t/18-uncaught-exception.t ......... ok
WWW::Form::UrlEncoded::XS 0.25 is require. fallback to PP version at /opt/perl-5.24.0/lib/site_perl/5.24.0/x86_64-linux/WWW/Form/UrlEncoded.pm line 17, <GEN1> line 1.
t/19-trace-diff-changed-source.t .. ok
WWW::Form::UrlEncoded::XS 0.25 is require. fallback to PP version at /opt/perl-5.24.0/lib/site_perl/5.24.0/x86_64-linux/WWW/Form/UrlEncoded.pm line 17, <GEN1> line 1.
t/19-trace-diff.t ................. ok
WWW::Form::UrlEncoded::XS 0.25 is require. fallback to PP version at /opt/perl-5.24.0/lib/site_perl/5.24.0/x86_64-linux/WWW/Form/UrlEncoded.pm line 17.
t/20-stack.t ...................... ok
WWW::Form::UrlEncoded::XS 0.25 is require. fallback to PP version at /opt/perl-5.24.0/lib/site_perl/5.24.0/x86_64-linux/WWW/Form/UrlEncoded.pm line 17.
t/21-root-route.t ................. ok
WWW::Form::UrlEncoded::XS 0.25 is require. fallback to PP version at /opt/perl-5.24.0/lib/site_perl/5.24.0/x86_64-linux/WWW/Form/UrlEncoded.pm line 17.
t/22-watchpoint.t ................. ok
WWW::Form::UrlEncoded::XS 0.25 is require. fallback to PP version at /opt/perl-5.24.0/lib/site_perl/5.24.0/x86_64-linux/WWW/Form/UrlEncoded.pm line 17.
t/23-next-statement-fragment.t .... ok
t/50-router.t ..................... ok
All tests successful.
Files=39, Tests=406,  9 wallclock secs ( 0.13 usr  0.13 sys +  4.66 cusr  1.01 csys =  5.93 CPU)
Result: PASS

------------------------------
PREREQUISITES
------------------------------

Prerequisite modules loaded:

requires:

    Module                            Need  Have    
    --------------------------------- ----- --------
    base                              0     2.23    
    Carp                              0     1.50    
    Data::Dumper                      0     2.173   
    Data::Transform::ExplicitMetadata 0     0.08    
    Devel::Chitin                     0.15  0.15    
    Digest::MD5                       0     2.55    
    Exception::Class                  0     1.44    
    Exporter                          0     5.72    
    HTTP::Server::PSGI                0     0       
    IO::File                          0     1.39    
    IO::Socket::INET                  0     1.39    
    JSON                              0     2.97001 
    LWP::UserAgent                    0     6.36    
    perl                              5.006 5.024000
    Plack::Request                    0     1.0047  
    Scalar::Util                      0     1.50    
    Socket                            0     2.027   
    strict                            0     1.11    
    Sub::Name                         0     0.21    
    Sys::Hostname                     0     1.20    
    Time::HiRes                       0     1.9757  
    URI::Escape                       0     3.31    
    vars                              0     1.03    
    warnings                          0     1.36    

build_requires:

    Module                            Need  Have    
    --------------------------------- ----- --------
    Devel::Callsite                   0     0.10    
    ExtUtils::MakeMaker               0     7.34    
    Fcntl                             0     1.13    
    File::Basename                    0     2.85    
    File::Temp                        0     0.2308  
    HTML::TreeBuilder                 0     5.07    
    IO::Socket                        0     1.39    
    lib                               0     0.63    
    Test::More                        0     1.302140

configure_requires:

    Module                            Need  Have    
    --------------------------------- ----- --------
    ExtUtils::MakeMaker               0     7.34    
    perl                              5.006 5.024000


------------------------------
ENVIRONMENT AND OTHER CONTEXT
------------------------------

Environment variables:

    LANG = en_US.UTF-8
    PATH = /usr/local/bin:/usr/bin:/bin:/usr/local/sbin:/usr/sbin:/sbin:/home/cpansand/bin/linux-gnu:/home/cpansand/bin/sh:/home/cpansand/bin:/usr/games:/home/cpansand/devel:/home/eserte/src/srezic-misc/scripts
    PERL5LIB = 
    PERL5OPT = 
    PERL5_CPANPLUS_IS_RUNNING = 7682
    PERL5_CPAN_IS_RUNNING = 7682
    PERL5_CPAN_IS_RUNNING_IN_RECURSION = 7630,7682
    PERLDOC = -MPod::Perldoc::ToTextOverstrike
    PERL_BATCH = yes
    PERL_CANARY_STABILITY_NOPROMPT = 1
    PERL_CPAN_REPORTER_CONFIG = /var/tmp/cpansmoker-1023/2018122300/cpanreporter_000_config.ini
    PERL_EXTUTILS_AUTOINSTALL = --defaultdeps
    SHELL = /usr/bin/zsh
    TERM = screen
    TMPDIR = /var/tmp/cpansmoker-1023/2018122300

Perl special variables (and OS-specific diagnostics, for MSWin32):

    $^X = /opt/perl-5.24.0/bin/perl
    $UID/$EUID = 1023 / 1023
    $GID = 1023 1023
    $EGID = 1023 1023

Perl module toolchain versions installed:

    Module              Have    
    ------------------- --------
    CPAN                2.16    
    CPAN::Meta          2.150010
    Cwd                 3.75    
    ExtUtils::CBuilder  0.280230
    ExtUtils::Command   7.34    
    ExtUtils::Install   2.14    
    ExtUtils::MakeMaker 7.34    
    ExtUtils::Manifest  1.70    
    ExtUtils::ParseXS   3.31    
    File::Spec          3.75    
    JSON                2.97001 
    JSON::PP            2.97001 
    Module::Build       0.4224  
    Module::Signature   0.83    
    Parse::CPAN::Meta   2.150010
    Test::Harness       3.42    
    Test::More          1.302140
    YAML                1.26    
    YAML::Syck          1.31    
    version             0.9923  


--

Summary of my perl5 (revision 5 version 24 subversion 0) configuration:
   
  Platform:
    osname=linux, osvers=4.4.0-81-generic, archname=x86_64-linux
    uname='linux ubuntu16 4.4.0-81-generic #104-ubuntu smp wed jun 14 08:17:06 utc 2017 x86_64 x86_64 x86_64 gnulinux '
    config_args='-ds -e -Dprefix=/opt/perl-5.24.0 -Dcf_email=srezic@cpan.org'
    hint=recommended, useposix=true, d_sigaction=define
    useithreads=undef, usemultiplicity=undef
    use64bitint=define, use64bitall=define, uselongdouble=undef
    usemymalloc=n, bincompat5005=undef
  Compiler:
    cc='cc', ccflags ='-fwrapv -fno-strict-aliasing -pipe -fstack-protector-strong -I/usr/local/include -D_LARGEFILE_SOURCE -D_FILE_OFFSET_BITS=64',
    optimize='-O2',
    cppflags='-fwrapv -fno-strict-aliasing -pipe -fstack-protector-strong -I/usr/local/include'
    ccversion='', gccversion='5.4.0 20160609', gccosandvers=''
    intsize=4, longsize=8, ptrsize=8, doublesize=8, byteorder=12345678, doublekind=3
    d_longlong=define, longlongsize=8, d_longdbl=define, longdblsize=16, longdblkind=3
    ivtype='long', ivsize=8, nvtype='double', nvsize=8, Off_t='off_t', lseeksize=8
    alignbytes=8, prototype=define
  Linker and Libraries:
    ld='cc', ldflags =' -fstack-protector-strong -L/usr/local/lib'
    libpth=/usr/local/lib /usr/lib/gcc/x86_64-linux-gnu/5/include-fixed /usr/include/x86_64-linux-gnu /usr/lib /lib/x86_64-linux-gnu /lib/../lib /usr/lib/x86_64-linux-gnu /usr/lib/../lib /lib
    libs=-lpthread -lnsl -lgdbm -ldb -ldl -lm -lcrypt -lutil -lc -lgdbm_compat
    perllibs=-lpthread -lnsl -ldl -lm -lcrypt -lutil -lc
    libc=libc-2.23.so, so=so, useshrplib=false, libperl=libperl.a
    gnulibc_version='2.23'
  Dynamic Linking:
    dlsrc=dl_dlopen.xs, dlext=so, d_dlsymun=undef, ccdlflags='-Wl,-E'
    cccdlflags='-fPIC', lddlflags='-shared -O2 -L/usr/local/lib -fstack-protector-strong'


Characteristics of this binary (from libperl): 
  Compile-time options: HAS_TIMES PERLIO_LAYERS PERL_COPY_ON_WRITE
                        PERL_DONT_CREATE_GVSV
                        PERL_HASH_FUNC_ONE_AT_A_TIME_HARD PERL_MALLOC_WRAP
                        PERL_PRESERVE_IVUV USE_64_BIT_ALL USE_64_BIT_INT
                        USE_LARGE_FILES USE_LOCALE USE_LOCALE_COLLATE
                        USE_LOCALE_CTYPE USE_LOCALE_NUMERIC USE_LOCALE_TIME
                        USE_PERLIO USE_PERL_ATOF
  Built under linux
  Compiled at Jun 21 2017 18:22:24
  %ENV:
    PERL5LIB=""
    PERL5OPT=""
    PERL5_CPANPLUS_IS_RUNNING="7682"
    PERL5_CPAN_IS_RUNNING="7682"
    PERL5_CPAN_IS_RUNNING_IN_RECURSION="7630,7682"
    PERLDOC="-MPod::Perldoc::ToTextOverstrike"
    PERL_BATCH="yes"
    PERL_CANARY_STABILITY_NOPROMPT="1"
    PERL_CPAN_REPORTER_CONFIG="/var/tmp/cpansmoker-1023/2018122300/cpanreporter_000_config.ini"
    PERL_EXTUTILS_AUTOINSTALL="--defaultdeps"
  @INC:
    /opt/perl-5.24.0/lib/site_perl/5.24.0/x86_64-linux
    /opt/perl-5.24.0/lib/site_perl/5.24.0
    /opt/perl-5.24.0/lib/5.24.0/x86_64-linux
    /opt/perl-5.24.0/lib/5.24.0
    .