Data-Domain v1.07 Perl 5 v5.16.3 x86_64-linux
- Status
- Pass
- From
- Slaven Rezić (SREZIC)
- Dist
-
Data-Domain v1.07
- Platform
- Perl 5 v5.16.3 x86_64-linux
- Date
- 2020-04-29 21:24:18
- ID
- c8ccdf28-8a5f-11ea-a0ef-2c341f24ea8f
This distribution has been tested as part of the CPAN Testers
project, supporting the Perl programming language. See
http://wiki.cpantesters.org/ for more information or email
questions to cpan-testers-discuss@perl.org
--
Dear Laurent Dami,
This is a computer-generated report for Data-Domain-1.07
on perl 5.16.3, created by CPAN-Reporter-1.2018.
Thank you for uploading your work to CPAN. Congratulations!
All tests were successful.
Sections of this report:
* Tester comments
* Program output
* Prerequisites
* Environment and other context
------------------------------
TESTER COMMENTS
------------------------------
Additional comments from tester:
none provided
------------------------------
PROGRAM OUTPUT
------------------------------
Output from './Build test':
# Testing Data::Domain 1.07, Perl 5.016003, /opt/perl-5.16.3/bin/perl
t/data-domain.t .... ok
t/import-except.t .. ok
t/invalid-lazy.t ... ok
t/method-calls.t ... ok
t/pod-coverage.t ... ok
t/pod.t ............ ok
All tests successful.
Files=6, Tests=31, 1 wallclock secs ( 0.03 usr 0.05 sys + 0.55 cusr 0.15 csys = 0.78 CPU)
Result: PASS
------------------------------
PREREQUISITES
------------------------------
Prerequisite modules loaded:
requires:
Module Need Have
--------------- -------- --------
autouse 0 1.07
Date::Calc 0 6.4
experimental 0 0.020
List::MoreUtils 0 0.428
perl 5.010001 5.016003
Scalar::Does 0.007 0.203
Scalar::Util 0 1.55
Sub::Exporter 0 0.987
Try::Tiny 0 0.30
build_requires:
Module Need Have
--------------- -------- --------
Test::More 0 1.302172
configure_requires:
Module Need Have
--------------- -------- --------
Module::Build 0.42 0.4231
------------------------------
ENVIRONMENT AND OTHER CONTEXT
------------------------------
Environment variables:
LANG = en_US.UTF-8
PATH = /usr/local/bin:/usr/bin:/bin:/usr/local/sbin:/usr/sbin:/sbin:/home/cpansand/bin/linux-gnu:/home/cpansand/bin/sh:/home/cpansand/bin:/usr/games:/home/cpansand/devel:/home/eserte/src/srezic-misc/scripts
PERL5LIB = /home/cpansand/.cpan/build/2020042920/Scalar-Does-0.203-2/blib/arch:/home/cpansand/.cpan/build/2020042920/Scalar-Does-0.203-2/blib/lib:/home/cpansand/.cpan/build/2020042920/lexical-underscore-0.004-2/blib/arch:/home/cpansand/.cpan/build/2020042920/lexical-underscore-0.004-2/blib/lib
PERL5OPT =
PERL5_CPANPLUS_IS_RUNNING = 2072
PERL5_CPAN_IS_RUNNING = 2072
PERL5_CPAN_IS_RUNNING_IN_RECURSION = 28984,2072
PERLDOC = -MPod::Perldoc::ToTextOverstrike
PERL_BATCH = yes
PERL_CANARY_STABILITY_NOPROMPT = 1
PERL_CPAN_REPORTER_CONFIG = /var/tmp/cpansmoker-1023/2020042920/cpanreporter_001_config.ini
PERL_EXTUTILS_AUTOINSTALL = --defaultdeps
PERL_USE_UNSAFE_INC = 1
SHELL = /usr/bin/zsh
TERM = screen
TMPDIR = /var/tmp/cpansmoker-1023/2020042920
Perl special variables (and OS-specific diagnostics, for MSWin32):
$^X = /opt/perl-5.16.3/bin/perl
$UID/$EUID = 1023 / 1023
$GID = 1023 1023
$EGID = 1023 1023
Perl module toolchain versions installed:
Module Have
------------------- --------
CPAN 2.27
CPAN::Meta 2.150010
Cwd 3.75
ExtUtils::CBuilder 0.280231
ExtUtils::Command 7.38
ExtUtils::Install 2.06
ExtUtils::MakeMaker 7.38
ExtUtils::Manifest 1.70
ExtUtils::ParseXS 3.35
File::Spec 3.75
JSON 4.02
JSON::PP 4.04
Module::Build 0.4231
Module::Signature n/a
Parse::CPAN::Meta 2.150010
Test::Harness 3.42
Test::More 1.302172
YAML 1.29
YAML::Syck 1.31
version 0.9924
--
Summary of my perl5 (revision 5 version 16 subversion 3) configuration:
Platform:
osname=linux, osvers=4.4.0-157-generic, archname=x86_64-linux
uname='linux ubuntu16 4.4.0-157-generic #185-ubuntu smp tue jul 23 09:17:01 utc 2019 x86_64 x86_64 x86_64 gnulinux '
config_args='-ds -e -Dprefix=/opt/perl-5.16.3 -Dcf_email=srezic@cpan.org'
hint=recommended, useposix=true, d_sigaction=define
useithreads=undef, usemultiplicity=undef
useperlio=define, d_sfio=undef, uselargefiles=define, usesocks=undef
use64bitint=define, use64bitall=define, uselongdouble=undef
usemymalloc=n, bincompat5005=undef
Compiler:
cc='cc', ccflags ='-fwrapv -fno-strict-aliasing -pipe -fstack-protector -I/usr/local/include -D_LARGEFILE_SOURCE -D_FILE_OFFSET_BITS=64',
optimize='-O2',
cppflags='-fwrapv -fno-strict-aliasing -pipe -fstack-protector -I/usr/local/include'
ccversion='', gccversion='5.4.0 20160609', gccosandvers=''
intsize=4, longsize=8, ptrsize=8, doublesize=8, byteorder=12345678
d_longlong=define, longlongsize=8, d_longdbl=define, longdblsize=16
ivtype='long', ivsize=8, nvtype='double', nvsize=8, Off_t='off_t', lseeksize=8
alignbytes=8, prototype=define
Linker and Libraries:
ld='cc', ldflags =' -fstack-protector -L/usr/local/lib'
libpth=/usr/local/lib /lib/x86_64-linux-gnu /lib/../lib /usr/lib/x86_64-linux-gnu /usr/lib/../lib /lib /usr/lib
libs=-lnsl -lgdbm -ldb -ldl -lm -lcrypt -lutil -lc -lgdbm_compat
perllibs=-lnsl -ldl -lm -lcrypt -lutil -lc
libc=libc-2.23.so, so=so, useshrplib=false, libperl=libperl.a
gnulibc_version='2.23'
Dynamic Linking:
dlsrc=dl_dlopen.xs, dlext=so, d_dlsymun=undef, ccdlflags='-Wl,-E'
cccdlflags='-fPIC', lddlflags='-shared -O2 -L/usr/local/lib -fstack-protector'
Characteristics of this binary (from libperl):
Compile-time options: HAS_TIMES PERLIO_LAYERS PERL_DONT_CREATE_GVSV
PERL_MALLOC_WRAP PERL_PRESERVE_IVUV USE_64_BIT_ALL
USE_64_BIT_INT USE_LARGE_FILES USE_LOCALE
USE_LOCALE_COLLATE USE_LOCALE_CTYPE
USE_LOCALE_NUMERIC USE_PERLIO USE_PERL_ATOF
Locally applied patches:
Devel::PatchPerl 1.64
Built under linux
Compiled at Aug 6 2019 21:04:50
%ENV:
PERL5LIB="/home/cpansand/.cpan/build/2020042920/Scalar-Does-0.203-2/blib/arch:/home/cpansand/.cpan/build/2020042920/Scalar-Does-0.203-2/blib/lib:/home/cpansand/.cpan/build/2020042920/lexical-underscore-0.004-2/blib/arch:/home/cpansand/.cpan/build/2020042920/lexical-underscore-0.004-2/blib/lib"
PERL5OPT=""
PERL5_CPANPLUS_IS_RUNNING="2072"
PERL5_CPAN_IS_RUNNING="2072"
PERL5_CPAN_IS_RUNNING_IN_RECURSION="28984,2072"
PERLDOC="-MPod::Perldoc::ToTextOverstrike"
PERL_BATCH="yes"
PERL_CANARY_STABILITY_NOPROMPT="1"
PERL_CPAN_REPORTER_CONFIG="/var/tmp/cpansmoker-1023/2020042920/cpanreporter_001_config.ini"
PERL_EXTUTILS_AUTOINSTALL="--defaultdeps"
PERL_USE_UNSAFE_INC="1"
@INC:
/home/cpansand/.cpan/build/2020042920/Scalar-Does-0.203-2/blib/arch
/home/cpansand/.cpan/build/2020042920/Scalar-Does-0.203-2/blib/lib
/home/cpansand/.cpan/build/2020042920/lexical-underscore-0.004-2/blib/arch
/home/cpansand/.cpan/build/2020042920/lexical-underscore-0.004-2/blib/lib
/opt/perl-5.16.3/lib/site_perl/5.16.3/x86_64-linux
/opt/perl-5.16.3/lib/site_perl/5.16.3
/opt/perl-5.16.3/lib/5.16.3/x86_64-linux
/opt/perl-5.16.3/lib/5.16.3
.